Back to Multiple platform build/check report for BioC 3.17:   simplified   long
AB[C]DEFGHIJKLMNOPQRSTUVWXYZ

This page was generated on 2023-03-29 11:03:57 -0400 (Wed, 29 Mar 2023).

HostnameOSArch (*)R versionInstalled pkgs
nebbiolo1Linux (Ubuntu 22.04.1 LTS)x86_64R Under development (unstable) (2023-03-16 r83996) -- "Unsuffered Consequences" 4547
palomino3Windows Server 2022 Datacenterx64R Under development (unstable) (2023-03-15 r83984 ucrt) -- "Unsuffered Consequences" 4308
merida1macOS 10.14.6 Mojavex86_64R Under development (unstable) (2023-03-16 r83985) -- "Unsuffered Consequences" 4301
Click on any hostname to see more info about the system (e.g. compilers)      (*) as reported by 'uname -p', except on Windows and Mac OS X

All results for package CAMERA


To the developers/maintainers of the CAMERA package:
- Please allow up to 24 hours (and sometimes 48 hours) for your latest push to git@git.bioconductor.org:packages/CAMERA.git to
reflect on this report. See How and When does the builder pull? When will my changes propagate? for more information.
- Make sure to use the following settings in order to reproduce any error or warning you see on this page.

raw results

Package 258/2195HostnameOS / ArchINSTALLBUILDCHECKBUILD BIN
CAMERA 1.55.0  (landing page)
Steffen Neumann
Snapshot Date: 2023-03-28 14:00:22 -0400 (Tue, 28 Mar 2023)
git_url: https://git.bioconductor.org/packages/CAMERA
git_branch: devel
git_last_commit: de7b17f
git_last_commit_date: 2022-11-01 11:04:20 -0400 (Tue, 01 Nov 2022)
nebbiolo1Linux (Ubuntu 22.04.1 LTS) / x86_64  OK    OK    OK  UNNEEDED, same version is already published
palomino3Windows Server 2022 Datacenter / x64  OK    OK    OK    OK  UNNEEDED, same version is already published
merida1macOS 10.14.6 Mojave / x86_64  OK    OK    OK    OK  UNNEEDED, same version is already published

Results for Bioconductor software packages that depend directly on package CAMERA

QUICK STATSOS / ArchINSTALLBUILDCHECKBUILD BIN
nebbiolo1Linux (Ubuntu 22.04.1 LTS) / x86_64
005
005
0023
palomino3Windows Server 2022 Datacenter / x64
005
005
0023
005
merida1macOS 10.14.6 Mojave / x86_64
005
005
0023
005
Package 1/5HostnameOS / ArchINSTALLBUILDCHECKBUILD BIN
flagme 1.55.1  (landing page)
Mark Robinson , Riccardo Romoli
git_last_commit: 17a0e5b
git_last_commit_date: 2023-02-07 08:30:30 -0400
nebbiolo1Linux (Ubuntu 22.04.1 LTS) / x86_64  OK    OK    WARNINGS  UNNEEDED, same version is already published
palomino3Windows Server 2022 Datacenter / x64  OK    OK    WARNINGS    OK  UNNEEDED, same version is already published
merida1macOS 10.14.6 Mojave / x86_64  OK    OK    WARNINGS    OK  UNNEEDED, same version is already published
Package 2/5HostnameOS / ArchINSTALLBUILDCHECKBUILD BIN
IPO 1.25.0  (landing page)
Thomas Lieb
git_last_commit: a0bb37f
git_last_commit_date: 2022-11-01 11:14:13 -0400
nebbiolo1Linux (Ubuntu 22.04.1 LTS) / x86_64  OK    OK    OK  UNNEEDED, same version is already published
palomino3Windows Server 2022 Datacenter / x64  OK    OK    OK    OK  UNNEEDED, same version is already published
merida1macOS 10.14.6 Mojave / x86_64  OK    OK    OK    OK  UNNEEDED, same version is already published
Package 3/5HostnameOS / ArchINSTALLBUILDCHECKBUILD BIN
LOBSTAHS 1.25.0  (landing page)
Henry Holm
git_last_commit: 3f103ef
git_last_commit_date: 2022-11-01 11:14:02 -0400
nebbiolo1Linux (Ubuntu 22.04.1 LTS) / x86_64  OK    OK    WARNINGS  UNNEEDED, same version is already published
palomino3Windows Server 2022 Datacenter / x64  OK    OK    WARNINGS    OK  UNNEEDED, same version is already published
merida1macOS 10.14.6 Mojave / x86_64  OK    OK    WARNINGS    OK  UNNEEDED, same version is already published
Package 4/5HostnameOS / ArchINSTALLBUILDCHECKBUILD BIN
MAIT 1.33.0  (landing page)
Pol Sola-Santos
git_last_commit: c0cced1
git_last_commit_date: 2022-11-01 11:10:32 -0400
nebbiolo1Linux (Ubuntu 22.04.1 LTS) / x86_64  OK    OK    OK  UNNEEDED, same version is already published
palomino3Windows Server 2022 Datacenter / x64  OK    OK    OK    OK  UNNEEDED, same version is already published
merida1macOS 10.14.6 Mojave / x86_64  OK    OK    OK    OK  UNNEEDED, same version is already published
Package 5/5HostnameOS / ArchINSTALLBUILDCHECKBUILD BIN
metaMS 1.35.0  (landing page)
Yann Guitton
git_last_commit: 444ec9c
git_last_commit_date: 2022-11-01 11:09:32 -0400
nebbiolo1Linux (Ubuntu 22.04.1 LTS) / x86_64  OK    OK    OK  UNNEEDED, same version is already published
palomino3Windows Server 2022 Datacenter / x64  OK    OK    OK    OK  UNNEEDED, same version is already published
merida1macOS 10.14.6 Mojave / x86_64  OK    OK    OK    OK  UNNEEDED, same version is already published