Back to Multiple platform build/check report for BioC 3.17:   simplified   long
ABCD[E]FGHIJKLMNOPQRSTUVWXYZ

This page was generated on 2023-03-24 11:05:13 -0400 (Fri, 24 Mar 2023).

HostnameOSArch (*)R versionInstalled pkgs
nebbiolo1Linux (Ubuntu 22.04.1 LTS)x86_64R Under development (unstable) (2023-03-16 r83996) -- "Unsuffered Consequences" 4546
palomino3Windows Server 2022 Datacenterx64R Under development (unstable) (2023-03-15 r83984 ucrt) -- "Unsuffered Consequences" 4307
merida1macOS 10.14.6 Mojavex86_64R Under development (unstable) (2023-03-16 r83985) -- "Unsuffered Consequences" 4299
Click on any hostname to see more info about the system (e.g. compilers)      (*) as reported by 'uname -p', except on Windows and Mac OS X

BUILD results for epialleleR on nebbiolo1


To the developers/maintainers of the epialleleR package:
- Please allow up to 24 hours (and sometimes 48 hours) for your latest push to git@git.bioconductor.org:packages/epialleleR.git to
reflect on this report. See How and When does the builder pull? When will my changes propagate? for more information.
- Make sure to use the following settings in order to reproduce any error or warning you see on this page.

raw results

Package 624/2195HostnameOS / ArchINSTALLBUILDCHECKBUILD BIN
epialleleR 1.7.1  (landing page)
Oleksii Nikolaienko
Snapshot Date: 2023-03-23 14:00:15 -0400 (Thu, 23 Mar 2023)
git_url: https://git.bioconductor.org/packages/epialleleR
git_branch: devel
git_last_commit: 24dc011
git_last_commit_date: 2023-02-19 09:54:38 -0400 (Sun, 19 Feb 2023)
nebbiolo1Linux (Ubuntu 22.04.1 LTS) / x86_64  OK    OK    WARNINGS  UNNEEDED, same version is already published
palomino3Windows Server 2022 Datacenter / x64  OK    OK    OK    OK  UNNEEDED, same version is already published
merida1macOS 10.14.6 Mojave / x86_64  OK    OK    WARNINGS    OK  UNNEEDED, same version is already published

Summary

Package: epialleleR
Version: 1.7.1
Command: /home/biocbuild/bbs-3.17-bioc/R/bin/R CMD build --keep-empty-dirs --no-resave-data epialleleR
StartedAt: 2023-03-23 16:28:33 -0400 (Thu, 23 Mar 2023)
EndedAt: 2023-03-23 16:30:21 -0400 (Thu, 23 Mar 2023)
EllapsedTime: 107.9 seconds
RetCode: 0
Status:   OK  
PackageFile: epialleleR_1.7.1.tar.gz
PackageFileSize: 1.89 MiB

Command output

##############################################################################
##############################################################################
###
### Running command:
###
###   /home/biocbuild/bbs-3.17-bioc/R/bin/R CMD build --keep-empty-dirs --no-resave-data epialleleR
###
##############################################################################
##############################################################################


* checking for file ‘epialleleR/DESCRIPTION’ ... OK
* preparing ‘epialleleR’:
* checking DESCRIPTION meta-information ... OK
* cleaning src
* installing the package to build vignettes
* creating vignettes ... OK
* cleaning src
* checking for LF line-endings in source and make files and shell scripts
* checking for empty or unneeded directories
* building ‘epialleleR_1.7.1.tar.gz’