Back to Multiple platform build/check report for BioC 3.17:   simplified   long
ABCD[E]FGHIJKLMNOPQRSTUVWXYZ

This page was generated on 2023-03-21 11:04:28 -0400 (Tue, 21 Mar 2023).

HostnameOSArch (*)R versionInstalled pkgs
nebbiolo1Linux (Ubuntu 22.04.1 LTS)x86_64R Under development (unstable) (2023-03-16 r83996) -- "Unsuffered Consequences" 4305
palomino3Windows Server 2022 Datacenterx64R Under development (unstable) (2023-03-15 r83984 ucrt) -- "Unsuffered Consequences" 4287
merida1macOS 10.14.6 Mojavex86_64R Under development (unstable) (2023-03-16 r83985) -- "Unsuffered Consequences" 4286
Click on any hostname to see more info about the system (e.g. compilers)      (*) as reported by 'uname -p', except on Windows and Mac OS X

All results for package epivizrData


To the developers/maintainers of the epivizrData package:
- Please allow up to 24 hours (and sometimes 48 hours) for your latest push to git@git.bioconductor.org:packages/epivizrData.git to
reflect on this report. See How and When does the builder pull? When will my changes propagate? for more information.
- Make sure to use the following settings in order to reproduce any error or warning you see on this page.

raw results

Package 638/2189HostnameOS / ArchINSTALLBUILDCHECKBUILD BIN
epivizrData 1.27.0  (landing page)
Hector Corrada Bravo
Snapshot Date: 2023-03-20 14:00:22 -0400 (Mon, 20 Mar 2023)
git_url: https://git.bioconductor.org/packages/epivizrData
git_branch: master
git_last_commit: 4065423
git_last_commit_date: 2022-11-01 11:13:39 -0400 (Tue, 01 Nov 2022)
nebbiolo1Linux (Ubuntu 22.04.1 LTS) / x86_64  OK    OK    OK  UNNEEDED, same version is already published
palomino3Windows Server 2022 Datacenter / x64  OK    OK    OK    OK  UNNEEDED, same version is already published
merida1macOS 10.14.6 Mojave / x86_64  OK    OK    OK    OK  UNNEEDED, same version is already published

Results for Bioconductor software packages that depend directly on package epivizrData

QUICK STATSOS / ArchINSTALLBUILDCHECKBUILD BIN
nebbiolo1Linux (Ubuntu 22.04.1 LTS) / x86_64
004
013
0003
palomino3Windows Server 2022 Datacenter / x64
004
013
0003
003
merida1macOS 10.14.6 Mojave / x86_64
004
013
0003
003
Package 1/4HostnameOS / ArchINSTALLBUILDCHECKBUILD BIN
epivizr 2.29.0  (landing page)
Hector Corrada Bravo
git_last_commit: a0e3a4b
git_last_commit_date: 2022-11-01 11:08:48 -0400
nebbiolo1Linux (Ubuntu 22.04.1 LTS) / x86_64  OK    OK    OK  UNNEEDED, same version is already published
palomino3Windows Server 2022 Datacenter / x64  OK    OK    OK    OK  UNNEEDED, same version is already published
merida1macOS 10.14.6 Mojave / x86_64  OK    OK    OK    OK  UNNEEDED, same version is already published
Package 2/4HostnameOS / ArchINSTALLBUILDCHECKBUILD BIN
epivizrChart 1.21.0  (landing page)
Hector Corrada Bravo
git_last_commit: f5a862c
git_last_commit_date: 2022-11-01 11:16:00 -0400
nebbiolo1Linux (Ubuntu 22.04.1 LTS) / x86_64  OK    OK    OK  UNNEEDED, same version is already published
palomino3Windows Server 2022 Datacenter / x64  OK    OK    OK    OK  UNNEEDED, same version is already published
merida1macOS 10.14.6 Mojave / x86_64  OK    OK    OK    OK  UNNEEDED, same version is already published
Package 3/4HostnameOS / ArchINSTALLBUILDCHECKBUILD BIN
metavizr 1.23.0  (landing page)
Hector Corrada Bravo
git_last_commit: 335f07f
git_last_commit_date: 2022-11-01 11:15:37 -0400
nebbiolo1Linux (Ubuntu 22.04.1 LTS) / x86_64  OK    ERROR  skipped
palomino3Windows Server 2022 Datacenter / x64  OK    ERROR  skippedskipped
merida1macOS 10.14.6 Mojave / x86_64  OK    ERROR  skippedskipped
Package 4/4HostnameOS / ArchINSTALLBUILDCHECKBUILD BIN
scTreeViz 1.5.0  (landing page)
Jayaram Kancherla
git_last_commit: 502260a
git_last_commit_date: 2022-11-01 11:25:46 -0400
nebbiolo1Linux (Ubuntu 22.04.1 LTS) / x86_64  OK    OK    OK  UNNEEDED, same version is already published
palomino3Windows Server 2022 Datacenter / x64  OK    OK    OK    OK  UNNEEDED, same version is already published
merida1macOS 10.14.6 Mojave / x86_64  OK    OK    OK    OK  UNNEEDED, same version is already published