Back to Multiple platform build/check report for BioC 3.17:   simplified   long
ABCDEF[G]HIJKLMNOPQRSTUVWXYZ

This page was generated on 2023-03-31 11:02:19 -0400 (Fri, 31 Mar 2023).

HostnameOSArch (*)R versionInstalled pkgs
nebbiolo1Linux (Ubuntu 22.04.1 LTS)x86_64R Under development (unstable) (2023-03-16 r83996) -- "Unsuffered Consequences" 4547
palomino3Windows Server 2022 Datacenterx64R Under development (unstable) (2023-03-15 r83984 ucrt) -- "Unsuffered Consequences" 4308
Click on any hostname to see more info about the system (e.g. compilers)      (*) as reported by 'uname -p', except on Windows and Mac OS X

All results for package GenomicFeatures


To the developers/maintainers of the GenomicFeatures package:
- Allow up to 24 hours (and sometimes 48 hours) for your latest push to git@git.bioconductor.org:packages/GenomicFeatures.git to reflect on this report. See Troubleshooting Build Report for more information.

- Use the following Renviron settings to reproduce errors and warnings.

Note: If "R CMD check" recently failed on the Linux builder over a missing dependency, add the missing dependency to "Suggests" in your DESCRIPTION file. See the Renviron.bioc for details.

raw results

Package 792/2195HostnameOS / ArchINSTALLBUILDCHECKBUILD BIN
GenomicFeatures 1.51.4  (landing page)
H. Pagès
Snapshot Date: 2023-03-30 14:00:16 -0400 (Thu, 30 Mar 2023)
git_url: https://git.bioconductor.org/packages/GenomicFeatures
git_branch: devel
git_last_commit: c864561
git_last_commit_date: 2022-12-14 21:06:06 -0400 (Wed, 14 Dec 2022)
nebbiolo1Linux (Ubuntu 22.04.1 LTS) / x86_64  OK    OK    WARNINGS  UNNEEDED, same version is already published
palomino3Windows Server 2022 Datacenter / x64  OK    OK    WARNINGS    OK  UNNEEDED, same version is already published

Results for Bioconductor software packages that depend directly on package GenomicFeatures

QUICK STATSOS / ArchINSTALLBUILDCHECKBUILD BIN
nebbiolo1Linux (Ubuntu 22.04.1 LTS) / x86_64
02132
010124
0162781
palomino3Windows Server 2022 Datacenter / x64
03129
013119
022988
00119
Package 1/134HostnameOS / ArchINSTALLBUILDCHECKBUILD BIN
AllelicImbalance 1.37.0  (landing page)
Jesper R Gadin
git_last_commit: 330d8ed
git_last_commit_date: 2022-11-01 11:08:46 -0400
nebbiolo1Linux (Ubuntu 22.04.1 LTS) / x86_64  OK    OK    OK  UNNEEDED, same version is already published
palomino3Windows Server 2022 Datacenter / x64  OK    OK    OK    OK  UNNEEDED, same version is already published
Package 2/134HostnameOS / ArchINSTALLBUILDCHECKBUILD BIN
alpine 1.25.0  (landing page)
Michael Love
git_last_commit: 609ae1e
git_last_commit_date: 2022-11-01 11:14:18 -0400
nebbiolo1Linux (Ubuntu 22.04.1 LTS) / x86_64  OK    OK    OK  UNNEEDED, same version is already published
palomino3Windows Server 2022 Datacenter / x64  OK    OK    OK    OK  UNNEEDED, same version is already published
Package 3/134HostnameOS / ArchINSTALLBUILDCHECKBUILD BIN
AnnotationHubData 1.29.1  (landing page)
Bioconductor Package Maintainer
git_last_commit: 3214594
git_last_commit_date: 2022-12-13 10:09:22 -0400
nebbiolo1Linux (Ubuntu 22.04.1 LTS) / x86_64  OK    OK    WARNINGS  UNNEEDED, same version is already published
palomino3Windows Server 2022 Datacenter / x64  OK    OK    WARNINGS    OK  UNNEEDED, same version is already published
Package 4/134HostnameOS / ArchINSTALLBUILDCHECKBUILD BIN
annotatr 1.25.0  (landing page)
Raymond G. Cavalcante
git_last_commit: b9eb281
git_last_commit_date: 2022-11-01 11:14:43 -0400
nebbiolo1Linux (Ubuntu 22.04.1 LTS) / x86_64  OK    OK    OK  UNNEEDED, same version is already published
palomino3Windows Server 2022 Datacenter / x64  OK    OK    OK    OK  UNNEEDED, same version is already published
Package 5/134HostnameOS / ArchINSTALLBUILDCHECKBUILD BIN
APAlyzer 1.13.0  (landing page)
Ruijia Wang
git_last_commit: 7ca6719
git_last_commit_date: 2022-11-01 11:20:19 -0400
nebbiolo1Linux (Ubuntu 22.04.1 LTS) / x86_64  OK    OK    WARNINGS  UNNEEDED, same version is already published
palomino3Windows Server 2022 Datacenter / x64  OK    OK    WARNINGS    OK  UNNEEDED, same version is already published
Package 6/134HostnameOS / ArchINSTALLBUILDCHECKBUILD BIN
appreci8R 1.17.0  (landing page)
Sarah Sandmann
git_last_commit: dd2c123
git_last_commit_date: 2022-11-01 11:18:06 -0400
nebbiolo1Linux (Ubuntu 22.04.1 LTS) / x86_64  OK    OK    OK  UNNEEDED, same version is already published
palomino3Windows Server 2022 Datacenter / x64  OK    OK    OK    OK  UNNEEDED, same version is already published
Package 7/134HostnameOS / ArchINSTALLBUILDCHECKBUILD BIN
ASpediaFI 1.13.1  (landing page)
Doyeong Yu
git_last_commit: 1168c9e
git_last_commit_date: 2023-01-20 10:45:20 -0400
nebbiolo1Linux (Ubuntu 22.04.1 LTS) / x86_64  ERROR    ERROR  skipped
palomino3Windows Server 2022 Datacenter / x64  ERROR    ERROR  skippedskipped
Package 8/134HostnameOS / ArchINSTALLBUILDCHECKBUILD BIN
ASpli 2.9.0  (landing page)
Estefania Mancini
git_last_commit: 22dbaf4
git_last_commit_date: 2022-11-01 11:14:10 -0400
nebbiolo1Linux (Ubuntu 22.04.1 LTS) / x86_64  OK    OK    ERROR  
palomino3Windows Server 2022 Datacenter / x64  OK    OK    OK    OK  UNNEEDED, same version is already published
Package 9/134HostnameOS / ArchINSTALLBUILDCHECKBUILD BIN
ATACCoGAPS 1.1.0  (landing page)
Rossin Erbe
git_last_commit: 234877c
git_last_commit_date: 2022-11-01 11:27:16 -0400
nebbiolo1Linux (Ubuntu 22.04.1 LTS) / x86_64  OK    OK    OK  UNNEEDED, same version is already published
palomino3Windows Server 2022 Datacenter / x64  OK    OK    OK    OK  UNNEEDED, same version is already published
Package 10/134HostnameOS / ArchINSTALLBUILDCHECKBUILD BIN
bambu 3.1.6  (landing page)
Ying Chen
git_last_commit: 5c758f5
git_last_commit_date: 2023-02-14 20:54:38 -0400
nebbiolo1Linux (Ubuntu 22.04.1 LTS) / x86_64  OK    OK    OK  UNNEEDED, same version is already published
palomino3Windows Server 2022 Datacenter / x64  OK    OK    OK    OK  UNNEEDED, same version is already published
Package 11/134HostnameOS / ArchINSTALLBUILDCHECKBUILD BIN
BgeeCall 1.15.0  (landing page)
Julien Wollbrett
git_last_commit: 20b38ca
git_last_commit_date: 2022-11-01 11:21:10 -0400
nebbiolo1Linux (Ubuntu 22.04.1 LTS) / x86_64  OK    OK    OK  UNNEEDED, same version is already published
palomino3Windows Server 2022 Datacenter / x64  OK    OK    OK    OK  UNNEEDED, same version is already published
Package 12/134HostnameOS / ArchINSTALLBUILDCHECKBUILD BIN
BiocOncoTK 1.19.3  (landing page)
VJ Carey
git_last_commit: 710b811
git_last_commit_date: 2023-03-18 05:54:03 -0400
nebbiolo1Linux (Ubuntu 22.04.1 LTS) / x86_64  OK    OK    WARNINGS  UNNEEDED, same version is already published
palomino3Windows Server 2022 Datacenter / x64  OK    OK    WARNINGS    OK  UNNEEDED, same version is already published
Package 13/134HostnameOS / ArchINSTALLBUILDCHECKBUILD BIN
biovizBase 1.47.0  (landing page)
Michael Lawrence
git_last_commit: 73f68c1
git_last_commit_date: 2022-11-01 11:06:19 -0400
nebbiolo1Linux (Ubuntu 22.04.1 LTS) / x86_64  OK    OK    WARNINGS  UNNEEDED, same version is already published
palomino3Windows Server 2022 Datacenter / x64  OK    OK    WARNINGS    OK  UNNEEDED, same version is already published
Package 14/134HostnameOS / ArchINSTALLBUILDCHECKBUILD BIN
bumphunter 1.41.0  (landing page)
Tamilselvi Guharaj
git_last_commit: aabc3c8
git_last_commit_date: 2022-11-01 11:07:40 -0400
nebbiolo1Linux (Ubuntu 22.04.1 LTS) / x86_64  OK    OK    OK  UNNEEDED, same version is already published
palomino3Windows Server 2022 Datacenter / x64  OK    OK    OK    OK  UNNEEDED, same version is already published
Package 15/134HostnameOS / ArchINSTALLBUILDCHECKBUILD BIN
BUSpaRse 1.13.0  (landing page)
Lambda Moses
git_last_commit: 60755e4
git_last_commit_date: 2022-11-01 11:20:24 -0400
nebbiolo1Linux (Ubuntu 22.04.1 LTS) / x86_64  OK    OK    OK  UNNEEDED, same version is already published
palomino3Windows Server 2022 Datacenter / x64  OK    OK    OK    OK  UNNEEDED, same version is already published
Package 16/134HostnameOS / ArchINSTALLBUILDCHECKBUILD BIN
CAGEfightR 1.19.0  (landing page)
Malte Thodberg
git_last_commit: 8b947db
git_last_commit_date: 2022-11-01 11:17:49 -0400
nebbiolo1Linux (Ubuntu 22.04.1 LTS) / x86_64  OK    OK    OK  UNNEEDED, same version is already published
palomino3Windows Server 2022 Datacenter / x64  OK    OK    OK    OK  UNNEEDED, same version is already published
Package 17/134HostnameOS / ArchINSTALLBUILDCHECKBUILD BIN
casper 2.33.0  (landing page)
David Rossell
git_last_commit: 6cde1fc
git_last_commit_date: 2022-11-01 11:07:47 -0400
nebbiolo1Linux (Ubuntu 22.04.1 LTS) / x86_64  OK    OK    OK  UNNEEDED, same version is already published
palomino3Windows Server 2022 Datacenter / x64  OK    OK    WARNINGS    OK  UNNEEDED, same version is already published
Package 18/134HostnameOS / ArchINSTALLBUILDCHECKBUILD BIN
ChIPpeakAnno 3.33.2  (landing page)
Jianhong Ou
git_last_commit: 88d5ada
git_last_commit_date: 2023-03-14 15:02:32 -0400
nebbiolo1Linux (Ubuntu 22.04.1 LTS) / x86_64  OK    OK    OK  UNNEEDED, same version is already published
palomino3Windows Server 2022 Datacenter / x64  OK    OK    OK    OK  UNNEEDED, same version is already published
Package 19/134HostnameOS / ArchINSTALLBUILDCHECKBUILD BIN
ChIPQC 1.35.1  (landing page)
Tom Carroll , Rory Stark
git_last_commit: 0aa2fcd
git_last_commit_date: 2023-01-10 08:07:36 -0400
nebbiolo1Linux (Ubuntu 22.04.1 LTS) / x86_64  OK    OK    WARNINGS  UNNEEDED, same version is already published
palomino3Windows Server 2022 Datacenter / x64  OK    OK    WARNINGS    OK  UNNEEDED, same version is already published
Package 20/134HostnameOS / ArchINSTALLBUILDCHECKBUILD BIN
ChIPseeker 1.35.1  (landing page)
Guangchuang Yu
git_last_commit: fb11419
git_last_commit_date: 2022-12-30 04:26:48 -0400
nebbiolo1Linux (Ubuntu 22.04.1 LTS) / x86_64  OK    OK    ERROR  
palomino3Windows Server 2022 Datacenter / x64  OK    OK    OK    OK  UNNEEDED, same version is already published
Package 21/134HostnameOS / ArchINSTALLBUILDCHECKBUILD BIN
Cogito 1.5.0  (landing page)
Annika Bürger
git_last_commit: 70c2f30
git_last_commit_date: 2022-11-01 11:25:54 -0400
nebbiolo1Linux (Ubuntu 22.04.1 LTS) / x86_64  OK    OK    OK  UNNEEDED, same version is already published
palomino3Windows Server 2022 Datacenter / x64  OK    OK    OK    OK  UNNEEDED, same version is already published
Package 22/134HostnameOS / ArchINSTALLBUILDCHECKBUILD BIN
compEpiTools 1.33.0  (landing page)
Kamal Kishore
git_last_commit: 5de0197
git_last_commit_date: 2022-11-01 11:10:09 -0400
nebbiolo1Linux (Ubuntu 22.04.1 LTS) / x86_64  OK    OK    WARNINGS  UNNEEDED, same version is already published
palomino3Windows Server 2022 Datacenter / x64  OK    OK    WARNINGS    OK  UNNEEDED, same version is already published
Package 23/134HostnameOS / ArchINSTALLBUILDCHECKBUILD BIN
consensusDE 1.17.0  (landing page)
Ashley J. Waardenberg
git_last_commit: 9aa0244
git_last_commit_date: 2022-11-01 11:18:46 -0400
nebbiolo1Linux (Ubuntu 22.04.1 LTS) / x86_64  OK    OK    OK  UNNEEDED, same version is already published
palomino3Windows Server 2022 Datacenter / x64  OK    OK    OK    OK  UNNEEDED, same version is already published
Package 24/134HostnameOS / ArchINSTALLBUILDCHECKBUILD BIN
cpvSNP 1.31.0  (landing page)
Caitlin McHugh
git_last_commit: 0e2f08d
git_last_commit_date: 2022-11-01 11:10:50 -0400
nebbiolo1Linux (Ubuntu 22.04.1 LTS) / x86_64  OK    OK    OK  UNNEEDED, same version is already published
palomino3Windows Server 2022 Datacenter / x64  OK    OK    OK    OK  UNNEEDED, same version is already published
Package 25/134HostnameOS / ArchINSTALLBUILDCHECKBUILD BIN
crisprDesign 1.1.24  (landing page)
Jean-Philippe Fortin
git_last_commit: a6826bc
git_last_commit_date: 2023-02-28 10:34:55 -0400
nebbiolo1Linux (Ubuntu 22.04.1 LTS) / x86_64  OK    OK    OK  UNNEEDED, same version is already published
palomino3Windows Server 2022 Datacenter / x64  OK    OK    OK    OK  UNNEEDED, same version is already published
Package 26/134HostnameOS / ArchINSTALLBUILDCHECKBUILD BIN
crisprseekplus 1.25.0  (landing page)
Alper Kucukural
git_last_commit: 1c73781
git_last_commit_date: 2022-11-01 11:14:42 -0400
nebbiolo1Linux (Ubuntu 22.04.1 LTS) / x86_64  OK    OK    ERROR  
palomino3Windows Server 2022 Datacenter / x64  OK    OK    OK    OK  UNNEEDED, same version is already published
Package 27/134HostnameOS / ArchINSTALLBUILDCHECKBUILD BIN
crisprViz 1.1.3  (landing page)
Jean-Philippe Fortin
git_last_commit: cb79dac
git_last_commit_date: 2023-02-28 10:41:37 -0400
nebbiolo1Linux (Ubuntu 22.04.1 LTS) / x86_64  OK    OK    OK  UNNEEDED, same version is already published
palomino3Windows Server 2022 Datacenter / x64  OK    OK    OK    OK  UNNEEDED, same version is already published
Package 28/134HostnameOS / ArchINSTALLBUILDCHECKBUILD BIN
CSSQ 1.11.0  (landing page)
Fan Lab at Georgia Institute of Technology
git_last_commit: a3d10f2
git_last_commit_date: 2022-11-01 11:21:05 -0400
nebbiolo1Linux (Ubuntu 22.04.1 LTS) / x86_64  OK    OK    OK  UNNEEDED, same version is already published
palomino3Windows Server 2022 Datacenter / x64  OK    OK    OK    OK  UNNEEDED, same version is already published
Package 29/134HostnameOS / ArchINSTALLBUILDCHECKBUILD BIN
customProDB 1.39.0  (landing page)
Xiaojing Wang
git_last_commit: 612f132
git_last_commit_date: 2022-11-01 11:08:20 -0400
nebbiolo1Linux (Ubuntu 22.04.1 LTS) / x86_64  OK    OK    OK  UNNEEDED, same version is already published
palomino3Windows Server 2022 Datacenter / x64  OK    OK    OK    OK  UNNEEDED, same version is already published
Package 30/134HostnameOS / ArchINSTALLBUILDCHECKBUILD BIN
dasper 1.9.1  (landing page)
David Zhang
git_last_commit: 3fa8472
git_last_commit_date: 2023-03-30 12:36:59 -0400
nebbiolo1Linux (Ubuntu 22.04.1 LTS) / x86_64  OK    ERROR  skipped
palomino3Windows Server 2022 Datacenter / x64  OK    ERROR  skippedskipped
Package 31/134HostnameOS / ArchINSTALLBUILDCHECKBUILD BIN
decompTumor2Sig 2.15.0  (landing page)
Rosario M. Piro
git_last_commit: f413c6a
git_last_commit_date: 2022-11-01 11:18:56 -0400
nebbiolo1Linux (Ubuntu 22.04.1 LTS) / x86_64  OK    OK    OK  UNNEEDED, same version is already published
palomino3Windows Server 2022 Datacenter / x64  OK    OK    OK    OK  UNNEEDED, same version is already published
Package 32/134HostnameOS / ArchINSTALLBUILDCHECKBUILD BIN
DegNorm 1.9.0  (landing page)
Ji-Ping Wang
git_last_commit: c7ffd9e
git_last_commit_date: 2022-11-01 11:22:13 -0400
nebbiolo1Linux (Ubuntu 22.04.1 LTS) / x86_64  OK    OK    OK  UNNEEDED, same version is already published
palomino3Windows Server 2022 Datacenter / x64  OK    OK    OK    OK  UNNEEDED, same version is already published
Package 33/134HostnameOS / ArchINSTALLBUILDCHECKBUILD BIN
derfinder 1.33.0  (landing page)
Leonardo Collado-Torres
git_last_commit: 4da8676
git_last_commit_date: 2022-11-01 11:10:24 -0400
nebbiolo1Linux (Ubuntu 22.04.1 LTS) / x86_64  OK    OK    OK  UNNEEDED, same version is already published
palomino3Windows Server 2022 Datacenter / x64  OK    OK    OK    OK  UNNEEDED, same version is already published
Package 34/134HostnameOS / ArchINSTALLBUILDCHECKBUILD BIN
derfinderPlot 1.33.0  (landing page)
Leonardo Collado-Torres
git_last_commit: a63cb58
git_last_commit_date: 2022-11-01 11:10:25 -0400
nebbiolo1Linux (Ubuntu 22.04.1 LTS) / x86_64  OK    OK    OK  UNNEEDED, same version is already published
palomino3Windows Server 2022 Datacenter / x64  OK    OK    OK    OK  UNNEEDED, same version is already published
Package 35/134HostnameOS / ArchINSTALLBUILDCHECKBUILD BIN
EDASeq 2.33.0  (landing page)
Davide Risso
git_last_commit: 04a9ebb
git_last_commit_date: 2022-11-01 11:06:16 -0400
nebbiolo1Linux (Ubuntu 22.04.1 LTS) / x86_64  OK    OK    OK  UNNEEDED, same version is already published
palomino3Windows Server 2022 Datacenter / x64  OK    OK    OK    OK  UNNEEDED, same version is already published
Package 36/134HostnameOS / ArchINSTALLBUILDCHECKBUILD BIN
ELMER 2.23.0  (landing page)
Tiago Chedraoui Silva
git_last_commit: 27c3e6f
git_last_commit_date: 2022-11-01 11:11:45 -0400
nebbiolo1Linux (Ubuntu 22.04.1 LTS) / x86_64  OK    ERROR  skipped
palomino3Windows Server 2022 Datacenter / x64  OK    ERROR  skippedskipped
Package 37/134HostnameOS / ArchINSTALLBUILDCHECKBUILD BIN
ensembldb 2.23.2  (landing page)
Johannes Rainer
git_last_commit: e74f58e
git_last_commit_date: 2023-02-16 00:26:08 -0400
nebbiolo1Linux (Ubuntu 22.04.1 LTS) / x86_64  OK    OK    OK  UNNEEDED, same version is already published
palomino3Windows Server 2022 Datacenter / x64  OK    OK    OK    OK  UNNEEDED, same version is already published
Package 38/134HostnameOS / ArchINSTALLBUILDCHECKBUILD BIN
EpiMix 1.1.2  (landing page)
Yuanning Zheng
git_last_commit: c702fa7
git_last_commit_date: 2023-02-13 23:28:38 -0400
nebbiolo1Linux (Ubuntu 22.04.1 LTS) / x86_64  OK    OK    OK  UNNEEDED, same version is already published
palomino3Windows Server 2022 Datacenter / x64  OK    ERROR  skippedskipped
Package 39/134HostnameOS / ArchINSTALLBUILDCHECKBUILD BIN
epimutacions 1.3.0  (landing page)
Dolors Pelegri-Siso
git_last_commit: 4b983d2
git_last_commit_date: 2022-11-01 11:26:53 -0400
nebbiolo1Linux (Ubuntu 22.04.1 LTS) / x86_64  OK    ERROR  skipped
palomino3Windows Server 2022 Datacenter / x64  OK    ERROR  skippedskipped
Package 40/134HostnameOS / ArchINSTALLBUILDCHECKBUILD BIN
EpiTxDb 1.11.0  (landing page)
Felix G.M. Ernst
git_last_commit: aa28b39
git_last_commit_date: 2022-11-01 11:21:35 -0400
nebbiolo1Linux (Ubuntu 22.04.1 LTS) / x86_64  OK    OK    OK  UNNEEDED, same version is already published
palomino3Windows Server 2022 Datacenter / x64  OK    OK    OK    OK  UNNEEDED, same version is already published
Package 41/134HostnameOS / ArchINSTALLBUILDCHECKBUILD BIN
epivizrData 1.27.0  (landing page)
Hector Corrada Bravo
git_last_commit: 4065423
git_last_commit_date: 2022-11-01 11:13:39 -0400
nebbiolo1Linux (Ubuntu 22.04.1 LTS) / x86_64  OK    OK    OK  UNNEEDED, same version is already published
palomino3Windows Server 2022 Datacenter / x64  OK    OK    OK    OK  UNNEEDED, same version is already published
Package 42/134HostnameOS / ArchINSTALLBUILDCHECKBUILD BIN
epivizrStandalone 1.27.0  (landing page)
Hector Corrada Bravo
git_last_commit: 697c987
git_last_commit_date: 2022-11-01 11:13:43 -0400
nebbiolo1Linux (Ubuntu 22.04.1 LTS) / x86_64  OK    OK    WARNINGS  UNNEEDED, same version is already published
palomino3Windows Server 2022 Datacenter / x64  OK    OK    WARNINGS    OK  UNNEEDED, same version is already published
Package 43/134HostnameOS / ArchINSTALLBUILDCHECKBUILD BIN
esATAC 1.21.0  (landing page)
Zheng Wei
git_last_commit: dc1b794
git_last_commit_date: 2022-11-01 11:16:47 -0400
nebbiolo1Linux (Ubuntu 22.04.1 LTS) / x86_64  OK    OK    ERROR  
palomino3Windows Server 2022 Datacenter / x64  OK    OK    WARNINGS    OK  UNNEEDED, same version is already published
Package 44/134HostnameOS / ArchINSTALLBUILDCHECKBUILD BIN
EventPointer 3.7.0  (landing page)
Juan A. Ferrer-Bonsoms
git_last_commit: 779db2e
git_last_commit_date: 2023-03-15 11:26:40 -0400
nebbiolo1Linux (Ubuntu 22.04.1 LTS) / x86_64  OK    OK    OK  UNNEEDED, same version is already published
palomino3Windows Server 2022 Datacenter / x64  OK    OK    OK    OK  UNNEEDED, same version is already published
Package 45/134HostnameOS / ArchINSTALLBUILDCHECKBUILD BIN
exomePeak2 1.11.0  (landing page)
Zhen Wei
git_last_commit: 1b9534d
git_last_commit_date: 2022-11-01 11:21:28 -0400
nebbiolo1Linux (Ubuntu 22.04.1 LTS) / x86_64  OK    OK    ERROR  
palomino3Windows Server 2022 Datacenter / x64  OK    OK    OK    OK  UNNEEDED, same version is already published
Package 46/134HostnameOS / ArchINSTALLBUILDCHECKBUILD BIN
factR 1.1.0  (landing page)
Fursham Hamid
git_last_commit: d8724d2
git_last_commit_date: 2022-11-01 11:27:13 -0400
nebbiolo1Linux (Ubuntu 22.04.1 LTS) / x86_64  OK    OK    OK  UNNEEDED, same version is already published
palomino3Windows Server 2022 Datacenter / x64  OK    OK    OK    OK  UNNEEDED, same version is already published
Package 47/134HostnameOS / ArchINSTALLBUILDCHECKBUILD BIN
FindIT2 1.5.0  (landing page)
Guandong Shang
git_last_commit: db4c20d
git_last_commit_date: 2022-11-01 11:25:15 -0400
nebbiolo1Linux (Ubuntu 22.04.1 LTS) / x86_64  OK    OK    OK  UNNEEDED, same version is already published
palomino3Windows Server 2022 Datacenter / x64  OK    OK    OK    OK  UNNEEDED, same version is already published
Package 48/134HostnameOS / ArchINSTALLBUILDCHECKBUILD BIN
FLAMES 1.5.5  (landing page)
Oliver Voogd
git_last_commit: 602a271
git_last_commit_date: 2023-03-06 01:05:53 -0400
nebbiolo1Linux (Ubuntu 22.04.1 LTS) / x86_64  OK    OK    WARNINGS  UNNEEDED, same version is already published
palomino3Windows Server 2022 Datacenter / x64  OK    OK    OK    OK  UNNEEDED, same version is already published
Package 49/134HostnameOS / ArchINSTALLBUILDCHECKBUILD BIN
FRASER 1.11.0  (landing page)
Christian Mertes
git_last_commit: ab699ed
git_last_commit_date: 2022-11-01 11:21:56 -0400
nebbiolo1Linux (Ubuntu 22.04.1 LTS) / x86_64  OK    OK    OK  UNNEEDED, same version is already published
palomino3Windows Server 2022 Datacenter / x64  OK    OK    OK    OK  UNNEEDED, same version is already published
Package 50/134HostnameOS / ArchINSTALLBUILDCHECKBUILD BIN
GA4GHshiny 1.21.0  (landing page)
Welliton Souza
git_last_commit: 7ca7b54
git_last_commit_date: 2022-11-01 11:15:45 -0400
nebbiolo1Linux (Ubuntu 22.04.1 LTS) / x86_64  OK    OK    OK  UNNEEDED, same version is already published
palomino3Windows Server 2022 Datacenter / x64  OK    OK    OK    OK  UNNEEDED, same version is already published
Package 51/134HostnameOS / ArchINSTALLBUILDCHECKBUILD BIN
genbankr 1.27.1  (landing page)
Gabriel Becker
git_last_commit: 4954cb0
git_last_commit_date: 2023-02-27 17:41:01 -0400
nebbiolo1Linux (Ubuntu 22.04.1 LTS) / x86_64  OK    ERROR  skipped
palomino3Windows Server 2022 Datacenter / x64  OK    ERROR  skippedskipped
Package 52/134HostnameOS / ArchINSTALLBUILDCHECKBUILD BIN
geneAttribution 1.25.0  (landing page)
Arthur Wuster
git_last_commit: 5aab3ee
git_last_commit_date: 2022-11-01 11:14:21 -0400
nebbiolo1Linux (Ubuntu 22.04.1 LTS) / x86_64  OK    OK    OK  UNNEEDED, same version is already published
palomino3Windows Server 2022 Datacenter / x64  OK    OK    OK    OK  UNNEEDED, same version is already published
Package 53/134HostnameOS / ArchINSTALLBUILDCHECKBUILD BIN
GenomicInteractionNodes 1.3.0  (landing page)
Jianhong Ou
git_last_commit: d333b67
git_last_commit_date: 2022-11-01 11:26:54 -0400
nebbiolo1Linux (Ubuntu 22.04.1 LTS) / x86_64  OK    OK    OK  UNNEEDED, same version is already published
palomino3Windows Server 2022 Datacenter / x64  OK    OK    OK    OK  UNNEEDED, same version is already published
Package 54/134HostnameOS / ArchINSTALLBUILDCHECKBUILD BIN
GenVisR 1.31.1  (landing page)
Zachary Skidmore
git_last_commit: f65e33d
git_last_commit_date: 2023-01-16 15:04:04 -0400
nebbiolo1Linux (Ubuntu 22.04.1 LTS) / x86_64  OK    OK    ERROR  
palomino3Windows Server 2022 Datacenter / x64  OK    OK    ERROR    OK  
Package 55/134HostnameOS / ArchINSTALLBUILDCHECKBUILD BIN
ggbio 1.47.0  (landing page)
Michael Lawrence
git_last_commit: 45abc27
git_last_commit_date: 2022-11-01 11:06:25 -0400
nebbiolo1Linux (Ubuntu 22.04.1 LTS) / x86_64  OK    OK    WARNINGS  UNNEEDED, same version is already published
palomino3Windows Server 2022 Datacenter / x64  OK    OK    WARNINGS    OK  UNNEEDED, same version is already published
Package 56/134HostnameOS / ArchINSTALLBUILDCHECKBUILD BIN
gmapR 1.41.0  (landing page)
Michael Lawrence
git_last_commit: a0fba74
git_last_commit_date: 2023-02-17 08:58:46 -0400
nebbiolo1Linux (Ubuntu 22.04.1 LTS) / x86_64  OK    OK    WARNINGS  UNNEEDED, same version is already published
palomino3Windows Server 2022 Datacenter / x64... NOT SUPPORTED ...
Package 57/134HostnameOS / ArchINSTALLBUILDCHECKBUILD BIN
gmoviz 1.11.0  (landing page)
Kathleen Zeglinski
git_last_commit: 0739ba9
git_last_commit_date: 2022-11-01 11:21:38 -0400
nebbiolo1Linux (Ubuntu 22.04.1 LTS) / x86_64  OK    OK    OK  UNNEEDED, same version is already published
palomino3Windows Server 2022 Datacenter / x64  OK    OK    OK    OK  UNNEEDED, same version is already published
Package 58/134HostnameOS / ArchINSTALLBUILDCHECKBUILD BIN
GSReg 1.33.0  (landing page)
Bahman Afsari , Elana J. Fertig
git_last_commit: e000c8c
git_last_commit_date: 2022-11-01 11:09:57 -0400
nebbiolo1Linux (Ubuntu 22.04.1 LTS) / x86_64  OK    OK    WARNINGS  UNNEEDED, same version is already published
palomino3Windows Server 2022 Datacenter / x64  OK    OK    WARNINGS    OK  UNNEEDED, same version is already published
Package 59/134HostnameOS / ArchINSTALLBUILDCHECKBUILD BIN
GUIDEseq 1.29.4  (landing page)
Lihua Julie Zhu
git_last_commit: a1608c6
git_last_commit_date: 2022-11-21 23:35:38 -0400
nebbiolo1Linux (Ubuntu 22.04.1 LTS) / x86_64  OK    OK    WARNINGS  UNNEEDED, same version is already published
palomino3Windows Server 2022 Datacenter / x64  OK    OK    WARNINGS    OK  UNNEEDED, same version is already published
Package 60/134HostnameOS / ArchINSTALLBUILDCHECKBUILD BIN
Guitar 2.15.0  (landing page)
Jia Meng
git_last_commit: 90c0b89
git_last_commit_date: 2022-11-01 11:12:15 -0400
nebbiolo1Linux (Ubuntu 22.04.1 LTS) / x86_64  OK    OK    OK  UNNEEDED, same version is already published
palomino3Windows Server 2022 Datacenter / x64  OK    OK    OK    OK  UNNEEDED, same version is already published
Package 61/134HostnameOS / ArchINSTALLBUILDCHECKBUILD BIN
Gviz 1.43.1  (landing page)
Robert Ivanek
git_last_commit: c60b082
git_last_commit_date: 2023-03-15 06:30:36 -0400
nebbiolo1Linux (Ubuntu 22.04.1 LTS) / x86_64  OK    ERROR  skipped
palomino3Windows Server 2022 Datacenter / x64  OK    ERROR  skippedskipped
Package 62/134HostnameOS / ArchINSTALLBUILDCHECKBUILD BIN
gwascat 2.31.0  (landing page)
VJ Carey
git_last_commit: 667130c
git_last_commit_date: 2022-11-01 11:06:43 -0400
nebbiolo1Linux (Ubuntu 22.04.1 LTS) / x86_64  OK    OK    OK  UNNEEDED, same version is already published
palomino3Windows Server 2022 Datacenter / x64  OK    OK    OK    OK  UNNEEDED, same version is already published
Package 63/134HostnameOS / ArchINSTALLBUILDCHECKBUILD BIN
HelloRanges 1.25.0  (landing page)
Michael Lawrence
git_last_commit: cd2ba49
git_last_commit_date: 2022-11-01 11:14:42 -0400
nebbiolo1Linux (Ubuntu 22.04.1 LTS) / x86_64  OK    OK    ERROR  
palomino3Windows Server 2022 Datacenter / x64  OK    OK    OK    OK  UNNEEDED, same version is already published
Package 64/134HostnameOS / ArchINSTALLBUILDCHECKBUILD BIN
HiContacts 1.1.3  (landing page)
Jacques Serizay
git_last_commit: 625f84d
git_last_commit_date: 2023-03-22 12:03:15 -0400
nebbiolo1Linux (Ubuntu 22.04.1 LTS) / x86_64  OK    OK    OK  UNNEEDED, same version is already published
palomino3Windows Server 2022 Datacenter / x64  OK    OK    OK    OK  UNNEEDED, same version is already published
Package 65/134HostnameOS / ArchINSTALLBUILDCHECKBUILD BIN
HiLDA 1.13.0  (landing page)
Zhi Yang
git_last_commit: 8d91092
git_last_commit_date: 2022-11-01 11:20:14 -0400
nebbiolo1Linux (Ubuntu 22.04.1 LTS) / x86_64  OK    OK    OK  UNNEEDED, same version is already published
palomino3Windows Server 2022 Datacenter / x64  OK    OK    OK    OK  UNNEEDED, same version is already published
Package 66/134HostnameOS / ArchINSTALLBUILDCHECKBUILD BIN
HTSeqGenie 4.29.1  (landing page)
Jens Reeder
git_last_commit: e9b146a
git_last_commit_date: 2023-01-20 12:47:05 -0400
nebbiolo1Linux (Ubuntu 22.04.1 LTS) / x86_64  OK    OK    ERROR  
palomino3Windows Server 2022 Datacenter / x64... NOT SUPPORTED ...
Package 67/134HostnameOS / ArchINSTALLBUILDCHECKBUILD BIN
icetea 1.17.0  (landing page)
Vivek Bhardwaj
git_last_commit: 52ec073
git_last_commit_date: 2022-11-01 11:18:00 -0400
nebbiolo1Linux (Ubuntu 22.04.1 LTS) / x86_64  OK    ERROR  skipped
palomino3Windows Server 2022 Datacenter / x64  OK    ERROR  skippedskipped
Package 68/134HostnameOS / ArchINSTALLBUILDCHECKBUILD BIN
IMAS 1.23.0  (landing page)
Seonggyun Han
git_last_commit: e981ab2
git_last_commit_date: 2022-11-01 11:15:33 -0400
nebbiolo1Linux (Ubuntu 22.04.1 LTS) / x86_64  OK    OK    OK  UNNEEDED, same version is already published
palomino3Windows Server 2022 Datacenter / x64  OK    OK    OK    OK  UNNEEDED, same version is already published
Package 69/134HostnameOS / ArchINSTALLBUILDCHECKBUILD BIN
InPAS 2.7.0  (landing page)
Jianhong Ou
git_last_commit: e85a9a3
git_last_commit_date: 2022-11-01 11:11:19 -0400
nebbiolo1Linux (Ubuntu 22.04.1 LTS) / x86_64  OK    OK    OK  UNNEEDED, same version is already published
palomino3Windows Server 2022 Datacenter / x64  OK    OK    OK    OK  UNNEEDED, same version is already published
Package 70/134HostnameOS / ArchINSTALLBUILDCHECKBUILD BIN
INSPEcT 1.29.0  (landing page)
Stefano de Pretis
git_last_commit: 5409025
git_last_commit_date: 2022-11-01 11:11:51 -0400
nebbiolo1Linux (Ubuntu 22.04.1 LTS) / x86_64  OK    OK    OK  UNNEEDED, same version is already published
palomino3Windows Server 2022 Datacenter / x64  OK    OK    OK    OK  UNNEEDED, same version is already published
Package 71/134HostnameOS / ArchINSTALLBUILDCHECKBUILD BIN
IntEREst 1.23.10  (landing page)
Ali Oghabian , Mikko Frilander
git_last_commit: af886af
git_last_commit_date: 2023-03-29 06:20:15 -0400
nebbiolo1Linux (Ubuntu 22.04.1 LTS) / x86_64  OK    OK    OK  UNNEEDED, same version is already published
palomino3Windows Server 2022 Datacenter / x64  OK    OK    OK    OK  YES
Package 72/134HostnameOS / ArchINSTALLBUILDCHECKBUILD BIN
IVAS 2.19.0  (landing page)
Seonggyun Han
git_last_commit: 48e6abc
git_last_commit_date: 2022-11-01 11:11:02 -0400
nebbiolo1Linux (Ubuntu 22.04.1 LTS) / x86_64  OK    OK    WARNINGS  UNNEEDED, same version is already published
palomino3Windows Server 2022 Datacenter / x64  OK    OK    WARNINGS    OK  UNNEEDED, same version is already published
Package 73/134HostnameOS / ArchINSTALLBUILDCHECKBUILD BIN
karyoploteR 1.25.0  (landing page)
Bernat Gel
git_last_commit: 051aa8b
git_last_commit_date: 2022-11-01 11:15:07 -0400
nebbiolo1Linux (Ubuntu 22.04.1 LTS) / x86_64  OK    OK    OK  UNNEEDED, same version is already published
palomino3Windows Server 2022 Datacenter / x64  OK    OK    OK    OK  UNNEEDED, same version is already published
Package 74/134HostnameOS / ArchINSTALLBUILDCHECKBUILD BIN
lumi 2.51.0  (landing page)
Lei Huang
git_last_commit: 95a906f
git_last_commit_date: 2022-11-01 10:42:41 -0400
nebbiolo1Linux (Ubuntu 22.04.1 LTS) / x86_64  OK    OK    WARNINGS  UNNEEDED, same version is already published
palomino3Windows Server 2022 Datacenter / x64  OK    OK    WARNINGS    OK  UNNEEDED, same version is already published
Package 75/134HostnameOS / ArchINSTALLBUILDCHECKBUILD BIN
magpie 0.99.8  (landing page)
Daoyu Duan
git_last_commit: 97f0d92
git_last_commit_date: 2023-03-07 10:58:38 -0400
nebbiolo1Linux (Ubuntu 22.04.1 LTS) / x86_64  OK    OK    ERROR  
palomino3Windows Server 2022 Datacenter / x64  OK    OK    OK    OK  NO, package depends on 'TRESS' which is not available
Package 76/134HostnameOS / ArchINSTALLBUILDCHECKBUILD BIN
mCSEA 1.19.0  (landing page)
Jordi Martorell-Marugán
git_last_commit: dae9e6c
git_last_commit_date: 2022-11-01 11:17:00 -0400
nebbiolo1Linux (Ubuntu 22.04.1 LTS) / x86_64  OK    OK    OK  UNNEEDED, same version is already published
palomino3Windows Server 2022 Datacenter / x64  OK    OK    OK    OK  UNNEEDED, same version is already published
Package 77/134HostnameOS / ArchINSTALLBUILDCHECKBUILD BIN
metagene 2.31.0  (landing page)
Charles Joly Beauparlant
git_last_commit: 7597c31
git_last_commit_date: 2022-11-01 11:10:04 -0400
nebbiolo1Linux (Ubuntu 22.04.1 LTS) / x86_64  OK    OK    ERROR  
palomino3Windows Server 2022 Datacenter / x64  OK    OK    WARNINGS    OK  UNNEEDED, same version is already published
Package 78/134HostnameOS / ArchINSTALLBUILDCHECKBUILD BIN
metaseqR2 1.11.0  (landing page)
Panagiotis Moulos
git_last_commit: 36efa5b
git_last_commit_date: 2022-11-01 11:22:03 -0400
nebbiolo1Linux (Ubuntu 22.04.1 LTS) / x86_64  OK    OK    ERROR  
palomino3Windows Server 2022 Datacenter / x64  OK    OK    WARNINGS    OK  NO, package depends on 'baySeq' which is not available
Package 79/134HostnameOS / ArchINSTALLBUILDCHECKBUILD BIN
methylumi 2.45.0  (landing page)
Sean Davis
git_last_commit: bd20f4e
git_last_commit_date: 2022-11-01 11:04:28 -0400
nebbiolo1Linux (Ubuntu 22.04.1 LTS) / x86_64  OK    OK    OK  UNNEEDED, same version is already published
palomino3Windows Server 2022 Datacenter / x64  OK    OK    OK    OK  UNNEEDED, same version is already published
Package 80/134HostnameOS / ArchINSTALLBUILDCHECKBUILD BIN
msgbsR 1.23.0  (landing page)
Benjamin Mayne
git_last_commit: 642ad30
git_last_commit_date: 2022-11-01 11:15:43 -0400
nebbiolo1Linux (Ubuntu 22.04.1 LTS) / x86_64  OK    OK    OK  UNNEEDED, same version is already published
palomino3Windows Server 2022 Datacenter / x64  OK    OK    OK    OK  UNNEEDED, same version is already published
Package 81/134HostnameOS / ArchINSTALLBUILDCHECKBUILD BIN
multicrispr 1.9.0  (landing page)
Aditya Bhagwat
git_last_commit: d19c1d3
git_last_commit_date: 2022-11-01 11:22:14 -0400
nebbiolo1Linux (Ubuntu 22.04.1 LTS) / x86_64  OK    OK    OK  UNNEEDED, same version is already published
palomino3Windows Server 2022 Datacenter / x64  OK    OK    OK    OK  UNNEEDED, same version is already published
Package 82/134HostnameOS / ArchINSTALLBUILDCHECKBUILD BIN
musicatk 1.9.0  (landing page)
Aaron Chevalier
git_last_commit: 69829e2
git_last_commit_date: 2022-11-01 11:23:15 -0400
nebbiolo1Linux (Ubuntu 22.04.1 LTS) / x86_64  OK    OK    OK  NO, package depends on 'TCGAbiolinks' which is not available
palomino3Windows Server 2022 Datacenter / x64  OK    OK    OK    OK  UNNEEDED, same version is already published
Package 83/134HostnameOS / ArchINSTALLBUILDCHECKBUILD BIN
mygene 1.35.0  (landing page)
Adam Mark, Cyrus Afrasiabi, Chunlei Wu
git_last_commit: 74629ad
git_last_commit_date: 2022-11-01 11:10:45 -0400
nebbiolo1Linux (Ubuntu 22.04.1 LTS) / x86_64  OK    OK    OK  UNNEEDED, same version is already published
palomino3Windows Server 2022 Datacenter / x64  OK    OK    OK    OK  UNNEEDED, same version is already published
Package 84/134HostnameOS / ArchINSTALLBUILDCHECKBUILD BIN
NoRCE 1.11.0  (landing page)
Gulden Olgun
git_last_commit: 0258bbc
git_last_commit_date: 2022-11-01 11:21:35 -0400
nebbiolo1Linux (Ubuntu 22.04.1 LTS) / x86_64  OK    OK    OK  UNNEEDED, same version is already published
palomino3Windows Server 2022 Datacenter / x64  OK    OK    OK    OK  UNNEEDED, same version is already published
Package 85/134HostnameOS / ArchINSTALLBUILDCHECKBUILD BIN
ORFik 1.19.8  (landing page)
Haakon Tjeldnes
git_last_commit: 7d13ceb
git_last_commit_date: 2023-03-23 10:21:25 -0400
nebbiolo1Linux (Ubuntu 22.04.1 LTS) / x86_64  OK    ERROR  skipped
palomino3Windows Server 2022 Datacenter / x64  OK    ERROR  skippedskipped
Package 86/134HostnameOS / ArchINSTALLBUILDCHECKBUILD BIN
Organism.dplyr 1.27.2  (landing page)
Martin Morgan
git_last_commit: 4b09dd2
git_last_commit_date: 2023-03-27 16:58:32 -0400
nebbiolo1Linux (Ubuntu 22.04.1 LTS) / x86_64  OK    OK    OK  UNNEEDED, same version is already published
palomino3Windows Server 2022 Datacenter / x64  OK    OK    OK    OK  UNNEEDED, same version is already published
Package 87/134HostnameOS / ArchINSTALLBUILDCHECKBUILD BIN
OrganismDbi 1.41.0  (landing page)
Bioconductor Package Maintainer
git_last_commit: 784ff35
git_last_commit_date: 2022-11-01 11:07:19 -0400
nebbiolo1Linux (Ubuntu 22.04.1 LTS) / x86_64  OK    OK    WARNINGS  UNNEEDED, same version is already published
palomino3Windows Server 2022 Datacenter / x64  OK    OK    WARNINGS    OK  UNNEEDED, same version is already published
Package 88/134HostnameOS / ArchINSTALLBUILDCHECKBUILD BIN
OUTRIDER 1.17.1  (landing page)
Christian Mertes
git_last_commit: 689b51d
git_last_commit_date: 2023-01-05 16:00:16 -0400
nebbiolo1Linux (Ubuntu 22.04.1 LTS) / x86_64  OK    OK    OK  UNNEEDED, same version is already published
palomino3Windows Server 2022 Datacenter / x64  OK    OK    OK    OK  UNNEEDED, same version is already published
Package 89/134HostnameOS / ArchINSTALLBUILDCHECKBUILD BIN
proActiv 1.9.0  (landing page)
Joseph Lee
git_last_commit: dc9befb
git_last_commit_date: 2022-11-01 11:22:49 -0400
nebbiolo1Linux (Ubuntu 22.04.1 LTS) / x86_64  OK    OK    OK  UNNEEDED, same version is already published
palomino3Windows Server 2022 Datacenter / x64  OK    OK    OK    OK  UNNEEDED, same version is already published
Package 90/134HostnameOS / ArchINSTALLBUILDCHECKBUILD BIN
proBAMr 1.33.0  (landing page)
Xiaojing Wang
git_last_commit: 7561f04
git_last_commit_date: 2022-11-01 11:10:28 -0400
nebbiolo1Linux (Ubuntu 22.04.1 LTS) / x86_64  OK    OK    OK  UNNEEDED, same version is already published
palomino3Windows Server 2022 Datacenter / x64  OK    OK    OK    OK  UNNEEDED, same version is already published
Package 91/134HostnameOS / ArchINSTALLBUILDCHECKBUILD BIN
profileplyr 1.15.1  (landing page)
Tom Carroll , Doug Barrows
git_last_commit: 137a606
git_last_commit_date: 2023-01-18 16:17:51 -0400
nebbiolo1Linux (Ubuntu 22.04.1 LTS) / x86_64  OK    OK    OK  UNNEEDED, same version is already published
palomino3Windows Server 2022 Datacenter / x64  OK    OK    OK    OK  UNNEEDED, same version is already published
Package 92/134HostnameOS / ArchINSTALLBUILDCHECKBUILD BIN
ProteoDisco 1.5.0  (landing page)
Job van Riet
git_last_commit: b1a2ab6
git_last_commit_date: 2022-11-01 11:25:34 -0400
nebbiolo1Linux (Ubuntu 22.04.1 LTS) / x86_64  OK    OK    WARNINGS  UNNEEDED, same version is already published
palomino3Windows Server 2022 Datacenter / x64  OK    OK    WARNINGS    OK  UNNEEDED, same version is already published
Package 93/134HostnameOS / ArchINSTALLBUILDCHECKBUILD BIN
PureCN 2.5.0  (landing page)
Markus Riester
git_last_commit: 7d7d59b
git_last_commit_date: 2022-11-01 11:13:36 -0400
nebbiolo1Linux (Ubuntu 22.04.1 LTS) / x86_64  OK    OK    OK  UNNEEDED, same version is already published
palomino3Windows Server 2022 Datacenter / x64  OK    OK    OK    OK  UNNEEDED, same version is already published
Package 94/134HostnameOS / ArchINSTALLBUILDCHECKBUILD BIN
qpgraph 2.33.0  (landing page)
Robert Castelo
git_last_commit: 35ee6f1
git_last_commit_date: 2022-11-01 11:04:16 -0400
nebbiolo1Linux (Ubuntu 22.04.1 LTS) / x86_64  OK    OK    WARNINGS  UNNEEDED, same version is already published
palomino3Windows Server 2022 Datacenter / x64  OK    OK    OK    OK  UNNEEDED, same version is already published
Package 95/134HostnameOS / ArchINSTALLBUILDCHECKBUILD BIN
QuasR 1.39.2  (landing page)
Michael Stadler
git_last_commit: cd52416
git_last_commit_date: 2023-01-27 11:17:31 -0400
nebbiolo1Linux (Ubuntu 22.04.1 LTS) / x86_64  OK    OK    WARNINGS  UNNEEDED, same version is already published
palomino3Windows Server 2022 Datacenter / x64  OK    OK    OK    OK  UNNEEDED, same version is already published
Package 96/134HostnameOS / ArchINSTALLBUILDCHECKBUILD BIN
RareVariantVis 2.27.0  (landing page)
Tomasz Stokowy
git_last_commit: cf766a6
git_last_commit_date: 2022-11-01 11:11:46 -0400
nebbiolo1Linux (Ubuntu 22.04.1 LTS) / x86_64  OK    OK    OK  UNNEEDED, same version is already published
palomino3Windows Server 2022 Datacenter / x64  OK    OK    OK    OK  UNNEEDED, same version is already published
Package 97/134HostnameOS / ArchINSTALLBUILDCHECKBUILD BIN
RCAS 1.25.0  (landing page)
Bora Uyar
git_last_commit: 3ba35cb
git_last_commit_date: 2022-11-01 11:14:07 -0400
nebbiolo1Linux (Ubuntu 22.04.1 LTS) / x86_64  OK    OK    ERROR  
palomino3Windows Server 2022 Datacenter / x64  OK    OK    OK    OK  UNNEEDED, same version is already published
Package 98/134HostnameOS / ArchINSTALLBUILDCHECKBUILD BIN
rCGH 1.29.0  (landing page)
Frederic Commo
git_last_commit: f152ae6
git_last_commit_date: 2022-11-01 11:11:54 -0400
nebbiolo1Linux (Ubuntu 22.04.1 LTS) / x86_64  OK    OK    OK  UNNEEDED, same version is already published
palomino3Windows Server 2022 Datacenter / x64  OK    OK    OK    OK  UNNEEDED, same version is already published
Package 99/134HostnameOS / ArchINSTALLBUILDCHECKBUILD BIN
recoup 1.27.0  (landing page)
Panagiotis Moulos
git_last_commit: 8e93a69
git_last_commit_date: 2022-11-01 11:13:20 -0400
nebbiolo1Linux (Ubuntu 22.04.1 LTS) / x86_64  OK    OK    OK  UNNEEDED, same version is already published
palomino3Windows Server 2022 Datacenter / x64  OK    OK    OK    OK  UNNEEDED, same version is already published
Package 100/134HostnameOS / ArchINSTALLBUILDCHECKBUILD BIN
RgnTX 1.1.0  (landing page)
Yue Wang
git_last_commit: cbac260
git_last_commit_date: 2022-11-01 11:27:09 -0400
nebbiolo1Linux (Ubuntu 22.04.1 LTS) / x86_64  OK    OK    OK  UNNEEDED, same version is already published
palomino3Windows Server 2022 Datacenter / x64  OK    OK    OK    OK  UNNEEDED, same version is already published
Package 101/134HostnameOS / ArchINSTALLBUILDCHECKBUILD BIN
rGREAT 2.1.6  (landing page)
Zuguang Gu
git_last_commit: 5ad0699
git_last_commit_date: 2023-03-25 12:13:23 -0400
nebbiolo1Linux (Ubuntu 22.04.1 LTS) / x86_64  OK    ERROR  skipped
palomino3Windows Server 2022 Datacenter / x64  OK    ERROR  skippedskipped
Package 102/134HostnameOS / ArchINSTALLBUILDCHECKBUILD BIN
Rhisat2 1.15.0  (landing page)
Charlotte Soneson
git_last_commit: e092493
git_last_commit_date: 2022-12-09 03:48:41 -0400
nebbiolo1Linux (Ubuntu 22.04.1 LTS) / x86_64  OK    OK    WARNINGS  UNNEEDED, same version is already published
palomino3Windows Server 2022 Datacenter / x64  OK    OK    WARNINGS    OK  UNNEEDED, same version is already published
Package 103/134HostnameOS / ArchINSTALLBUILDCHECKBUILD BIN
RiboCrypt 1.5.0  (landing page)
Michal Swirski
git_last_commit: 4766276
git_last_commit_date: 2022-11-01 11:26:05 -0400
nebbiolo1Linux (Ubuntu 22.04.1 LTS) / x86_64  OK    OK    OK  UNNEEDED, same version is already published
palomino3Windows Server 2022 Datacenter / x64  OK    OK    OK    OK  UNNEEDED, same version is already published
Package 104/134HostnameOS / ArchINSTALLBUILDCHECKBUILD BIN
RiboDiPA 1.7.0  (landing page)
Ji-Ping Wang
git_last_commit: bc4e531
git_last_commit_date: 2022-11-01 11:23:51 -0400
nebbiolo1Linux (Ubuntu 22.04.1 LTS) / x86_64  OK    OK    OK  UNNEEDED, same version is already published
palomino3Windows Server 2022 Datacenter / x64  OK    OK    OK    OK  UNNEEDED, same version is already published
Package 105/134HostnameOS / ArchINSTALLBUILDCHECKBUILD BIN
RiboProfiling 1.29.0  (landing page)
A. Popa
git_last_commit: fadaf0d
git_last_commit_date: 2022-11-01 11:12:25 -0400
nebbiolo1Linux (Ubuntu 22.04.1 LTS) / x86_64  OK    OK    WARNINGS  UNNEEDED, same version is already published
palomino3Windows Server 2022 Datacenter / x64  OK    OK    WARNINGS    OK  UNNEEDED, same version is already published
Package 106/134HostnameOS / ArchINSTALLBUILDCHECKBUILD BIN
ribosomeProfilingQC 1.11.1  (landing page)
Jianhong Ou
git_last_commit: 04d805b
git_last_commit_date: 2023-03-16 13:52:00 -0400
nebbiolo1Linux (Ubuntu 22.04.1 LTS) / x86_64  OK    OK    OK  UNNEEDED, same version is already published
palomino3Windows Server 2022 Datacenter / x64  OK    OK    OK    OK  UNNEEDED, same version is already published
Package 107/134HostnameOS / ArchINSTALLBUILDCHECKBUILD BIN
RITAN 1.23.0  (landing page)
Michael Zimmermann
git_last_commit: 61c87e5
git_last_commit_date: 2022-11-01 11:15:42 -0400
nebbiolo1Linux (Ubuntu 22.04.1 LTS) / x86_64  OK    OK    WARNINGS  UNNEEDED, same version is already published
palomino3Windows Server 2022 Datacenter / x64  OK    OK    WARNINGS    OK  UNNEEDED, same version is already published
Package 108/134HostnameOS / ArchINSTALLBUILDCHECKBUILD BIN
RLSeq 1.5.2  (landing page)
Henry Miller
git_last_commit: 81d0655
git_last_commit_date: 2022-11-07 12:19:57 -0400
nebbiolo1Linux (Ubuntu 22.04.1 LTS) / x86_64  OK    OK    OK  UNNEEDED, same version is already published
palomino3Windows Server 2022 Datacenter / x64  OK    OK    OK    OK  UNNEEDED, same version is already published
Package 109/134HostnameOS / ArchINSTALLBUILDCHECKBUILD BIN
RNAmodR 1.13.0  (landing page)
Felix G.M. Ernst
git_last_commit: c2d06da
git_last_commit_date: 2022-11-01 11:20:02 -0400
nebbiolo1Linux (Ubuntu 22.04.1 LTS) / x86_64  OK    OK    OK  UNNEEDED, same version is already published
palomino3Windows Server 2022 Datacenter / x64  OK    OK    OK    OK  UNNEEDED, same version is already published
Package 110/134HostnameOS / ArchINSTALLBUILDCHECKBUILD BIN
scanMiRApp 1.5.0  (landing page)
Pierre-Luc Germain
git_last_commit: aa48c69
git_last_commit_date: 2022-11-01 11:25:25 -0400
nebbiolo1Linux (Ubuntu 22.04.1 LTS) / x86_64  OK    OK    WARNINGS  UNNEEDED, same version is already published
palomino3Windows Server 2022 Datacenter / x64  OK    OK    WARNINGS    OK  UNNEEDED, same version is already published
Package 111/134HostnameOS / ArchINSTALLBUILDCHECKBUILD BIN
scruff 1.17.0  (landing page)
Zhe Wang
git_last_commit: ee6a5fa
git_last_commit_date: 2022-11-01 11:18:08 -0400
nebbiolo1Linux (Ubuntu 22.04.1 LTS) / x86_64  OK    OK    OK  UNNEEDED, same version is already published
palomino3Windows Server 2022 Datacenter / x64  OK    OK    OK    OK  UNNEEDED, same version is already published
Package 112/134HostnameOS / ArchINSTALLBUILDCHECKBUILD BIN
SGSeq 1.33.0  (landing page)
Leonard Goldstein
git_last_commit: e5f17df
git_last_commit_date: 2022-11-01 11:10:36 -0400
nebbiolo1Linux (Ubuntu 22.04.1 LTS) / x86_64  OK    OK    OK  UNNEEDED, same version is already published
palomino3Windows Server 2022 Datacenter / x64  OK    OK    OK    OK  UNNEEDED, same version is already published
Package 113/134HostnameOS / ArchINSTALLBUILDCHECKBUILD BIN
sitadela 1.7.0  (landing page)
Panagiotis Moulos
git_last_commit: 23f5097
git_last_commit_date: 2022-11-01 11:24:14 -0400
nebbiolo1Linux (Ubuntu 22.04.1 LTS) / x86_64  OK    OK    ERROR  
palomino3Windows Server 2022 Datacenter / x64  OK    OK    OK    OK  UNNEEDED, same version is already published
Package 114/134HostnameOS / ArchINSTALLBUILDCHECKBUILD BIN
spatzie 1.5.0  (landing page)
Jennifer Hammelman
git_last_commit: e8d94fb
git_last_commit_date: 2022-11-01 11:25:25 -0400
nebbiolo1Linux (Ubuntu 22.04.1 LTS) / x86_64  ERROR    ERROR  skipped
palomino3Windows Server 2022 Datacenter / x64  ERROR    ERROR  skippedskipped
Package 115/134HostnameOS / ArchINSTALLBUILDCHECKBUILD BIN
SplicingGraphs 1.39.0  (landing page)
H. Pagès
git_last_commit: 547459a
git_last_commit_date: 2022-11-01 11:08:13 -0400
nebbiolo1Linux (Ubuntu 22.04.1 LTS) / x86_64  OK    OK    ERROR  
palomino3Windows Server 2022 Datacenter / x64  OK    OK    ERROR    OK  
Package 116/134HostnameOS / ArchINSTALLBUILDCHECKBUILD BIN
SPLINTER 1.25.0  (landing page)
Diana Low
git_last_commit: a01a9bb
git_last_commit_date: 2022-11-01 11:14:31 -0400
nebbiolo1Linux (Ubuntu 22.04.1 LTS) / x86_64  OK    OK    OK  UNNEEDED, same version is already published
palomino3Windows Server 2022 Datacenter / x64  OK    OK    WARNINGS    OK  UNNEEDED, same version is already published
Package 117/134HostnameOS / ArchINSTALLBUILDCHECKBUILD BIN
srnadiff 1.19.2  (landing page)
Zytnicki Matthias
git_last_commit: e580d52
git_last_commit_date: 2023-03-06 15:35:41 -0400
nebbiolo1Linux (Ubuntu 22.04.1 LTS) / x86_64  OK    OK    WARNINGS  NO, package depends on 'baySeq' which is not available
palomino3Windows Server 2022 Datacenter / x64  OK    OK    WARNINGS    OK  NO, package depends on 'baySeq' which is not available
Package 118/134HostnameOS / ArchINSTALLBUILDCHECKBUILD BIN
StructuralVariantAnnotation 1.15.0  (landing page)
Daniel Cameron
git_last_commit: e750b49
git_last_commit_date: 2023-01-28 21:51:31 -0400
nebbiolo1Linux (Ubuntu 22.04.1 LTS) / x86_64  OK    OK    OK  UNNEEDED, same version is already published
palomino3Windows Server 2022 Datacenter / x64  OK    OK    OK    OK  UNNEEDED, same version is already published
Package 119/134HostnameOS / ArchINSTALLBUILDCHECKBUILD BIN
svaNUMT 1.5.0  (landing page)
Ruining Dong
git_last_commit: 95f8ec8
git_last_commit_date: 2022-11-01 11:25:17 -0400
nebbiolo1Linux (Ubuntu 22.04.1 LTS) / x86_64  OK    OK    OK  UNNEEDED, same version is already published
palomino3Windows Server 2022 Datacenter / x64  OK    OK    OK    OK  UNNEEDED, same version is already published
Package 120/134HostnameOS / ArchINSTALLBUILDCHECKBUILD BIN
svaRetro 1.5.0  (landing page)
Ruining Dong
git_last_commit: afe429d
git_last_commit_date: 2022-11-01 11:25:33 -0400
nebbiolo1Linux (Ubuntu 22.04.1 LTS) / x86_64  OK    OK    OK  UNNEEDED, same version is already published
palomino3Windows Server 2022 Datacenter / x64  OK    OK    OK    OK  UNNEEDED, same version is already published
Package 121/134HostnameOS / ArchINSTALLBUILDCHECKBUILD BIN
TAPseq 1.11.0  (landing page)
Andreas R. Gschwind
git_last_commit: 49fa54c
git_last_commit_date: 2022-11-01 11:21:30 -0400
nebbiolo1Linux (Ubuntu 22.04.1 LTS) / x86_64  OK    OK    WARNINGS  UNNEEDED, same version is already published
palomino3Windows Server 2022 Datacenter / x64  OK    OK    WARNINGS    OK  UNNEEDED, same version is already published
Package 122/134HostnameOS / ArchINSTALLBUILDCHECKBUILD BIN
TCGAutils 1.19.2  (landing page)
Marcel Ramos
git_last_commit: a6a632e
git_last_commit_date: 2023-02-13 17:53:43 -0400
nebbiolo1Linux (Ubuntu 22.04.1 LTS) / x86_64  OK    OK    OK  UNNEEDED, same version is already published
palomino3Windows Server 2022 Datacenter / x64  OK    OK    OK    OK  UNNEEDED, same version is already published
Package 123/134HostnameOS / ArchINSTALLBUILDCHECKBUILD BIN
TFEA.ChIP 1.19.0  (landing page)
Laura Puente Santamaría
git_last_commit: 84974fd
git_last_commit_date: 2022-11-01 11:16:54 -0400
nebbiolo1Linux (Ubuntu 22.04.1 LTS) / x86_64  OK    OK    ERROR  
palomino3Windows Server 2022 Datacenter / x64  OK    OK    OK    OK  UNNEEDED, same version is already published
Package 124/134HostnameOS / ArchINSTALLBUILDCHECKBUILD BIN
trackViewer 1.35.5  (landing page)
Jianhong Ou
git_last_commit: 23902fd
git_last_commit_date: 2023-03-22 17:17:57 -0400
nebbiolo1Linux (Ubuntu 22.04.1 LTS) / x86_64  OK    OK    OK  UNNEEDED, same version is already published
palomino3Windows Server 2022 Datacenter / x64  ERROR    ERROR  skippedskipped
Package 125/134HostnameOS / ArchINSTALLBUILDCHECKBUILD BIN
transcriptR 1.27.0  (landing page)
Armen R. Karapetyan
git_last_commit: 8fb7855
git_last_commit_date: 2022-11-01 11:12:39 -0400
nebbiolo1Linux (Ubuntu 22.04.1 LTS) / x86_64  OK    OK    OK  UNNEEDED, same version is already published
palomino3Windows Server 2022 Datacenter / x64  OK    OK    OK    OK  UNNEEDED, same version is already published
Package 126/134HostnameOS / ArchINSTALLBUILDCHECKBUILD BIN
TRESS 1.5.0  (landing page)
Zhenxing Guo
git_last_commit: 3f6764f
git_last_commit_date: 2023-02-02 12:10:15 -0400
nebbiolo1Linux (Ubuntu 22.04.1 LTS) / x86_64  OK    OK    OK  UNNEEDED, same version is already published
palomino3Windows Server 2022 Datacenter / x64  OK    ERROR  skippedskipped
Package 127/134HostnameOS / ArchINSTALLBUILDCHECKBUILD BIN
txcutr 1.5.0  (landing page)
Mervin Fansler
git_last_commit: 623d27c
git_last_commit_date: 2022-11-01 11:26:04 -0400
nebbiolo1Linux (Ubuntu 22.04.1 LTS) / x86_64  OK    OK    OK  UNNEEDED, same version is already published
palomino3Windows Server 2022 Datacenter / x64  OK    OK    OK    OK  UNNEEDED, same version is already published
Package 128/134HostnameOS / ArchINSTALLBUILDCHECKBUILD BIN
tximeta 1.17.2  (landing page)
Michael Love
git_last_commit: 5213faf
git_last_commit_date: 2023-02-12 23:18:53 -0400
nebbiolo1Linux (Ubuntu 22.04.1 LTS) / x86_64  OK    OK    OK  UNNEEDED, same version is already published
palomino3Windows Server 2022 Datacenter / x64  OK    OK    OK    OK  UNNEEDED, same version is already published
Package 129/134HostnameOS / ArchINSTALLBUILDCHECKBUILD BIN
Ularcirc 1.17.0  (landing page)
David Humphreys
git_last_commit: 2ce7fe1
git_last_commit_date: 2022-11-01 11:17:58 -0400
nebbiolo1Linux (Ubuntu 22.04.1 LTS) / x86_64  OK    OK    WARNINGS  UNNEEDED, same version is already published
palomino3Windows Server 2022 Datacenter / x64  OK    OK    WARNINGS    OK  UNNEEDED, same version is already published
Package 130/134HostnameOS / ArchINSTALLBUILDCHECKBUILD BIN
UMI4Cats 1.9.1  (landing page)
Mireia Ramos-Rodriguez
git_last_commit: 45bc74f
git_last_commit_date: 2022-12-15 07:04:14 -0400
nebbiolo1Linux (Ubuntu 22.04.1 LTS) / x86_64  OK    OK    OK  UNNEEDED, same version is already published
palomino3Windows Server 2022 Datacenter / x64  OK    OK    OK    OK  UNNEEDED, same version is already published
Package 131/134HostnameOS / ArchINSTALLBUILDCHECKBUILD BIN
VariantAnnotation 1.45.1  (landing page)
Bioconductor Package Maintainer
git_last_commit: d006bb5
git_last_commit_date: 2023-02-14 16:02:56 -0400
nebbiolo1Linux (Ubuntu 22.04.1 LTS) / x86_64  OK    OK    WARNINGS  UNNEEDED, same version is already published
palomino3Windows Server 2022 Datacenter / x64  OK    OK    WARNINGS    OK  UNNEEDED, same version is already published
Package 132/134HostnameOS / ArchINSTALLBUILDCHECKBUILD BIN
VariantFiltering 1.35.0  (landing page)
Robert Castelo
git_last_commit: 7638b6f
git_last_commit_date: 2022-11-01 11:09:33 -0400
nebbiolo1Linux (Ubuntu 22.04.1 LTS) / x86_64  OK    OK    WARNINGS  UNNEEDED, same version is already published
palomino3Windows Server 2022 Datacenter / x64  OK    OK    WARNINGS    OK  UNNEEDED, same version is already published
Package 133/134HostnameOS / ArchINSTALLBUILDCHECKBUILD BIN
VariantTools 1.41.0  (landing page)
Michael Lawrence
git_last_commit: d61fc40
git_last_commit_date: 2022-11-01 11:07:33 -0400
nebbiolo1Linux (Ubuntu 22.04.1 LTS) / x86_64  OK    OK    ERROR  
palomino3Windows Server 2022 Datacenter / x64  OK    OK    WARNINGS    OK  UNNEEDED, same version is already published
Package 134/134HostnameOS / ArchINSTALLBUILDCHECKBUILD BIN
wavClusteR 2.33.0  (landing page)
Federico Comoglio
git_last_commit: a67eb42
git_last_commit_date: 2022-11-01 11:09:47 -0400
nebbiolo1Linux (Ubuntu 22.04.1 LTS) / x86_64  OK    OK    OK  UNNEEDED, same version is already published
palomino3Windows Server 2022 Datacenter / x64  OK    OK    OK    OK  UNNEEDED, same version is already published