Back to Multiple platform build/check report for BioC 3.17:   simplified   long
ABCDEFGHIJKLMNOPQ[R]STUVWXYZ

This page was generated on 2023-06-07 11:04:52 -0400 (Wed, 07 Jun 2023).

HostnameOSArch (*)R versionInstalled pkgs
nebbiolo1Linux (Ubuntu 22.04.2 LTS)x86_644.3.0 RC (2023-04-13 r84269) -- "Already Tomorrow" 4628
palomino3Windows Server 2022 Datacenterx644.3.0 RC (2023-04-13 r84269 ucrt) -- "Already Tomorrow" 4379
merida1macOS 12.6.4 Montereyx86_644.3.0 RC (2023-04-13 r84257) -- "Already Tomorrow" 4385
Click on any hostname to see more info about the system (e.g. compilers)      (*) as reported by 'uname -p', except on Windows and Mac OS X

All results for package ReportingTools


To the developers/maintainers of the ReportingTools package:
- Allow up to 24 hours (and sometimes 48 hours) for your latest push to git@git.bioconductor.org:packages/ReportingTools.git to reflect on this report. See Troubleshooting Build Report for more information.
- Use the following Renviron settings to reproduce errors and warnings.
- If 'R CMD check' started to fail recently on the Linux builder(s) over a missing dependency, add the missing dependency to 'Suggests:' in your DESCRIPTION file. See Renviron.bioc for more information.

raw results

Package 1685/2229HostnameOS / ArchINSTALLBUILDCHECKBUILD BIN
ReportingTools 2.40.0  (landing page)
Jason A. Hackney , Gabriel Becker
Snapshot Date: 2023-06-06 14:00:07 -0400 (Tue, 06 Jun 2023)
git_url: https://git.bioconductor.org/packages/ReportingTools
git_branch: RELEASE_3_17
git_last_commit: 808af36
git_last_commit_date: 2023-04-25 10:24:14 -0400 (Tue, 25 Apr 2023)
nebbiolo1Linux (Ubuntu 22.04.2 LTS) / x86_64  OK    ERROR  skipped
palomino3Windows Server 2022 Datacenter / x64  OK    ERROR  skippedskipped
merida1macOS 12.6.4 Monterey / x86_64  OK    ERROR  skippedskipped

Results for Bioconductor software packages that depend directly on package ReportingTools

QUICK STATSOS / ArchINSTALLBUILDCHECKBUILD BIN
nebbiolo1Linux (Ubuntu 22.04.2 LTS) / x86_64
001
001
0001
palomino3Windows Server 2022 Datacenter / x64
001
001
0001
001
merida1macOS 12.6.4 Monterey / x86_64
001
001
0001
001
Package 1/1HostnameOS / ArchINSTALLBUILDCHECKBUILD BIN
affycoretools 1.72.0  (landing page)
James W. MacDonald
git_last_commit: 229ae09
git_last_commit_date: 2023-04-25 09:42:43 -0400
nebbiolo1Linux (Ubuntu 22.04.2 LTS) / x86_64  OK    OK    OK  UNNEEDED, same version is already published
palomino3Windows Server 2022 Datacenter / x64  OK    OK    OK    OK  UNNEEDED, same version is already published
merida1macOS 12.6.4 Monterey / x86_64  OK    OK    OK    OK  NO, package depends on 'ReportingTools' which is not available