Back to Multiple platform build/check report for BioC 3.17:   simplified   long
ABCDEFGHIJKLMNOPQR[S]TUVWXYZ

This page was generated on 2023-06-05 11:03:41 -0400 (Mon, 05 Jun 2023).

HostnameOSArch (*)R versionInstalled pkgs
nebbiolo1Linux (Ubuntu 22.04.2 LTS)x86_644.3.0 RC (2023-04-13 r84269) -- "Already Tomorrow" 4623
palomino3Windows Server 2022 Datacenterx644.3.0 RC (2023-04-13 r84269 ucrt) -- "Already Tomorrow" 4374
merida1macOS 12.6.4 Montereyx86_644.3.0 RC (2023-04-13 r84257) -- "Already Tomorrow" 4332
Click on any hostname to see more info about the system (e.g. compilers)      (*) as reported by 'uname -p', except on Windows and Mac OS X

All results for package snpStats


To the developers/maintainers of the snpStats package:
- Allow up to 24 hours (and sometimes 48 hours) for your latest push to git@git.bioconductor.org:packages/snpStats.git to reflect on this report. See Troubleshooting Build Report for more information.

- Use the following Renviron settings to reproduce errors and warnings.

Note: If "R CMD check" recently failed on the Linux builder over a missing dependency, add the missing dependency to "Suggests" in your DESCRIPTION file. See the Renviron.bioc for details.

raw results

Package 1957/2229HostnameOS / ArchINSTALLBUILDCHECKBUILD BIN
snpStats 1.50.0  (landing page)
David Clayton
Snapshot Date: 2023-06-04 14:00:14 -0400 (Sun, 04 Jun 2023)
git_url: https://git.bioconductor.org/packages/snpStats
git_branch: RELEASE_3_17
git_last_commit: b6d42f9
git_last_commit_date: 2023-04-25 09:46:27 -0400 (Tue, 25 Apr 2023)
nebbiolo1Linux (Ubuntu 22.04.2 LTS) / x86_64  OK    OK    WARNINGS  UNNEEDED, same version is already published
palomino3Windows Server 2022 Datacenter / x64  OK    OK    WARNINGS    OK  UNNEEDED, same version is already published
merida1macOS 12.6.4 Monterey / x86_64  OK    OK    WARNINGS    NA  

Results for Bioconductor software packages that depend directly on package snpStats

QUICK STATSOS / ArchINSTALLBUILDCHECKBUILD BIN
nebbiolo1Linux (Ubuntu 22.04.2 LTS) / x86_64
008
008
0008
palomino3Windows Server 2022 Datacenter / x64
008
008
0008
008
merida1macOS 12.6.4 Monterey / x86_64
008
008
0008
002
Package 1/8HostnameOS / ArchINSTALLBUILDCHECKBUILD BIN
cardelino 1.2.0  (landing page)
Davis McCarthy
git_last_commit: ec1afd9
git_last_commit_date: 2023-04-25 11:40:59 -0400
nebbiolo1Linux (Ubuntu 22.04.2 LTS) / x86_64  OK    OK    OK  UNNEEDED, same version is already published
palomino3Windows Server 2022 Datacenter / x64  OK    OK    OK    OK  UNNEEDED, same version is already published
merida1macOS 12.6.4 Monterey / x86_64  OK    OK    OK    OK  UNNEEDED, same version is already published
Package 2/8HostnameOS / ArchINSTALLBUILDCHECKBUILD BIN
DExMA 1.8.0  (landing page)
Juan Antonio Villatoro-GarcĂ­a
git_last_commit: f837994
git_last_commit_date: 2023-04-25 11:29:25 -0400
nebbiolo1Linux (Ubuntu 22.04.2 LTS) / x86_64  OK    OK    OK  UNNEEDED, same version is already published
palomino3Windows Server 2022 Datacenter / x64  OK    OK    OK    OK  UNNEEDED, same version is already published
merida1macOS 12.6.4 Monterey / x86_64  OK    OK    OK    OK  UNNEEDED, same version is already published
Package 3/8HostnameOS / ArchINSTALLBUILDCHECKBUILD BIN
GeneGeneInteR 1.26.0  (landing page)
Mathieu Emily
git_last_commit: df80f33
git_last_commit_date: 2023-04-25 10:48:27 -0400
nebbiolo1Linux (Ubuntu 22.04.2 LTS) / x86_64  OK    OK    OK  UNNEEDED, same version is already published
palomino3Windows Server 2022 Datacenter / x64  OK    OK    OK    OK  UNNEEDED, same version is already published
merida1macOS 12.6.4 Monterey / x86_64  OK    OK    OK    NA  
Package 4/8HostnameOS / ArchINSTALLBUILDCHECKBUILD BIN
gwascat 2.32.0  (landing page)
VJ Carey
git_last_commit: 8c1533d
git_last_commit_date: 2023-04-25 10:22:24 -0400
nebbiolo1Linux (Ubuntu 22.04.2 LTS) / x86_64  OK    OK    OK  UNNEEDED, same version is already published
palomino3Windows Server 2022 Datacenter / x64  OK    OK    OK    OK  UNNEEDED, same version is already published
merida1macOS 12.6.4 Monterey / x86_64  OK    OK    OK    NA  
Package 5/8HostnameOS / ArchINSTALLBUILDCHECKBUILD BIN
MAGAR 1.8.0  (landing page)
Michael Scherer
git_last_commit: 4db8511
git_last_commit_date: 2023-04-25 11:26:54 -0400
nebbiolo1Linux (Ubuntu 22.04.2 LTS) / x86_64  OK    OK    OK  UNNEEDED, same version is already published
palomino3Windows Server 2022 Datacenter / x64  OK    OK    OK    OK  UNNEEDED, same version is already published
merida1macOS 12.6.4 Monterey / x86_64  OK    OK    OK    NA  
Package 6/8HostnameOS / ArchINSTALLBUILDCHECKBUILD BIN
martini 1.20.0  (landing page)
Hector Climente-Gonzalez
git_last_commit: 0fae9f3
git_last_commit_date: 2023-04-25 10:59:34 -0400
nebbiolo1Linux (Ubuntu 22.04.2 LTS) / x86_64  OK    OK    OK  UNNEEDED, same version is already published
palomino3Windows Server 2022 Datacenter / x64  OK    OK    OK    OK  UNNEEDED, same version is already published
merida1macOS 12.6.4 Monterey / x86_64  OK    OK    OK    NA  
Package 7/8HostnameOS / ArchINSTALLBUILDCHECKBUILD BIN
RVS 1.22.0  (landing page)
Thomas Sherman
git_last_commit: 258a6ba
git_last_commit_date: 2023-04-25 10:55:38 -0400
nebbiolo1Linux (Ubuntu 22.04.2 LTS) / x86_64  OK    OK    OK  UNNEEDED, same version is already published
palomino3Windows Server 2022 Datacenter / x64  OK    OK    OK    OK  UNNEEDED, same version is already published
merida1macOS 12.6.4 Monterey / x86_64  OK    OK    OK    NA  
Package 8/8HostnameOS / ArchINSTALLBUILDCHECKBUILD BIN
scoreInvHap 1.22.0  (landing page)
Dolors Pelegri-Siso
git_last_commit: 28a0129
git_last_commit_date: 2023-04-25 10:54:55 -0400
nebbiolo1Linux (Ubuntu 22.04.2 LTS) / x86_64  OK    OK    OK  UNNEEDED, same version is already published
palomino3Windows Server 2022 Datacenter / x64  OK    OK    OK    OK  UNNEEDED, same version is already published
merida1macOS 12.6.4 Monterey / x86_64  OK    OK    OK    NA