Back to Multiple platform build/check report for BioC 3.17:   simplified   long
ABCDEFGHIJKL[M]NOPQRSTUVWXYZ

This page was generated on 2023-03-31 11:03:11 -0400 (Fri, 31 Mar 2023).

HostnameOSArch (*)R versionInstalled pkgs
nebbiolo1Linux (Ubuntu 22.04.1 LTS)x86_64R Under development (unstable) (2023-03-16 r83996) -- "Unsuffered Consequences" 4547
palomino3Windows Server 2022 Datacenterx64R Under development (unstable) (2023-03-15 r83984 ucrt) -- "Unsuffered Consequences" 4308
Click on any hostname to see more info about the system (e.g. compilers)      (*) as reported by 'uname -p', except on Windows and Mac OS X

BUILD results for MethCP on palomino3


To the developers/maintainers of the MethCP package:
- Allow up to 24 hours (and sometimes 48 hours) for your latest push to git@git.bioconductor.org:packages/MethCP.git to reflect on this report. See Troubleshooting Build Report for more information.

- Use the following Renviron settings to reproduce errors and warnings.

Note: If "R CMD check" recently failed on the Linux builder over a missing dependency, add the missing dependency to "Suggests" in your DESCRIPTION file. See the Renviron.bioc for details.

raw results

Package 1172/2195HostnameOS / ArchINSTALLBUILDCHECKBUILD BIN
MethCP 1.13.1  (landing page)
Boying Gong
Snapshot Date: 2023-03-30 14:00:16 -0400 (Thu, 30 Mar 2023)
git_url: https://git.bioconductor.org/packages/MethCP
git_branch: devel
git_last_commit: 2bc4bbb
git_last_commit_date: 2023-03-30 12:46:14 -0400 (Thu, 30 Mar 2023)
nebbiolo1Linux (Ubuntu 22.04.1 LTS) / x86_64  OK    OK    ERROR  
palomino3Windows Server 2022 Datacenter / x64  OK    OK    ERROR    OK  

Summary

Package: MethCP
Version: 1.13.1
Command: chmod a+r MethCP -R && F:\biocbuild\bbs-3.17-bioc\R\bin\R.exe CMD build --keep-empty-dirs --no-resave-data MethCP
StartedAt: 2023-03-30 20:01:06 -0400 (Thu, 30 Mar 2023)
EndedAt: 2023-03-30 20:07:35 -0400 (Thu, 30 Mar 2023)
EllapsedTime: 389.2 seconds
RetCode: 0
Status:   OK  
PackageFile: MethCP_1.13.1.tar.gz
PackageFileSize: 4.384 MiB

Command output

##############################################################################
##############################################################################
###
### Running command:
###
###   chmod a+r MethCP -R && F:\biocbuild\bbs-3.17-bioc\R\bin\R.exe CMD build --keep-empty-dirs --no-resave-data MethCP
###
##############################################################################
##############################################################################


* checking for file 'MethCP/DESCRIPTION' ... OK
* preparing 'MethCP':
* checking DESCRIPTION meta-information ... OK
* installing the package to build vignettes
* creating vignettes ... OK
* checking for LF line-endings in source and make files and shell scripts
* checking for empty or unneeded directories
Omitted 'LazyData' from DESCRIPTION
* building 'MethCP_1.13.1.tar.gz'