Back to Build/check report for BioC 3.17: simplified long |
|
This page was generated on 2023-03-30 12:33:45 -0400 (Thu, 30 Mar 2023).
Hostname | OS | Arch (*) | R version | Installed pkgs |
---|---|---|---|---|
nebbiolo1 | Linux (Ubuntu 22.04.1 LTS) | x86_64 | R Under development (unstable) (2023-03-16 r83996) -- "Unsuffered Consequences" | 4547 |
Click on any hostname to see more info about the system (e.g. compilers) (*) as reported by 'uname -p', except on Windows and Mac OS X |
To the developers/maintainers of the GenomicDistributions package: - Allow up to 24 hours (and sometimes 48 hours) for your latest push to git@git.bioconductor.org:packages/GenomicDistributions.git to reflect on this report. See Troubleshooting Build Report for more information. - Use the following Renviron settings to reproduce errors and warnings. Note: If "R CMD check" recently failed on the Linux builder over a missing dependency, add the missing dependency to "Suggests" in your DESCRIPTION file. See the Renviron.bioc for details. |
Package 791/2195 | Hostname | OS / Arch | INSTALL | BUILD | CHECK | BUILD BIN | ||||||||
GenomicDistributions 1.7.0 (landing page) Kristyna Kupkova
| nebbiolo1 | Linux (Ubuntu 22.04.1 LTS) / x86_64 | OK | OK | OK | ![]() | ||||||||
Package: GenomicDistributions |
Version: 1.7.0 |
Command: /home/biocbuild/bbs-3.17-bioc/R/bin/R CMD check --install=check:GenomicDistributions.install-out.txt --library=/home/biocbuild/bbs-3.17-bioc/R/site-library --timings GenomicDistributions_1.7.0.tar.gz |
StartedAt: 2023-03-29 20:29:21 -0400 (Wed, 29 Mar 2023) |
EndedAt: 2023-03-29 20:33:00 -0400 (Wed, 29 Mar 2023) |
EllapsedTime: 219.4 seconds |
RetCode: 0 |
Status: OK |
CheckDir: GenomicDistributions.Rcheck |
Warnings: 0 |
############################################################################## ############################################################################## ### ### Running command: ### ### /home/biocbuild/bbs-3.17-bioc/R/bin/R CMD check --install=check:GenomicDistributions.install-out.txt --library=/home/biocbuild/bbs-3.17-bioc/R/site-library --timings GenomicDistributions_1.7.0.tar.gz ### ############################################################################## ############################################################################## * using log directory ‘/home/biocbuild/bbs-3.17-bioc/meat/GenomicDistributions.Rcheck’ * using R Under development (unstable) (2023-03-16 r83996) * using platform: x86_64-pc-linux-gnu (64-bit) * R was compiled by gcc (Ubuntu 11.3.0-1ubuntu1~22.04) 11.3.0 GNU Fortran (Ubuntu 11.3.0-1ubuntu1~22.04) 11.3.0 * running under: Ubuntu 22.04.2 LTS * using session charset: UTF-8 * checking for file ‘GenomicDistributions/DESCRIPTION’ ... OK * this is package ‘GenomicDistributions’ version ‘1.7.0’ * package encoding: UTF-8 * checking package namespace information ... OK * checking package dependencies ... OK * checking if this is a source package ... OK * checking if there is a namespace ... OK * checking for hidden files and directories ... OK * checking for portable file names ... OK * checking for sufficient/correct file permissions ... OK * checking whether package ‘GenomicDistributions’ can be installed ... OK * checking installed package size ... OK * checking package directory ... OK * checking ‘build’ directory ... OK * checking DESCRIPTION meta-information ... OK * checking top-level files ... OK * checking for left-over files ... OK * checking index information ... OK * checking package subdirectories ... OK * checking R files for non-ASCII characters ... OK * checking R files for syntax errors ... OK * checking whether the package can be loaded ... OK * checking whether the package can be loaded with stated dependencies ... OK * checking whether the package can be unloaded cleanly ... OK * checking whether the namespace can be loaded with stated dependencies ... OK * checking whether the namespace can be unloaded cleanly ... OK * checking loading without being on the library search path ... OK * checking dependencies in R code ... OK * checking S3 generic/method consistency ... OK * checking replacement functions ... OK * checking foreign function calls ... OK * checking R code for possible problems ... OK * checking Rd files ... OK * checking Rd metadata ... OK * checking Rd cross-references ... OK * checking for missing documentation entries ... OK * checking for code/documentation mismatches ... OK * checking Rd \usage sections ... OK * checking Rd contents ... OK * checking for unstated dependencies in examples ... OK * checking contents of ‘data’ directory ... OK * checking data for non-ASCII characters ... OK * checking LazyData ... OK * checking data for ASCII and uncompressed saves ... OK * checking files in ‘vignettes’ ... OK * checking examples ... OK Examples with CPU (user + system) or elapsed time > 5s user system elapsed getGeneModelsFromGTF 6.252 0.38 6.632 * checking for unstated dependencies in ‘tests’ ... OK * checking tests ... Running ‘testthat.R’ OK * checking for unstated dependencies in vignettes ... OK * checking package vignettes in ‘inst/doc’ ... OK * checking running R code from vignettes ... ‘full-power.Rmd’ using ‘UTF-8’... OK ‘intro.Rmd’ using ‘UTF-8’... OK NONE * checking re-building of vignette outputs ... OK * checking PDF version of manual ... OK * DONE Status: OK
GenomicDistributions.Rcheck/00install.out
############################################################################## ############################################################################## ### ### Running command: ### ### /home/biocbuild/bbs-3.17-bioc/R/bin/R CMD INSTALL GenomicDistributions ### ############################################################################## ############################################################################## * installing to library ‘/home/biocbuild/bbs-3.17-bioc/R/site-library’ * installing *source* package ‘GenomicDistributions’ ... ** using staged installation ** R ** data *** moving datasets to lazyload DB ** inst ** byte-compile and prepare package for lazy loading ** help *** installing help indices ** building package indices ** installing vignettes ** testing if installed package can be loaded from temporary location ** testing if installed package can be loaded from final location ** testing if installed package keeps a record of temporary installation path * DONE (GenomicDistributions)
GenomicDistributions.Rcheck/tests/testthat.Rout
R Under development (unstable) (2023-03-16 r83996) -- "Unsuffered Consequences" Copyright (C) 2023 The R Foundation for Statistical Computing Platform: x86_64-pc-linux-gnu (64-bit) R is free software and comes with ABSOLUTELY NO WARRANTY. You are welcome to redistribute it under certain conditions. Type 'license()' or 'licence()' for distribution details. R is a collaborative project with many contributors. Type 'contributors()' for more information and 'citation()' on how to cite R or R packages in publications. Type 'demo()' for some demos, 'help()' for on-line help, or 'help.start()' for an HTML browser interface to help. Type 'q()' to quit R. > library(testthat) > library("GenomicDistributions") Loading required package: IRanges Loading required package: BiocGenerics Attaching package: 'BiocGenerics' The following objects are masked from 'package:stats': IQR, mad, sd, var, xtabs The following objects are masked from 'package:base': Filter, Find, Map, Position, Reduce, anyDuplicated, aperm, append, as.data.frame, basename, cbind, colnames, dirname, do.call, duplicated, eval, evalq, get, grep, grepl, intersect, is.unsorted, lapply, mapply, match, mget, order, paste, pmax, pmax.int, pmin, pmin.int, rank, rbind, rownames, sapply, setdiff, sort, table, tapply, union, unique, unsplit, which.max, which.min Loading required package: S4Vectors Loading required package: stats4 Attaching package: 'S4Vectors' The following objects are masked from 'package:base': I, expand.grid, unname Loading required package: GenomicRanges Loading required package: GenomeInfoDb > > test_check("GenomicDistributions") [ FAIL 0 | WARN 0 | SKIP 1 | PASS 48 ] ══ Skipped tests ═══════════════════════════════════════════════════════════════ • empty test (1) [ FAIL 0 | WARN 0 | SKIP 1 | PASS 48 ] > > proc.time() user system elapsed 23.763 1.020 24.494
GenomicDistributions.Rcheck/GenomicDistributions-Ex.timings
name | user | system | elapsed | |
binBSGenome | 0 | 0 | 0 | |
binChroms | 0.016 | 0.000 | 0.015 | |
binRegion | 0.001 | 0.000 | 0.001 | |
calcChromBins | 1.911 | 0.032 | 1.903 | |
calcChromBinsRef | 0.034 | 0.000 | 0.020 | |
calcChromBinsRefSlow | 0.027 | 0.004 | 0.017 | |
calcCumulativePartitions | 2.248 | 0.080 | 2.321 | |
calcCumulativePartitionsRef | 1.733 | 0.044 | 1.777 | |
calcDinuclFreq | 0 | 0 | 0 | |
calcDinuclFreqRef | 0.000 | 0.000 | 0.001 | |
calcExpectedPartitions | 1.912 | 0.055 | 1.967 | |
calcExpectedPartitionsRef | 1.410 | 0.036 | 1.446 | |
calcFeatureDist | 0.097 | 0.012 | 0.109 | |
calcFeatureDistRefTSS | 0.240 | 0.008 | 0.186 | |
calcGCContent | 0 | 0 | 0 | |
calcGCContentRef | 0 | 0 | 0 | |
calcNearestNeighbors | 0.032 | 0.000 | 0.032 | |
calcNeighborDist | 0.029 | 0.000 | 0.029 | |
calcPartitions | 1.413 | 0.028 | 1.441 | |
calcPartitionsRef | 1.704 | 0.036 | 1.740 | |
calcSummarySignal | 0.042 | 0.000 | 0.027 | |
calcWidth | 0 | 0 | 0 | |
dot-validateInputs | 0 | 0 | 0 | |
dtToGr | 0.009 | 0.000 | 0.009 | |
genomePartitionList | 1.180 | 0.004 | 1.184 | |
getChromSizes | 0.004 | 0.000 | 0.004 | |
getChromSizesFromFasta | 0.021 | 0.000 | 0.021 | |
getGeneModels | 0.070 | 0.004 | 0.074 | |
getGeneModelsFromGTF | 6.252 | 0.380 | 6.632 | |
getGenomeBins | 1.224 | 0.040 | 1.258 | |
getTssFromGTF | 0.104 | 0.008 | 0.112 | |
loadBSgenome | 0 | 0 | 0 | |
loadEnsDb | 0 | 0 | 0 | |
nlist | 0.001 | 0.000 | 0.000 | |
plotChromBins | 0.039 | 0.000 | 0.039 | |
plotCumulativePartitions | 3.415 | 0.092 | 3.497 | |
plotDinuclFreq | 0.016 | 0.000 | 0.017 | |
plotExpectedPartitions | 1.449 | 0.004 | 1.453 | |
plotFeatureDist | 0.298 | 0.000 | 0.242 | |
plotGCContent | 0.032 | 0.000 | 0.032 | |
plotNeighborDist | 0.01 | 0.00 | 0.01 | |
plotPartitions | 1.431 | 0.024 | 1.454 | |
plotQTHist | 0.037 | 0.004 | 0.042 | |
plotSummarySignal | 0.104 | 0.004 | 0.091 | |
retrieveFile | 0.001 | 0.000 | 0.001 | |