Back to Multiple platform build/check report for BioC 3.17:   simplified   long
ABCDEFGHIJKLMNO[P]QRSTUVWXYZ

This page was generated on 2023-05-30 11:06:29 -0400 (Tue, 30 May 2023).

HostnameOSArch (*)R versionInstalled pkgs
nebbiolo1Linux (Ubuntu 22.04.2 LTS)x86_644.3.0 RC (2023-04-13 r84269) -- "Already Tomorrow" 4617
palomino3Windows Server 2022 Datacenterx644.3.0 RC (2023-04-13 r84269 ucrt) -- "Already Tomorrow" 4368
merida1macOS 12.6.4 Montereyx86_644.3.0 RC (2023-04-13 r84257) -- "Already Tomorrow" 4326
Click on any hostname to see more info about the system (e.g. compilers)      (*) as reported by 'uname -p', except on Windows and Mac OS X

BUILD results for plethy on palomino3


To the developers/maintainers of the plethy package:
- Allow up to 24 hours (and sometimes 48 hours) for your latest push to git@git.bioconductor.org:packages/plethy.git to reflect on this report. See Troubleshooting Build Report for more information.

- Use the following Renviron settings to reproduce errors and warnings.

Note: If "R CMD check" recently failed on the Linux builder over a missing dependency, add the missing dependency to "Suggests" in your DESCRIPTION file. See the Renviron.bioc for details.

raw results

Package 1527/2229HostnameOS / ArchINSTALLBUILDCHECKBUILD BIN
plethy 1.38.0  (landing page)
Daniel Bottomly
Snapshot Date: 2023-05-29 14:00:15 -0400 (Mon, 29 May 2023)
git_url: https://git.bioconductor.org/packages/plethy
git_branch: RELEASE_3_17
git_last_commit: 8c76ab6
git_last_commit_date: 2023-04-25 10:27:10 -0400 (Tue, 25 Apr 2023)
nebbiolo1Linux (Ubuntu 22.04.2 LTS) / x86_64  OK    OK    ERROR  
palomino3Windows Server 2022 Datacenter / x64  OK    OK    ERROR    OK  
merida1macOS 12.6.4 Monterey / x86_64  OK    OK    ERROR    OK  

Summary

Package: plethy
Version: 1.38.0
Command: chmod a+r plethy -R && F:\biocbuild\bbs-3.17-bioc\R\bin\R.exe CMD build --keep-empty-dirs --no-resave-data plethy
StartedAt: 2023-05-29 21:10:32 -0400 (Mon, 29 May 2023)
EndedAt: 2023-05-29 21:11:10 -0400 (Mon, 29 May 2023)
EllapsedTime: 37.6 seconds
RetCode: 0
Status:   OK  
PackageFile: plethy_1.38.0.tar.gz
PackageFileSize: 1.022 MiB

Command output

##############################################################################
##############################################################################
###
### Running command:
###
###   chmod a+r plethy -R && F:\biocbuild\bbs-3.17-bioc\R\bin\R.exe CMD build --keep-empty-dirs --no-resave-data plethy
###
##############################################################################
##############################################################################


* checking for file 'plethy/DESCRIPTION' ... OK
* preparing 'plethy':
* checking DESCRIPTION meta-information ... OK
* installing the package to build vignettes
* creating vignettes ... OK
* checking for LF line-endings in source and make files and shell scripts
* checking for empty or unneeded directories
* building 'plethy_1.38.0.tar.gz'