Back to Multiple platform build/check report for BioC 3.17: simplified long |
|
This page was generated on 2023-03-28 11:06:58 -0400 (Tue, 28 Mar 2023).
Hostname | OS | Arch (*) | R version | Installed pkgs |
---|---|---|---|---|
nebbiolo1 | Linux (Ubuntu 22.04.1 LTS) | x86_64 | R Under development (unstable) (2023-03-16 r83996) -- "Unsuffered Consequences" | 4547 |
palomino3 | Windows Server 2022 Datacenter | x64 | R Under development (unstable) (2023-03-15 r83984 ucrt) -- "Unsuffered Consequences" | 4308 |
merida1 | macOS 10.14.6 Mojave | x86_64 | R Under development (unstable) (2023-03-16 r83985) -- "Unsuffered Consequences" | 4301 |
Click on any hostname to see more info about the system (e.g. compilers) (*) as reported by 'uname -p', except on Windows and Mac OS X |
To the developers/maintainers of the karyoploteR package: - Please allow up to 24 hours (and sometimes 48 hours) for your latest push to git@git.bioconductor.org:packages/karyoploteR.git to reflect on this report. See How and When does the builder pull? When will my changes propagate? for more information. - Make sure to use the following settings in order to reproduce any error or warning you see on this page. |
Package 1027/2195 | Hostname | OS / Arch | INSTALL | BUILD | CHECK | BUILD BIN | ||||||||
karyoploteR 1.25.0 (landing page) Bernat Gel
| nebbiolo1 | Linux (Ubuntu 22.04.1 LTS) / x86_64 | OK | OK | OK | ![]() | ||||||||
palomino3 | Windows Server 2022 Datacenter / x64 | OK | OK | OK | OK | ![]() | ||||||||
merida1 | macOS 10.14.6 Mojave / x86_64 | OK | OK | OK | OK | ![]() | ||||||||
Package: karyoploteR |
Version: 1.25.0 |
Command: /Library/Frameworks/R.framework/Resources/bin/R CMD check --install=check:karyoploteR.install-out.txt --library=/Library/Frameworks/R.framework/Resources/library --no-vignettes --timings karyoploteR_1.25.0.tar.gz |
StartedAt: 2023-03-28 02:50:07 -0400 (Tue, 28 Mar 2023) |
EndedAt: 2023-03-28 03:10:59 -0400 (Tue, 28 Mar 2023) |
EllapsedTime: 1252.3 seconds |
RetCode: 0 |
Status: OK |
CheckDir: karyoploteR.Rcheck |
Warnings: 0 |
############################################################################## ############################################################################## ### ### Running command: ### ### /Library/Frameworks/R.framework/Resources/bin/R CMD check --install=check:karyoploteR.install-out.txt --library=/Library/Frameworks/R.framework/Resources/library --no-vignettes --timings karyoploteR_1.25.0.tar.gz ### ############################################################################## ############################################################################## * using log directory ‘/Users/biocbuild/bbs-3.17-bioc/meat/karyoploteR.Rcheck’ * using R Under development (unstable) (2023-03-16 r83985) * using platform: x86_64-apple-darwin17.0 (64-bit) * R was compiled by Apple clang version 12.0.0 (clang-1200.0.32.29) GNU Fortran (GCC) 8.2.0 * running under: macOS Mojave 10.14.6 * using session charset: UTF-8 * using option ‘--no-vignettes’ * checking for file ‘karyoploteR/DESCRIPTION’ ... OK * checking extension type ... Package * this is package ‘karyoploteR’ version ‘1.25.0’ * checking package namespace information ... OK * checking package dependencies ... OK * checking if this is a source package ... OK * checking if there is a namespace ... OK * checking for hidden files and directories ... OK * checking for portable file names ... OK * checking for sufficient/correct file permissions ... OK * checking whether package ‘karyoploteR’ can be installed ... OK * checking installed package size ... OK * checking package directory ... OK * checking ‘build’ directory ... OK * checking DESCRIPTION meta-information ... NOTE Packages listed in more than one of Depends, Imports, Suggests, Enhances: ‘regioneR’ ‘GenomicRanges’ A package should be listed in only one of these fields. * checking top-level files ... OK * checking for left-over files ... OK * checking index information ... OK * checking package subdirectories ... NOTE Problems with news in ‘NEWS’: Cannot process chunk/lines: NEW FEATURES Cannot process chunk/lines: SIGNIFICANT USER-VISIBLE CHANGES Cannot process chunk/lines: NEW FEATURES Cannot process chunk/lines: SIGNIFICANT USER-VISIBLE CHANGES * checking R files for non-ASCII characters ... OK * checking R files for syntax errors ... OK * checking whether the package can be loaded ... OK * checking whether the package can be loaded with stated dependencies ... OK * checking whether the package can be unloaded cleanly ... OK * checking whether the namespace can be loaded with stated dependencies ... OK * checking whether the namespace can be unloaded cleanly ... OK * checking startup messages can be suppressed ... OK * checking dependencies in R code ... OK * checking S3 generic/method consistency ... OK * checking replacement functions ... OK * checking foreign function calls ... OK * checking R code for possible problems ... OK * checking Rd files ... OK * checking Rd metadata ... OK * checking Rd cross-references ... OK * checking for missing documentation entries ... OK * checking for code/documentation mismatches ... OK * checking Rd \usage sections ... OK * checking Rd contents ... OK * checking for unstated dependencies in examples ... OK * checking R/sysdata.rda ... OK * checking files in ‘vignettes’ ... OK * checking examples ... OK Examples with CPU (user + system) or elapsed time > 5s user system elapsed kpPlotDensity 72.029 3.851 99.857 kpPlotGenes 44.734 0.598 60.669 mergeTranscripts 35.165 0.194 46.921 kpPlotHorizon 32.572 0.106 43.955 kpPlotRegions 24.796 0.071 33.065 kpPlotTranscripts 14.071 0.051 18.313 kpPlotManhattan 8.770 0.643 12.263 kpPlotBAMCoverage 8.489 0.611 12.175 makeGenesDataFromTxDb 6.364 0.061 8.579 kpAbline 4.397 0.718 6.557 addGeneNames 4.811 0.090 6.421 * checking for unstated dependencies in ‘tests’ ... OK * checking tests ... Running ‘testthat.R’ OK * checking for unstated dependencies in vignettes ... OK * checking package vignettes in ‘inst/doc’ ... OK * checking running R code from vignettes ... SKIPPED * checking re-building of vignette outputs ... SKIPPED * checking PDF version of manual ... OK * DONE Status: 2 NOTEs See ‘/Users/biocbuild/bbs-3.17-bioc/meat/karyoploteR.Rcheck/00check.log’ for details.
karyoploteR.Rcheck/00install.out
############################################################################## ############################################################################## ### ### Running command: ### ### /Library/Frameworks/R.framework/Resources/bin/R CMD INSTALL karyoploteR ### ############################################################################## ############################################################################## * installing to library ‘/Library/Frameworks/R.framework/Versions/4.3/Resources/library’ * installing *source* package ‘karyoploteR’ ... ** using staged installation ** R ** inst ** byte-compile and prepare package for lazy loading ** help *** installing help indices ** building package indices ** installing vignettes ** testing if installed package can be loaded from temporary location ** testing if installed package can be loaded from final location ** testing if installed package keeps a record of temporary installation path * DONE (karyoploteR)
karyoploteR.Rcheck/tests/testthat.Rout
R Under development (unstable) (2023-03-16 r83985) -- "Unsuffered Consequences" Copyright (C) 2023 The R Foundation for Statistical Computing Platform: x86_64-apple-darwin17.0 (64-bit) R is free software and comes with ABSOLUTELY NO WARRANTY. You are welcome to redistribute it under certain conditions. Type 'license()' or 'licence()' for distribution details. R is a collaborative project with many contributors. Type 'contributors()' for more information and 'citation()' on how to cite R or R packages in publications. Type 'demo()' for some demos, 'help()' for on-line help, or 'help.start()' for an HTML browser interface to help. Type 'q()' to quit R. > library(testthat) > library(karyoploteR) Loading required package: regioneR Loading required package: GenomicRanges Loading required package: stats4 Loading required package: BiocGenerics Attaching package: 'BiocGenerics' The following objects are masked from 'package:stats': IQR, mad, sd, var, xtabs The following objects are masked from 'package:base': Filter, Find, Map, Position, Reduce, anyDuplicated, aperm, append, as.data.frame, basename, cbind, colnames, dirname, do.call, duplicated, eval, evalq, get, grep, grepl, intersect, is.unsorted, lapply, mapply, match, mget, order, paste, pmax, pmax.int, pmin, pmin.int, rank, rbind, rownames, sapply, setdiff, sort, table, tapply, union, unique, unsplit, which.max, which.min Loading required package: S4Vectors Attaching package: 'S4Vectors' The following objects are masked from 'package:base': I, expand.grid, unname Loading required package: IRanges Loading required package: GenomeInfoDb > > test_check("karyoploteR") [ FAIL 0 | WARN 0 | SKIP 3 | PASS 181 ] ══ Skipped tests ═══════════════════════════════════════════════════════════════ • empty test (3) [ FAIL 0 | WARN 0 | SKIP 3 | PASS 181 ] > > proc.time() user system elapsed 32.233 1.367 45.729
karyoploteR.Rcheck/karyoploteR-Ex.timings
name | user | system | elapsed | |
addGeneNames | 4.811 | 0.090 | 6.421 | |
autotrack | 0.002 | 0.000 | 0.001 | |
colByCategory | 0.004 | 0.000 | 0.007 | |
colByChr | 1.159 | 0.076 | 1.585 | |
colByRegion | 2.227 | 0.082 | 2.990 | |
colByValue | 0.389 | 0.023 | 0.531 | |
darker | 0.002 | 0.000 | 0.002 | |
filterParams | 0.001 | 0.001 | 0.001 | |
findIntersections | 0.276 | 0.031 | 0.394 | |
getChromosomeNamesBoundingBox | 0.085 | 0.008 | 0.121 | |
getColorSchemas | 0.002 | 0.002 | 0.005 | |
getCytobandColors | 0.002 | 0.001 | 0.002 | |
getCytobands | 0.002 | 0.000 | 0.002 | |
getDataPanelBoundingBox | 0.092 | 0.010 | 0.128 | |
getDefaultPlotParams | 0.147 | 0.022 | 0.213 | |
getMainTitleBoundingBox | 0.069 | 0.008 | 0.102 | |
getTextSize | 0.175 | 0.020 | 0.243 | |
getVariantsColors | 0.001 | 0.000 | 0.002 | |
horizonColors | 0.007 | 0.001 | 0.011 | |
is.color | 0.002 | 0.000 | 0.001 | |
kpAbline | 4.397 | 0.718 | 6.557 | |
kpAddBaseNumbers | 0.762 | 0.005 | 0.960 | |
kpAddChromosomeNames | 0.065 | 0.002 | 0.084 | |
kpAddChromosomeSeparators | 0.993 | 0.006 | 1.293 | |
kpAddColorRect | 0.331 | 0.002 | 0.446 | |
kpAddCytobandLabels | 0.889 | 0.044 | 1.194 | |
kpAddCytobands | 0.066 | 0.001 | 0.085 | |
kpAddCytobandsAsLine | 0.127 | 0.003 | 0.171 | |
kpAddLabels | 0.961 | 0.008 | 1.263 | |
kpAddMainTitle | 0.064 | 0.001 | 0.083 | |
kpArea | 0.740 | 0.008 | 1.002 | |
kpArrows | 1.248 | 0.017 | 1.665 | |
kpAxis | 0.633 | 0.004 | 0.809 | |
kpBars | 0.406 | 0.002 | 0.524 | |
kpDataBackground | 0.497 | 0.003 | 0.655 | |
kpHeatmap | 0.296 | 0.002 | 0.388 | |
kpLines | 0.572 | 0.005 | 0.741 | |
kpPlotBAMCoverage | 8.489 | 0.611 | 12.175 | |
kpPlotBAMDensity | 2.673 | 0.069 | 3.625 | |
kpPlotBigWig | 1.922 | 0.072 | 2.647 | |
kpPlotCoverage | 0.939 | 0.013 | 1.241 | |
kpPlotDensity | 72.029 | 3.851 | 99.857 | |
kpPlotGenes | 44.734 | 0.598 | 60.669 | |
kpPlotHorizon | 32.572 | 0.106 | 43.955 | |
kpPlotLinks | 2.205 | 0.013 | 2.899 | |
kpPlotLoess | 0.131 | 0.002 | 0.173 | |
kpPlotManhattan | 8.770 | 0.643 | 12.263 | |
kpPlotMarkers | 3.723 | 0.025 | 4.839 | |
kpPlotNames | 0.237 | 0.002 | 0.303 | |
kpPlotRainfall | 2.792 | 0.126 | 4.297 | |
kpPlotRegions | 24.796 | 0.071 | 33.065 | |
kpPlotRibbon | 0.184 | 0.001 | 0.247 | |
kpPlotTranscripts | 14.071 | 0.051 | 18.313 | |
kpPoints | 0.565 | 0.003 | 0.670 | |
kpPolygon | 0.471 | 0.004 | 0.583 | |
kpRect | 1.657 | 0.009 | 2.173 | |
kpSegments | 1.183 | 0.004 | 1.579 | |
kpText | 0.585 | 0.003 | 0.772 | |
lighter | 0.001 | 0.000 | 0.002 | |
makeGenesDataFromTxDb | 6.364 | 0.061 | 8.579 | |
mergeTranscripts | 35.165 | 0.194 | 46.921 | |
plotDefaultPlotParams | 0.341 | 0.002 | 0.440 | |
plotKaryotype | 2.204 | 0.025 | 2.916 | |
plotPalettes | 0.027 | 0.002 | 0.036 | |
prepareParameters2 | 0.063 | 0.002 | 0.081 | |
prepareParameters4 | 0.063 | 0.001 | 0.079 | |
processClipping | 0.063 | 0.001 | 0.083 | |
transparent | 0.002 | 0.000 | 0.002 | |