Back to Multiple platform build/check report for BioC 3.17:   simplified   long
AB[C]DEFGHIJKLMNOPQRSTUVWXYZ

This page was generated on 2023-03-20 11:04:57 -0400 (Mon, 20 Mar 2023).

HostnameOSArch (*)R versionInstalled pkgs
nebbiolo1Linux (Ubuntu 22.04.1 LTS)x86_64R Under development (unstable) (2023-03-16 r83996) -- "Unsuffered Consequences" 4297
palomino3Windows Server 2022 Datacenterx64R Under development (unstable) (2023-03-15 r83984 ucrt) -- "Unsuffered Consequences" 4286
merida1macOS 10.14.6 Mojavex86_64R Under development (unstable) (2023-03-16 r83985) -- "Unsuffered Consequences" 4150
Click on any hostname to see more info about the system (e.g. compilers)      (*) as reported by 'uname -p', except on Windows and Mac OS X

CHECK results for ChIPanalyser on nebbiolo1


To the developers/maintainers of the ChIPanalyser package:
- Please allow up to 24 hours (and sometimes 48 hours) for your latest push to git@git.bioconductor.org:packages/ChIPanalyser.git to
reflect on this report. See How and When does the builder pull? When will my changes propagate? for more information.
- Make sure to use the following settings in order to reproduce any error or warning you see on this page.

raw results

Package 319/2189HostnameOS / ArchINSTALLBUILDCHECKBUILD BIN
ChIPanalyser 1.21.0  (landing page)
Patrick C.N. Martin
Snapshot Date: 2023-03-19 14:00:12 -0400 (Sun, 19 Mar 2023)
git_url: https://git.bioconductor.org/packages/ChIPanalyser
git_branch: master
git_last_commit: ca12b0a
git_last_commit_date: 2022-11-01 11:16:15 -0400 (Tue, 01 Nov 2022)
nebbiolo1Linux (Ubuntu 22.04.1 LTS) / x86_64  OK    OK    OK  UNNEEDED, same version is already published
palomino3Windows Server 2022 Datacenter / x64  OK    OK    OK    OK  UNNEEDED, same version is already published
merida1macOS 10.14.6 Mojave / x86_64  OK    OK    OK    OK  UNNEEDED, same version is already published

Summary

Package: ChIPanalyser
Version: 1.21.0
Command: /home/biocbuild/bbs-3.17-bioc/R/bin/R CMD check --install=check:ChIPanalyser.install-out.txt --library=/home/biocbuild/bbs-3.17-bioc/R/site-library --timings ChIPanalyser_1.21.0.tar.gz
StartedAt: 2023-03-19 19:20:01 -0400 (Sun, 19 Mar 2023)
EndedAt: 2023-03-19 19:39:06 -0400 (Sun, 19 Mar 2023)
EllapsedTime: 1145.4 seconds
RetCode: 0
Status:   OK  
CheckDir: ChIPanalyser.Rcheck
Warnings: 0

Command output

##############################################################################
##############################################################################
###
### Running command:
###
###   /home/biocbuild/bbs-3.17-bioc/R/bin/R CMD check --install=check:ChIPanalyser.install-out.txt --library=/home/biocbuild/bbs-3.17-bioc/R/site-library --timings ChIPanalyser_1.21.0.tar.gz
###
##############################################################################
##############################################################################


* using log directory ‘/home/biocbuild/bbs-3.17-bioc/meat/ChIPanalyser.Rcheck’
* using R Under development (unstable) (2023-03-16 r83996)
* using platform: x86_64-pc-linux-gnu (64-bit)
* R was compiled by
    gcc (Ubuntu 11.3.0-1ubuntu1~22.04) 11.3.0
    GNU Fortran (Ubuntu 11.3.0-1ubuntu1~22.04) 11.3.0
* running under: Ubuntu 22.04.2 LTS
* using session charset: UTF-8
* checking for file ‘ChIPanalyser/DESCRIPTION’ ... OK
* checking extension type ... Package
* this is package ‘ChIPanalyser’ version ‘1.21.0’
* package encoding: UTF-8
* checking package namespace information ... OK
* checking package dependencies ... OK
* checking if this is a source package ... OK
* checking if there is a namespace ... OK
* checking for hidden files and directories ... OK
* checking for portable file names ... OK
* checking for sufficient/correct file permissions ... OK
* checking whether package ‘ChIPanalyser’ can be installed ... OK
* checking installed package size ... OK
* checking package directory ... OK
* checking ‘build’ directory ... OK
* checking DESCRIPTION meta-information ... OK
* checking top-level files ... OK
* checking for left-over files ... OK
* checking index information ... OK
* checking package subdirectories ... OK
* checking R files for non-ASCII characters ... OK
* checking R files for syntax errors ... OK
* checking whether the package can be loaded ... OK
* checking whether the package can be loaded with stated dependencies ... OK
* checking whether the package can be unloaded cleanly ... OK
* checking whether the namespace can be loaded with stated dependencies ... OK
* checking whether the namespace can be unloaded cleanly ... OK
* checking loading without being on the library search path ... OK
* checking dependencies in R code ... OK
* checking S3 generic/method consistency ... OK
* checking replacement functions ... OK
* checking foreign function calls ... OK
* checking R code for possible problems ... OK
* checking Rd files ... OK
* checking Rd metadata ... OK
* checking Rd cross-references ... OK
* checking for missing documentation entries ... OK
* checking for code/documentation mismatches ... OK
* checking Rd \usage sections ... OK
* checking Rd contents ... OK
* checking for unstated dependencies in examples ... OK
* checking contents of ‘data’ directory ... OK
* checking data for non-ASCII characters ... OK
* checking LazyData ... OK
* checking data for ASCII and uncompressed saves ... OK
* checking files in ‘vignettes’ ... OK
* checking examples ... OK
Examples with CPU (user + system) or elapsed time > 5s
                user system elapsed
getTestingData 4.963  0.124   5.088
* checking for unstated dependencies in ‘tests’ ... OK
* checking tests ...
  Running ‘runTests.R’
 OK
* checking for unstated dependencies in vignettes ... OK
* checking package vignettes in ‘inst/doc’ ... OK
* checking running R code from vignettes ...
  ‘ChIPanalyser.Rmd’ using ‘UTF-8’... OK
  ‘GA_ChIPanalyser.Rmd’ using ‘UTF-8’... OK
 NONE
* checking re-building of vignette outputs ... OK
* checking PDF version of manual ... OK
* DONE

Status: OK


Installation output

ChIPanalyser.Rcheck/00install.out

##############################################################################
##############################################################################
###
### Running command:
###
###   /home/biocbuild/bbs-3.17-bioc/R/bin/R CMD INSTALL ChIPanalyser
###
##############################################################################
##############################################################################


* installing to library ‘/home/biocbuild/bbs-3.17-bioc/R/site-library’
* installing *source* package ‘ChIPanalyser’ ...
** using staged installation
** R
** data
*** moving datasets to lazyload DB
** inst
** byte-compile and prepare package for lazy loading
Creating a new generic function for ‘drop’ in package ‘ChIPanalyser’
** help
*** installing help indices
** building package indices
** installing vignettes
** testing if installed package can be loaded from temporary location
** testing if installed package can be loaded from final location
** testing if installed package keeps a record of temporary installation path
* DONE (ChIPanalyser)

Tests output

ChIPanalyser.Rcheck/tests/runTests.Rout


R Under development (unstable) (2023-03-16 r83996) -- "Unsuffered Consequences"
Copyright (C) 2023 The R Foundation for Statistical Computing
Platform: x86_64-pc-linux-gnu (64-bit)

R is free software and comes with ABSOLUTELY NO WARRANTY.
You are welcome to redistribute it under certain conditions.
Type 'license()' or 'licence()' for distribution details.

R is a collaborative project with many contributors.
Type 'contributors()' for more information and
'citation()' on how to cite R or R packages in publications.

Type 'demo()' for some demos, 'help()' for on-line help, or
'help.start()' for an HTML browser interface to help.
Type 'q()' to quit R.

> BiocGenerics:::testPackage("ChIPanalyser")

Attaching package: 'BiocGenerics'

The following objects are masked from 'package:stats':

    IQR, mad, sd, var, xtabs

The following objects are masked from 'package:base':

    Filter, Find, Map, Position, Reduce, anyDuplicated, aperm, append,
    as.data.frame, basename, cbind, colnames, dirname, do.call,
    duplicated, eval, evalq, get, grep, grepl, intersect, is.unsorted,
    lapply, mapply, match, mget, order, paste, pmax, pmax.int, pmin,
    pmin.int, rank, rbind, rownames, sapply, setdiff, sort, table,
    tapply, union, unique, unsplit, which.max, which.min


Attaching package: 'S4Vectors'

The following objects are masked from 'package:base':

    I, expand.grid, unname


Attaching package: 'Biostrings'

The following object is masked from 'package:base':

    strsplit


Attaching package: 'ChIPanalyser'

The following object is masked from 'package:IRanges':

    drop

The following object is masked from 'package:base':

    drop

Loading required package: BSgenome.Dmelanogaster.UCSC.dm6


RUNIT TEST PROTOCOL -- Sun Mar 19 19:25:10 2023 
*********************************************** 
Number of test functions: 0 
Number of errors: 0 
Number of failures: 0 

 
1 Test Suite : 
ChIPanalyser RUnit Tests - 0 test functions, 0 errors, 0 failures
Number of test functions: 0 
Number of errors: 0 
Number of failures: 0 
> 
> proc.time()
   user  system elapsed 
 58.005   6.026  64.035 

Example timings

ChIPanalyser.Rcheck/ChIPanalyser-Ex.timings

nameusersystemelapsed
BPFrequency0.1230.0000.124
BPFrequency_-0.0000.0010.002
ChIPScore-class0.0010.0010.002
ChIPanalyser-package0.0000.0000.001
DNASequenceLength0.0000.0010.002
GRList-class0.0000.0010.000
PFMFormat0.1430.0170.159
PFMFormat_0.0370.0110.049
PWMThreshold0.0020.0080.010
PWMThreshold_-0.010.000.01
PWMpseudocount0.000.010.01
PWMpseudocount_-0.0090.0020.010
PositionFrequencyMatrix0.0420.0080.050
PositionFrequencyMatrix_-0.0190.0080.026
PositionWeightMatrix0.0340.0160.050
PositionWeightMatrix_-0.0110.0040.015
averageExpPWMScore0.0330.0160.050
backgroundSignal0.0050.0030.009
backgroundSignal_-0.0090.0080.017
boundMolecules0.0090.0000.009
boundMolecules_-0.0130.0040.017
chipMean0.0060.0030.009
chipMean_-0.0090.0010.009
chipSd0.0050.0040.009
chipSd_-0.0090.0000.009
chipSmooth0.0090.0000.009
chipSmooth_-0.0100.0000.009
computeChIPProfile0.0020.0000.002
computeGenomeWideScores0.0010.0000.000
computeOccupancy0.0020.0000.001
computeOptimal0.0010.0000.002
computePWMScore0.0010.0000.002
data0.0000.0010.001
drop0.0340.0170.051
evolve0.0020.0000.001
generateStartingPopulation0.0130.0080.021
genomicProfiles-class0.0010.0000.002
genomicProfiles0.1430.0160.158
genomicProfilesInternal-class0.0010.0000.001
getHighestFitnessSolutions0.0010.0000.001
getTestingData4.9630.1245.088
getTrainingData1.1600.0441.203
lambdaPWM0.0080.0000.008
lambdaPWM_0.0090.0000.008
loci-class0.0010.0000.000
loci1.1510.0761.226
lociWidth0.0090.0000.008
lociWidth_0.0050.0040.008
maxPWMScore0.0020.0000.002
maxSignal0.0070.0000.007
maxSignal_-0.0070.0000.007
minPWMScore0.0020.0000.002
naturalLog0.0080.0000.009
naturalLog_-0.0080.0000.009
noOfSites0.0080.0000.008
noOfSites_-0.0040.0040.008
noiseFilter0.0080.0000.008
noiseFilter_0.0080.0000.008
nos-class0.0010.0000.001
parameterOptions-class0.0000.0010.002
parameterOptions0.0070.0070.014
ploidy0.0070.0000.007
ploidy_-0.0070.0000.007
plotOccupancyProfile0.0020.0000.002
plotOptimalHeatMaps0.0020.0000.001
processingChIP1.0870.1031.190
profileAccuracyEstimate0.0020.0000.002
removeBackground0.0070.0000.007
removeBackground_-0.0070.0000.008
scores1.1780.0681.245
searchSites0.0020.0000.002
setChromatinStates1.8650.0121.878
singleRun0.0020.0000.001
splitData1.2390.1121.350
stepSize0.0070.0000.007
stepSize_-0.0040.0040.008
strandRule0.0080.0000.009
strandRule_-0.0090.0000.008
whichstrand0.0050.0030.009
whichstrand_-0.0090.0010.008