Back to Multiple platform build/check report for BioC 3.17:   simplified   long
ABCDE[F]GHIJKLMNOPQRSTUVWXYZ

This page was generated on 2023-03-29 11:06:13 -0400 (Wed, 29 Mar 2023).

HostnameOSArch (*)R versionInstalled pkgs
nebbiolo1Linux (Ubuntu 22.04.1 LTS)x86_64R Under development (unstable) (2023-03-16 r83996) -- "Unsuffered Consequences" 4547
palomino3Windows Server 2022 Datacenterx64R Under development (unstable) (2023-03-15 r83984 ucrt) -- "Unsuffered Consequences" 4308
merida1macOS 10.14.6 Mojavex86_64R Under development (unstable) (2023-03-16 r83985) -- "Unsuffered Consequences" 4301
Click on any hostname to see more info about the system (e.g. compilers)      (*) as reported by 'uname -p', except on Windows and Mac OS X

INSTALL results for FLAMES on merida1


To the developers/maintainers of the FLAMES package:
- Please allow up to 24 hours (and sometimes 48 hours) for your latest push to git@git.bioconductor.org:packages/FLAMES.git to
reflect on this report. See How and When does the builder pull? When will my changes propagate? for more information.
- Make sure to use the following settings in order to reproduce any error or warning you see on this page.

raw results

Package 691/2195HostnameOS / ArchINSTALLBUILDCHECKBUILD BIN
FLAMES 1.5.5  (landing page)
Oliver Voogd
Snapshot Date: 2023-03-28 14:00:22 -0400 (Tue, 28 Mar 2023)
git_url: https://git.bioconductor.org/packages/FLAMES
git_branch: devel
git_last_commit: 602a271
git_last_commit_date: 2023-03-06 01:05:53 -0400 (Mon, 06 Mar 2023)
nebbiolo1Linux (Ubuntu 22.04.1 LTS) / x86_64  OK    OK    WARNINGS  UNNEEDED, same version is already published
palomino3Windows Server 2022 Datacenter / x64  OK    OK    OK    OK  UNNEEDED, same version is already published
merida1macOS 10.14.6 Mojave / x86_64  OK    ERROR  skippedskipped

Summary

Package: FLAMES
Version: 1.5.5
Command: /Library/Frameworks/R.framework/Resources/bin/R CMD INSTALL FLAMES
StartedAt: 2023-03-28 16:16:46 -0400 (Tue, 28 Mar 2023)
EndedAt: 2023-03-28 16:21:06 -0400 (Tue, 28 Mar 2023)
EllapsedTime: 259.9 seconds
RetCode: 0
Status:   OK  

Command output

##############################################################################
##############################################################################
###
### Running command:
###
###   /Library/Frameworks/R.framework/Resources/bin/R CMD INSTALL FLAMES
###
##############################################################################
##############################################################################


* installing to library ‘/Library/Frameworks/R.framework/Versions/4.3/Resources/library’
* installing *source* package ‘FLAMES’ ...
** using staged installation
** libs
using C compiler: ‘Apple clang version 11.0.0 (clang-1100.0.33.17)’
using C++ compiler: ‘Apple clang version 11.0.0 (clang-1100.0.33.17)’
using C++17
using SDK: ‘’
clang++ -mmacosx-version-min=10.13 -std=gnu++17 -I"/Library/Frameworks/R.framework/Resources/include" -DNDEBUG -D_FILE_OFFSET_BITS=64 -I'/Library/Frameworks/R.framework/Versions/4.3/Resources/library/Rcpp/include' -I'/Library/Frameworks/R.framework/Versions/4.3/Resources/library/Rhtslib/include' -I'/Library/Frameworks/R.framework/Versions/4.3/Resources/library/zlibbioc/include' -I/usr/local/include    -fPIC  -Wall -g -O2  -c RcppExports.cpp -o RcppExports.o
clang++ -mmacosx-version-min=10.13 -std=gnu++17 -I"/Library/Frameworks/R.framework/Resources/include" -DNDEBUG -D_FILE_OFFSET_BITS=64 -I'/Library/Frameworks/R.framework/Versions/4.3/Resources/library/Rcpp/include' -I'/Library/Frameworks/R.framework/Versions/4.3/Resources/library/Rhtslib/include' -I'/Library/Frameworks/R.framework/Versions/4.3/Resources/library/zlibbioc/include' -I/usr/local/include    -fPIC  -Wall -g -O2  -c RcppFunctions.cpp -o RcppFunctions.o
In file included from RcppFunctions.cpp:7:
In file included from ./main-functions/match_cell_barcode.h:13:
./main-functions/../utility/fastq_utils.h:12:1: warning: unused function 'kseq_init' [-Wunused-function]
KSEQ_INIT(gzFile, gzread)
^
/Library/Frameworks/R.framework/Versions/4.3/Resources/library/Rhtslib/include/htslib/kseq.h:240:35: note: expanded from macro 'KSEQ_INIT'
#define KSEQ_INIT(type_t, __read) KSEQ_INIT2(static, type_t, __read)
                                  ^
/Library/Frameworks/R.framework/Versions/4.3/Resources/library/Rhtslib/include/htslib/kseq.h:237:2: note: expanded from macro 'KSEQ_INIT2'
        __KSEQ_BASIC(SCOPE, type_t)                                     \
        ^
/Library/Frameworks/R.framework/Versions/4.3/Resources/library/Rhtslib/include/htslib/kseq.h:165:16: note: expanded from macro '__KSEQ_BASIC'
        SCOPE kseq_t *kseq_init(type_t fd)                                                                      \
                      ^
In file included from RcppFunctions.cpp:7:
In file included from ./main-functions/match_cell_barcode.h:13:
./main-functions/../utility/fastq_utils.h:12:1: warning: unused function 'kseq_destroy' [-Wunused-function]
/Library/Frameworks/R.framework/Versions/4.3/Resources/library/Rhtslib/include/htslib/kseq.h:240:35: note: expanded from macro 'KSEQ_INIT'
#define KSEQ_INIT(type_t, __read) KSEQ_INIT2(static, type_t, __read)
                                  ^
/Library/Frameworks/R.framework/Versions/4.3/Resources/library/Rhtslib/include/htslib/kseq.h:237:2: note: expanded from macro 'KSEQ_INIT2'
        __KSEQ_BASIC(SCOPE, type_t)                                     \
        ^
/Library/Frameworks/R.framework/Versions/4.3/Resources/library/Rhtslib/include/htslib/kseq.h:171:13: note: expanded from macro '__KSEQ_BASIC'
        SCOPE void kseq_destroy(kseq_t *ks)                                                                     \
                   ^
In file included from RcppFunctions.cpp:7:
In file included from ./main-functions/match_cell_barcode.h:13:
./main-functions/../utility/fastq_utils.h:12:1: warning: unused function 'kseq_read' [-Wunused-function]
/Library/Frameworks/R.framework/Versions/4.3/Resources/library/Rhtslib/include/htslib/kseq.h:240:35: note: expanded from macro 'KSEQ_INIT'
#define KSEQ_INIT(type_t, __read) KSEQ_INIT2(static, type_t, __read)
                                  ^
/Library/Frameworks/R.framework/Versions/4.3/Resources/library/Rhtslib/include/htslib/kseq.h:238:2: note: expanded from macro 'KSEQ_INIT2'
        __KSEQ_READ(SCOPE)
        ^
/Library/Frameworks/R.framework/Versions/4.3/Resources/library/Rhtslib/include/htslib/kseq.h:185:12: note: expanded from macro '__KSEQ_READ'
        SCOPE int kseq_read(kseq_t *seq) \
                  ^
3 warnings generated.
clang++ -mmacosx-version-min=10.13 -std=gnu++17 -I"/Library/Frameworks/R.framework/Resources/include" -DNDEBUG -D_FILE_OFFSET_BITS=64 -I'/Library/Frameworks/R.framework/Versions/4.3/Resources/library/Rcpp/include' -I'/Library/Frameworks/R.framework/Versions/4.3/Resources/library/Rhtslib/include' -I'/Library/Frameworks/R.framework/Versions/4.3/Resources/library/zlibbioc/include' -I/usr/local/include    -fPIC  -Wall -g -O2  -c main-functions/match_cell_barcode.cpp -o main-functions/match_cell_barcode.o
clang++ -mmacosx-version-min=10.13 -std=gnu++17 -I"/Library/Frameworks/R.framework/Resources/include" -DNDEBUG -D_FILE_OFFSET_BITS=64 -I'/Library/Frameworks/R.framework/Versions/4.3/Resources/library/Rcpp/include' -I'/Library/Frameworks/R.framework/Versions/4.3/Resources/library/Rhtslib/include' -I'/Library/Frameworks/R.framework/Versions/4.3/Resources/library/zlibbioc/include' -I/usr/local/include    -fPIC  -Wall -g -O2  -c utility/edit_dist.cpp -o utility/edit_dist.o
clang++ -mmacosx-version-min=10.13 -std=gnu++17 -I"/Library/Frameworks/R.framework/Resources/include" -DNDEBUG -D_FILE_OFFSET_BITS=64 -I'/Library/Frameworks/R.framework/Versions/4.3/Resources/library/Rcpp/include' -I'/Library/Frameworks/R.framework/Versions/4.3/Resources/library/Rhtslib/include' -I'/Library/Frameworks/R.framework/Versions/4.3/Resources/library/zlibbioc/include' -I/usr/local/include    -fPIC  -Wall -g -O2  -c utility/fastq_utils.cpp -o utility/fastq_utils.o
clang++ -mmacosx-version-min=10.13 -std=gnu++17 -I"/Library/Frameworks/R.framework/Resources/include" -DNDEBUG -D_FILE_OFFSET_BITS=64 -I'/Library/Frameworks/R.framework/Versions/4.3/Resources/library/Rcpp/include' -I'/Library/Frameworks/R.framework/Versions/4.3/Resources/library/Rhtslib/include' -I'/Library/Frameworks/R.framework/Versions/4.3/Resources/library/zlibbioc/include' -I/usr/local/include    -fPIC  -Wall -g -O2  -c utility/ssw/ssw_cpp.cpp -o utility/ssw/ssw_cpp.o
clang -mmacosx-version-min=10.13 -I"/Library/Frameworks/R.framework/Resources/include" -DNDEBUG -D_FILE_OFFSET_BITS=64 -I'/Library/Frameworks/R.framework/Versions/4.3/Resources/library/Rcpp/include' -I'/Library/Frameworks/R.framework/Versions/4.3/Resources/library/Rhtslib/include' -I'/Library/Frameworks/R.framework/Versions/4.3/Resources/library/zlibbioc/include' -I/usr/local/include    -fPIC  -Wall -g -O2  -c bam.c -o bam.o
clang -mmacosx-version-min=10.13 -I"/Library/Frameworks/R.framework/Resources/include" -DNDEBUG -D_FILE_OFFSET_BITS=64 -I'/Library/Frameworks/R.framework/Versions/4.3/Resources/library/Rcpp/include' -I'/Library/Frameworks/R.framework/Versions/4.3/Resources/library/Rhtslib/include' -I'/Library/Frameworks/R.framework/Versions/4.3/Resources/library/zlibbioc/include' -I/usr/local/include    -fPIC  -Wall -g -O2  -c utility/ssw/ssw.c -o utility/ssw/ssw.o
clang++ -mmacosx-version-min=10.13 -std=gnu++17 -dynamiclib -Wl,-headerpad_max_install_names -undefined dynamic_lookup -single_module -multiply_defined suppress -L/Library/Frameworks/R.framework/Resources/lib -L/usr/local/lib -o FLAMES.so RcppExports.o RcppFunctions.o main-functions/match_cell_barcode.o utility/edit_dist.o utility/fastq_utils.o utility/ssw/ssw_cpp.o bam.o utility/ssw/ssw.o /Library/Frameworks/R.framework/Versions/4.3/Resources/library/Rhtslib/usrlib/libhts.a -lcurl -F/Library/Frameworks/R.framework/.. -framework R -Wl,-framework -Wl,CoreFoundation
installing to /Library/Frameworks/R.framework/Versions/4.3/Resources/library/00LOCK-FLAMES/00new/FLAMES/libs
** R
** inst
** byte-compile and prepare package for lazy loading
** help
*** installing help indices
** building package indices
** installing vignettes
** testing if installed package can be loaded from temporary location
** checking absolute paths in shared objects and dynamic libraries
** testing if installed package can be loaded from final location
** testing if installed package keeps a record of temporary installation path
* DONE (FLAMES)