Back to Multiple platform build/check report for BioC 3.17:   simplified   long
AB[C]DEFGHIJKLMNOPQRSTUVWXYZ

This page was generated on 2023-03-28 11:05:08 -0400 (Tue, 28 Mar 2023).

HostnameOSArch (*)R versionInstalled pkgs
nebbiolo1Linux (Ubuntu 22.04.1 LTS)x86_64R Under development (unstable) (2023-03-16 r83996) -- "Unsuffered Consequences" 4547
palomino3Windows Server 2022 Datacenterx64R Under development (unstable) (2023-03-15 r83984 ucrt) -- "Unsuffered Consequences" 4308
merida1macOS 10.14.6 Mojavex86_64R Under development (unstable) (2023-03-16 r83985) -- "Unsuffered Consequences" 4301
Click on any hostname to see more info about the system (e.g. compilers)      (*) as reported by 'uname -p', except on Windows and Mac OS X

BUILD results for ccfindR on nebbiolo1


To the developers/maintainers of the ccfindR package:
- Please allow up to 24 hours (and sometimes 48 hours) for your latest push to git@git.bioconductor.org:packages/ccfindR.git to
reflect on this report. See How and When does the builder pull? When will my changes propagate? for more information.
- Make sure to use the following settings in order to reproduce any error or warning you see on this page.

raw results

Package 275/2195HostnameOS / ArchINSTALLBUILDCHECKBUILD BIN
ccfindR 1.19.0  (landing page)
Jun Woo
Snapshot Date: 2023-03-27 14:00:21 -0400 (Mon, 27 Mar 2023)
git_url: https://git.bioconductor.org/packages/ccfindR
git_branch: devel
git_last_commit: 66a5eea
git_last_commit_date: 2022-11-01 11:17:44 -0400 (Tue, 01 Nov 2022)
nebbiolo1Linux (Ubuntu 22.04.1 LTS) / x86_64  OK    OK    OK  UNNEEDED, same version is already published
palomino3Windows Server 2022 Datacenter / x64  OK    OK    OK    OK  UNNEEDED, same version is already published
merida1macOS 10.14.6 Mojave / x86_64  OK    OK    OK    OK  UNNEEDED, same version is already published

Summary

Package: ccfindR
Version: 1.19.0
Command: /home/biocbuild/bbs-3.17-bioc/R/bin/R CMD build --keep-empty-dirs --no-resave-data ccfindR
StartedAt: 2023-03-27 16:03:02 -0400 (Mon, 27 Mar 2023)
EndedAt: 2023-03-27 16:06:27 -0400 (Mon, 27 Mar 2023)
EllapsedTime: 204.9 seconds
RetCode: 0
Status:   OK  
PackageFile: ccfindR_1.19.0.tar.gz
PackageFileSize: 1.059 MiB

Command output

##############################################################################
##############################################################################
###
### Running command:
###
###   /home/biocbuild/bbs-3.17-bioc/R/bin/R CMD build --keep-empty-dirs --no-resave-data ccfindR
###
##############################################################################
##############################################################################


* checking for file ‘ccfindR/DESCRIPTION’ ... OK
* preparing ‘ccfindR’:
* checking DESCRIPTION meta-information ... OK
* cleaning src
* installing the package to process help pages
Loading required namespace: ccfindR
* saving partial Rd database
* creating vignettes ... OK
* cleaning src
* checking for LF line-endings in source and make files and shell scripts
* checking for empty or unneeded directories
* building ‘ccfindR_1.19.0.tar.gz’