Back to Multiple platform build/check report for BioC 3.17: simplified long |
|
This page was generated on 2023-03-29 11:05:36 -0400 (Wed, 29 Mar 2023).
Hostname | OS | Arch (*) | R version | Installed pkgs |
---|---|---|---|---|
nebbiolo1 | Linux (Ubuntu 22.04.1 LTS) | x86_64 | R Under development (unstable) (2023-03-16 r83996) -- "Unsuffered Consequences" | 4547 |
palomino3 | Windows Server 2022 Datacenter | x64 | R Under development (unstable) (2023-03-15 r83984 ucrt) -- "Unsuffered Consequences" | 4308 |
merida1 | macOS 10.14.6 Mojave | x86_64 | R Under development (unstable) (2023-03-16 r83985) -- "Unsuffered Consequences" | 4301 |
Click on any hostname to see more info about the system (e.g. compilers) (*) as reported by 'uname -p', except on Windows and Mac OS X |
To the developers/maintainers of the methylumi package: - Please allow up to 24 hours (and sometimes 48 hours) for your latest push to git@git.bioconductor.org:packages/methylumi.git to reflect on this report. See How and When does the builder pull? When will my changes propagate? for more information. - Make sure to use the following settings in order to reproduce any error or warning you see on this page. |
Package 1191/2195 | Hostname | OS / Arch | INSTALL | BUILD | CHECK | BUILD BIN | ||||||||
methylumi 2.45.0 (landing page) Sean Davis
| nebbiolo1 | Linux (Ubuntu 22.04.1 LTS) / x86_64 | ERROR | ERROR | skipped | |||||||||
palomino3 | Windows Server 2022 Datacenter / x64 | ERROR | ERROR | skipped | skipped | |||||||||
merida1 | macOS 10.14.6 Mojave / x86_64 | ERROR | ERROR | skipped | skipped | |||||||||
Package: methylumi |
Version: 2.45.0 |
Command: chmod a+r methylumi -R && F:\biocbuild\bbs-3.17-bioc\R\bin\R.exe CMD build --keep-empty-dirs --no-resave-data methylumi |
StartedAt: 2023-03-28 19:43:08 -0400 (Tue, 28 Mar 2023) |
EndedAt: 2023-03-28 19:43:24 -0400 (Tue, 28 Mar 2023) |
EllapsedTime: 16.5 seconds |
RetCode: 1 |
Status: ERROR |
PackageFile: None |
PackageFileSize: NA |
############################################################################## ############################################################################## ### ### Running command: ### ### chmod a+r methylumi -R && F:\biocbuild\bbs-3.17-bioc\R\bin\R.exe CMD build --keep-empty-dirs --no-resave-data methylumi ### ############################################################################## ############################################################################## * checking for file 'methylumi/DESCRIPTION' ... OK * preparing 'methylumi': * checking DESCRIPTION meta-information ... OK * installing the package to build vignettes ----------------------------------- * installing *source* package 'methylumi' ... ** using staged installation ** R ** data ** inst ** byte-compile and prepare package for lazy loading Error: package or namespace load failed for 'minfi': objects 'rowSums', 'colSums', 'rowMeans', 'colMeans' are not exported by 'namespace:BiocGenerics' Execution halted ERROR: lazy loading failed for package 'methylumi' * removing 'F:/biocbuild/bbs-3.17-bioc/tmpdir/Rtmp4GYWJ2/Rinst3ef05d5d5d7c/methylumi' ----------------------------------- ERROR: package installation failed