Back to Mac ARM64 build report for BioC 3.17
[A]BCDEFGHIJKLMNOPQRSTUVWXYZ

This page was generated on 2023-10-20 09:37:47 -0400 (Fri, 20 Oct 2023).

HostnameOSArch (*)R versionInstalled pkgs
kjohnson2macOS 12.6.1 Montereyarm644.3.1 (2023-06-16) -- "Beagle Scouts" 4347
Click on any hostname to see more info about the system (e.g. compilers)      (*) as reported by 'uname -p', except on Windows and Mac OS X

All results for package annotatr


To the developers/maintainers of the annotatr package:
- Use the following Renviron settings to reproduce errors and warnings.
- If 'R CMD check' started to fail recently on the Linux builder(s) over a missing dependency, add the missing dependency to 'Suggests:' in your DESCRIPTION file. See Renviron.bioc for more information.

raw results

Package 74/2230HostnameOS / ArchINSTALLBUILDCHECKBUILD BIN
annotatr 1.26.0  (landing page)
Raymond G. Cavalcante
Snapshot Date: 2023-10-15 14:00:07 -0400 (Sun, 15 Oct 2023)
git_url: https://git.bioconductor.org/packages/annotatr
git_branch: RELEASE_3_17
git_last_commit: 2a45d0a
git_last_commit_date: 2023-04-25 10:50:36 -0400 (Tue, 25 Apr 2023)
kjohnson2macOS 12.6.1 Monterey / arm64  OK    OK    OK    OK  UNNEEDED, same version is already published

Results for Bioconductor software packages that depend directly on package annotatr

QUICK STATSOS / ArchINSTALLBUILDCHECKBUILD BIN
kjohnson2macOS 12.6.1 Monterey / arm64
003
003
1002
003
Package 1/3HostnameOS / ArchINSTALLBUILDCHECKBUILD BIN
dmrseq 1.20.1  (landing page)
Keegan Korthauer
git_last_commit: ed96d9e
git_last_commit_date: 2023-08-08 15:22:46 -0400
kjohnson2macOS 12.6.1 Monterey / arm64  OK    OK    OK    OK  UNNEEDED, same version is already published
Package 2/3HostnameOS / ArchINSTALLBUILDCHECKBUILD BIN
scmeth 1.20.0  (landing page)
Divy Kangeyan
git_last_commit: a2b9cf1
git_last_commit_date: 2023-04-25 10:59:30 -0400
kjohnson2macOS 12.6.1 Monterey / arm64  OK    OK    OK    OK  UNNEEDED, same version is already published
Package 3/3HostnameOS / ArchINSTALLBUILDCHECKBUILD BIN
SOMNiBUS 1.8.0  (landing page)
Audrey Lema├žon
git_last_commit: ff0c9b8
git_last_commit_date: 2023-04-25 11:26:20 -0400
kjohnson2macOS 12.6.1 Monterey / arm64  OK    OK    TIMEOUT    OK