Back to Multiple platform build/check report for BioC 3.17:   simplified   long
ABCDEF[G]HIJKLMNOPQRSTUVWXYZ

This page was generated on 2023-03-31 11:02:41 -0400 (Fri, 31 Mar 2023).

HostnameOSArch (*)R versionInstalled pkgs
nebbiolo1Linux (Ubuntu 22.04.1 LTS)x86_64R Under development (unstable) (2023-03-16 r83996) -- "Unsuffered Consequences" 4547
palomino3Windows Server 2022 Datacenterx64R Under development (unstable) (2023-03-15 r83984 ucrt) -- "Unsuffered Consequences" 4308
Click on any hostname to see more info about the system (e.g. compilers)      (*) as reported by 'uname -p', except on Windows and Mac OS X

BUILD results for GenomicAlignments on nebbiolo1


To the developers/maintainers of the GenomicAlignments package:
- Allow up to 24 hours (and sometimes 48 hours) for your latest push to git@git.bioconductor.org:packages/GenomicAlignments.git to reflect on this report. See Troubleshooting Build Report for more information.

- Use the following Renviron settings to reproduce errors and warnings.

Note: If "R CMD check" recently failed on the Linux builder over a missing dependency, add the missing dependency to "Suggests" in your DESCRIPTION file. See the Renviron.bioc for details.

raw results

Package 789/2195HostnameOS / ArchINSTALLBUILDCHECKBUILD BIN
GenomicAlignments 1.35.1  (landing page)
Hervé Pagès
Snapshot Date: 2023-03-30 14:00:16 -0400 (Thu, 30 Mar 2023)
git_url: https://git.bioconductor.org/packages/GenomicAlignments
git_branch: devel
git_last_commit: 1f8a1c3
git_last_commit_date: 2023-03-08 18:26:20 -0400 (Wed, 08 Mar 2023)
nebbiolo1Linux (Ubuntu 22.04.1 LTS) / x86_64  OK    OK    WARNINGS  UNNEEDED, same version is already published
palomino3Windows Server 2022 Datacenter / x64  OK    OK    WARNINGS    OK  UNNEEDED, same version is already published

Summary

Package: GenomicAlignments
Version: 1.35.1
Command: /home/biocbuild/bbs-3.17-bioc/R/bin/R CMD build --keep-empty-dirs --no-resave-data GenomicAlignments
StartedAt: 2023-03-30 16:36:09 -0400 (Thu, 30 Mar 2023)
EndedAt: 2023-03-30 16:37:45 -0400 (Thu, 30 Mar 2023)
EllapsedTime: 95.5 seconds
RetCode: 0
Status:   OK  
PackageFile: GenomicAlignments_1.35.1.tar.gz
PackageFileSize: 2.159 MiB

Command output

##############################################################################
##############################################################################
###
### Running command:
###
###   /home/biocbuild/bbs-3.17-bioc/R/bin/R CMD build --keep-empty-dirs --no-resave-data GenomicAlignments
###
##############################################################################
##############################################################################


* checking for file ‘GenomicAlignments/DESCRIPTION’ ... OK
* preparing ‘GenomicAlignments’:
* checking DESCRIPTION meta-information ... OK
* cleaning src
* installing the package to build vignettes
* creating vignettes ... OK
* cleaning src
* checking for LF line-endings in source and make files and shell scripts
* checking for empty or unneeded directories
* building ‘GenomicAlignments_1.35.1.tar.gz’