Back to Multiple platform build/check report for BioC 3.17:   simplified   long
ABCDEF[G]HIJKLMNOPQRSTUVWXYZ

This page was generated on 2023-03-28 11:05:59 -0400 (Tue, 28 Mar 2023).

HostnameOSArch (*)R versionInstalled pkgs
nebbiolo1Linux (Ubuntu 22.04.1 LTS)x86_64R Under development (unstable) (2023-03-16 r83996) -- "Unsuffered Consequences" 4547
palomino3Windows Server 2022 Datacenterx64R Under development (unstable) (2023-03-15 r83984 ucrt) -- "Unsuffered Consequences" 4308
merida1macOS 10.14.6 Mojavex86_64R Under development (unstable) (2023-03-16 r83985) -- "Unsuffered Consequences" 4301
Click on any hostname to see more info about the system (e.g. compilers)      (*) as reported by 'uname -p', except on Windows and Mac OS X

BUILD BIN results for GenomeInfoDb on palomino3


To the developers/maintainers of the GenomeInfoDb package:
- Please allow up to 24 hours (and sometimes 48 hours) for your latest push to git@git.bioconductor.org:packages/GenomeInfoDb.git to
reflect on this report. See How and When does the builder pull? When will my changes propagate? for more information.
- Make sure to use the following settings in order to reproduce any error or warning you see on this page.

raw results

Package 786/2195HostnameOS / ArchINSTALLBUILDCHECKBUILD BIN
GenomeInfoDb 1.35.16  (landing page)
Hervé Pagès
Snapshot Date: 2023-03-27 14:00:21 -0400 (Mon, 27 Mar 2023)
git_url: https://git.bioconductor.org/packages/GenomeInfoDb
git_branch: devel
git_last_commit: 9849d29
git_last_commit_date: 2023-03-13 14:04:58 -0400 (Mon, 13 Mar 2023)
nebbiolo1Linux (Ubuntu 22.04.1 LTS) / x86_64  OK    OK    WARNINGS  UNNEEDED, same version is already published
palomino3Windows Server 2022 Datacenter / x64  OK    OK    WARNINGS    OK  UNNEEDED, same version is already published
merida1macOS 10.14.6 Mojave / x86_64  OK    OK    WARNINGS    OK  UNNEEDED, same version is already published

Summary

Package: GenomeInfoDb
Version: 1.35.16
Command: rm -rf GenomeInfoDb.buildbin-libdir && mkdir GenomeInfoDb.buildbin-libdir && F:\biocbuild\bbs-3.17-bioc\R\bin\R.exe CMD INSTALL --build --library=GenomeInfoDb.buildbin-libdir GenomeInfoDb_1.35.16.tar.gz
StartedAt: 2023-03-28 08:37:00 -0400 (Tue, 28 Mar 2023)
EndedAt: 2023-03-28 08:37:34 -0400 (Tue, 28 Mar 2023)
EllapsedTime: 34.4 seconds
RetCode: 0
Status:   OK  
PackageFile: GenomeInfoDb_1.35.16.zip
PackageFileSize: 4.064 MiB

Command output

##############################################################################
##############################################################################
###
### Running command:
###
###   rm -rf GenomeInfoDb.buildbin-libdir && mkdir GenomeInfoDb.buildbin-libdir && F:\biocbuild\bbs-3.17-bioc\R\bin\R.exe CMD INSTALL --build --library=GenomeInfoDb.buildbin-libdir GenomeInfoDb_1.35.16.tar.gz
###
##############################################################################
##############################################################################


* installing *source* package 'GenomeInfoDb' ...
** using staged installation
** R
** inst
** byte-compile and prepare package for lazy loading
** help
*** installing help indices
** building package indices
** installing vignettes
** testing if installed package can be loaded from temporary location
** testing if installed package can be loaded from final location
** testing if installed package keeps a record of temporary installation path
* MD5 sums
packaged installation of 'GenomeInfoDb' as GenomeInfoDb_1.35.16.zip
* DONE (GenomeInfoDb)