Back to Multiple platform build/check report for BioC 3.17:   simplified   long
ABCDEFGHIJKLMNOPQR[S]TUVWXYZ

This page was generated on 2023-06-05 11:05:05 -0400 (Mon, 05 Jun 2023).

HostnameOSArch (*)R versionInstalled pkgs
nebbiolo1Linux (Ubuntu 22.04.2 LTS)x86_644.3.0 RC (2023-04-13 r84269) -- "Already Tomorrow" 4623
palomino3Windows Server 2022 Datacenterx644.3.0 RC (2023-04-13 r84269 ucrt) -- "Already Tomorrow" 4374
merida1macOS 12.6.4 Montereyx86_644.3.0 RC (2023-04-13 r84257) -- "Already Tomorrow" 4332
Click on any hostname to see more info about the system (e.g. compilers)      (*) as reported by 'uname -p', except on Windows and Mac OS X

BUILD BIN results for scCB2 on palomino3


To the developers/maintainers of the scCB2 package:
- Allow up to 24 hours (and sometimes 48 hours) for your latest push to git@git.bioconductor.org:packages/scCB2.git to reflect on this report. See Troubleshooting Build Report for more information.

- Use the following Renviron settings to reproduce errors and warnings.

Note: If "R CMD check" recently failed on the Linux builder over a missing dependency, add the missing dependency to "Suggests" in your DESCRIPTION file. See the Renviron.bioc for details.

raw results

Package 1826/2229HostnameOS / ArchINSTALLBUILDCHECKBUILD BIN
scCB2 1.10.0  (landing page)
Zijian Ni
Snapshot Date: 2023-06-04 14:00:14 -0400 (Sun, 04 Jun 2023)
git_url: https://git.bioconductor.org/packages/scCB2
git_branch: RELEASE_3_17
git_last_commit: ff0241d
git_last_commit_date: 2023-04-25 11:20:27 -0400 (Tue, 25 Apr 2023)
nebbiolo1Linux (Ubuntu 22.04.2 LTS) / x86_64  OK    OK    OK  UNNEEDED, same version is already published
palomino3Windows Server 2022 Datacenter / x64  OK    OK    OK    OK  UNNEEDED, same version is already published
merida1macOS 12.6.4 Monterey / x86_64  OK    OK    OK    NA  

Summary

Package: scCB2
Version: 1.10.0
Command: rm -rf scCB2.buildbin-libdir && mkdir scCB2.buildbin-libdir && F:\biocbuild\bbs-3.17-bioc\R\bin\R.exe CMD INSTALL --build --library=scCB2.buildbin-libdir scCB2_1.10.0.tar.gz
StartedAt: 2023-06-05 09:38:51 -0400 (Mon, 05 Jun 2023)
EndedAt: 2023-06-05 09:39:33 -0400 (Mon, 05 Jun 2023)
EllapsedTime: 41.9 seconds
RetCode: 0
Status:   OK  
PackageFile: scCB2_1.10.0.zip
PackageFileSize: 893.4 KiB

Command output

##############################################################################
##############################################################################
###
### Running command:
###
###   rm -rf scCB2.buildbin-libdir && mkdir scCB2.buildbin-libdir && F:\biocbuild\bbs-3.17-bioc\R\bin\R.exe CMD INSTALL --build --library=scCB2.buildbin-libdir scCB2_1.10.0.tar.gz
###
##############################################################################
##############################################################################


* installing *source* package 'scCB2' ...
** using staged installation
** R
** data
** inst
** byte-compile and prepare package for lazy loading
** help
*** installing help indices
** building package indices
** installing vignettes
** testing if installed package can be loaded from temporary location
** testing if installed package can be loaded from final location
** testing if installed package keeps a record of temporary installation path
* MD5 sums
packaged installation of 'scCB2' as scCB2_1.10.0.zip
* DONE (scCB2)