Back to Multiple platform build/check report for BioC 3.17:   simplified   long
ABC[D]EFGHIJKLMNOPQRSTUVWXYZ

This page was generated on 2023-03-27 11:06:30 -0400 (Mon, 27 Mar 2023).

HostnameOSArch (*)R versionInstalled pkgs
nebbiolo1Linux (Ubuntu 22.04.1 LTS)x86_64R Under development (unstable) (2023-03-16 r83996) -- "Unsuffered Consequences" 4547
palomino3Windows Server 2022 Datacenterx64R Under development (unstable) (2023-03-15 r83984 ucrt) -- "Unsuffered Consequences" 4308
merida1macOS 10.14.6 Mojavex86_64R Under development (unstable) (2023-03-16 r83985) -- "Unsuffered Consequences" 4300
Click on any hostname to see more info about the system (e.g. compilers)      (*) as reported by 'uname -p', except on Windows and Mac OS X

BUILD BIN results for DAMEfinder on merida1


To the developers/maintainers of the DAMEfinder package:
- Please allow up to 24 hours (and sometimes 48 hours) for your latest push to git@git.bioconductor.org:packages/DAMEfinder.git to
reflect on this report. See How and When does the builder pull? When will my changes propagate? for more information.
- Make sure to use the following settings in order to reproduce any error or warning you see on this page.

raw results

Package 483/2195HostnameOS / ArchINSTALLBUILDCHECKBUILD BIN
DAMEfinder 1.11.1  (landing page)
Stephany Orjuela
Snapshot Date: 2023-03-26 14:00:09 -0400 (Sun, 26 Mar 2023)
git_url: https://git.bioconductor.org/packages/DAMEfinder
git_branch: devel
git_last_commit: 3f4d9bf
git_last_commit_date: 2022-12-06 08:46:37 -0400 (Tue, 06 Dec 2022)
nebbiolo1Linux (Ubuntu 22.04.1 LTS) / x86_64  OK    OK    OK  UNNEEDED, same version is already published
palomino3Windows Server 2022 Datacenter / x64  OK    OK    OK    OK  UNNEEDED, same version is already published
merida1macOS 10.14.6 Mojave / x86_64  OK    OK    OK    OK  UNNEEDED, same version is already published

Summary

Package: DAMEfinder
Version: 1.11.1
Command: rm -rf DAMEfinder.buildbin-libdir && mkdir DAMEfinder.buildbin-libdir && /Users/biocbuild/BBS/utils/build-universal.sh DAMEfinder_1.11.1.tar.gz /Library/Frameworks/R.framework/Resources/bin/R DAMEfinder.buildbin-libdir
StartedAt: 2023-03-27 08:51:35 -0400 (Mon, 27 Mar 2023)
EndedAt: 2023-03-27 08:53:06 -0400 (Mon, 27 Mar 2023)
EllapsedTime: 91.0 seconds
RetCode: 0
Status:   OK  
PackageFile: DAMEfinder_1.11.1.tgz
PackageFileSize: 4.691 MiB

Command output

##############################################################################
##############################################################################
###
### Running command:
###
###   rm -rf DAMEfinder.buildbin-libdir && mkdir DAMEfinder.buildbin-libdir && /Users/biocbuild/BBS/utils/build-universal.sh DAMEfinder_1.11.1.tar.gz /Library/Frameworks/R.framework/Resources/bin/R DAMEfinder.buildbin-libdir
###
##############################################################################
##############################################################################


>>>>>>> 
>>>>>>> INSTALLATION WITH 'R CMD INSTALL --preclean --no-multiarch --library=DAMEfinder.buildbin-libdir DAMEfinder_1.11.1.tar.gz'
>>>>>>> 

* installing *source* package ‘DAMEfinder’ ...
** using staged installation
** R
** data
** inst
** byte-compile and prepare package for lazy loading
** help
*** installing help indices
** building package indices
** installing vignettes
** testing if installed package can be loaded from temporary location
** testing if installed package can be loaded from final location
** testing if installed package keeps a record of temporary installation path
* DONE (DAMEfinder)