Back to Multiple platform build/check report for BioC 3.17:   simplified   long
A[B]CDEFGHIJKLMNOPQRSTUVWXYZ

This page was generated on 2023-06-08 11:05:59 -0400 (Thu, 08 Jun 2023).

HostnameOSArch (*)R versionInstalled pkgs
nebbiolo1Linux (Ubuntu 22.04.2 LTS)x86_644.3.0 RC (2023-04-13 r84269) -- "Already Tomorrow" 4628
palomino3Windows Server 2022 Datacenterx644.3.0 RC (2023-04-13 r84269 ucrt) -- "Already Tomorrow" 4379
merida1macOS 12.6.4 Montereyx86_644.3.0 RC (2023-04-13 r84257) -- "Already Tomorrow" 4385
Click on any hostname to see more info about the system (e.g. compilers)      (*) as reported by 'uname -p', except on Windows and Mac OS X

BUILD results for BgeeCall on palomino3


To the developers/maintainers of the BgeeCall package:
- Allow up to 24 hours (and sometimes 48 hours) for your latest push to git@git.bioconductor.org:packages/BgeeCall.git to reflect on this report. See Troubleshooting Build Report for more information.
- Use the following Renviron settings to reproduce errors and warnings.
- If 'R CMD check' started to fail recently on the Linux builder(s) over a missing dependency, add the missing dependency to 'Suggests:' in your DESCRIPTION file. See Renviron.bioc for more information.

raw results

Package 155/2229HostnameOS / ArchINSTALLBUILDCHECKBUILD BIN
BgeeCall 1.16.0  (landing page)
Julien Wollbrett
Snapshot Date: 2023-06-07 14:00:16 -0400 (Wed, 07 Jun 2023)
git_url: https://git.bioconductor.org/packages/BgeeCall
git_branch: RELEASE_3_17
git_last_commit: 74944b5
git_last_commit_date: 2023-04-25 11:14:49 -0400 (Tue, 25 Apr 2023)
nebbiolo1Linux (Ubuntu 22.04.2 LTS) / x86_64  OK    OK    OK  UNNEEDED, same version is already published
palomino3Windows Server 2022 Datacenter / x64  OK    OK    OK    OK  UNNEEDED, same version is already published
merida1macOS 12.6.4 Monterey / x86_64  OK    OK    OK    OK  UNNEEDED, same version is already published

Summary

Package: BgeeCall
Version: 1.16.0
Command: chmod a+r BgeeCall -R && F:\biocbuild\bbs-3.17-bioc\R\bin\R.exe CMD build --keep-empty-dirs --no-resave-data BgeeCall
StartedAt: 2023-06-07 17:27:11 -0400 (Wed, 07 Jun 2023)
EndedAt: 2023-06-07 17:29:23 -0400 (Wed, 07 Jun 2023)
EllapsedTime: 131.9 seconds
RetCode: 0
Status:   OK  
PackageFile: BgeeCall_1.16.0.tar.gz
PackageFileSize: 5.665 MiB

Command output

##############################################################################
##############################################################################
###
### Running command:
###
###   chmod a+r BgeeCall -R && F:\biocbuild\bbs-3.17-bioc\R\bin\R.exe CMD build --keep-empty-dirs --no-resave-data BgeeCall
###
##############################################################################
##############################################################################


* checking for file 'BgeeCall/DESCRIPTION' ... OK
* preparing 'BgeeCall':
* checking DESCRIPTION meta-information ... OK
* installing the package to build vignettes
* creating vignettes ... OK
* checking for LF line-endings in source and make files and shell scripts
* checking for empty or unneeded directories
* building 'BgeeCall_1.16.0.tar.gz'