Back to Multiple platform build/check report for BioC 3.17:   simplified   long
A[B]CDEFGHIJKLMNOPQRSTUVWXYZ

This page was generated on 2023-06-09 11:04:19 -0400 (Fri, 09 Jun 2023).

HostnameOSArch (*)R versionInstalled pkgs
nebbiolo1Linux (Ubuntu 22.04.2 LTS)x86_644.3.0 RC (2023-04-13 r84269) -- "Already Tomorrow" 4628
palomino3Windows Server 2022 Datacenterx644.3.0 RC (2023-04-13 r84269 ucrt) -- "Already Tomorrow" 4379
merida1macOS 12.6.4 Montereyx86_644.3.0 RC (2023-04-13 r84257) -- "Already Tomorrow" 4385
Click on any hostname to see more info about the system (e.g. compilers)      (*) as reported by 'uname -p', except on Windows and Mac OS X

All results for package biocthis


To the developers/maintainers of the biocthis package:
- Allow up to 24 hours (and sometimes 48 hours) for your latest push to git@git.bioconductor.org:packages/biocthis.git to reflect on this report. See Troubleshooting Build Report for more information.
- Use the following Renviron settings to reproduce errors and warnings.
- If 'R CMD check' started to fail recently on the Linux builder(s) over a missing dependency, add the missing dependency to 'Suggests:' in your DESCRIPTION file. See Renviron.bioc for more information.

raw results

Package 190/2229HostnameOS / ArchINSTALLBUILDCHECKBUILD BIN
biocthis 1.10.3  (landing page)
Leonardo Collado-Torres
Snapshot Date: 2023-06-08 14:00:15 -0400 (Thu, 08 Jun 2023)
git_url: https://git.bioconductor.org/packages/biocthis
git_branch: RELEASE_3_17
git_last_commit: 90d99d7
git_last_commit_date: 2023-06-07 12:04:01 -0400 (Wed, 07 Jun 2023)
nebbiolo1Linux (Ubuntu 22.04.2 LTS) / x86_64  OK    OK    OK  UNNEEDED, same version is already published
palomino3Windows Server 2022 Datacenter / x64  OK    OK    OK    OK  UNNEEDED, same version is already published
merida1macOS 12.6.4 Monterey / x86_64  OK    OK    OK    OK  UNNEEDED, same version is already published

Results for Bioconductor software packages that depend directly on package biocthis

QUICK STATSOS / ArchINSTALLBUILDCHECKBUILD BIN
nebbiolo1Linux (Ubuntu 22.04.2 LTS) / x86_64
001
010
0000
palomino3Windows Server 2022 Datacenter / x64
001
010
0000
000
merida1macOS 12.6.4 Monterey / x86_64
001
010
0000
000
Package 1/1HostnameOS / ArchINSTALLBUILDCHECKBUILD BIN
HubPub 1.8.0  (landing page)
Kayla Interdonato
git_last_commit: e1fd842
git_last_commit_date: 2023-04-25 11:30:00 -0400
nebbiolo1Linux (Ubuntu 22.04.2 LTS) / x86_64  OK    ERROR  skipped
palomino3Windows Server 2022 Datacenter / x64  OK    ERROR  skippedskipped
merida1macOS 12.6.4 Monterey / x86_64  OK    ERROR  skippedskipped