Back to Multiple platform build/check report for BioC 3.17:   simplified   long
AB[C]DEFGHIJKLMNOPQRSTUVWXYZ

This page was generated on 2023-03-23 11:06:36 -0400 (Thu, 23 Mar 2023).

HostnameOSArch (*)R versionInstalled pkgs
nebbiolo1Linux (Ubuntu 22.04.1 LTS)x86_64R Under development (unstable) (2023-03-16 r83996) -- "Unsuffered Consequences" 4536
palomino3Windows Server 2022 Datacenterx64R Under development (unstable) (2023-03-15 r83984 ucrt) -- "Unsuffered Consequences" 4298
merida1macOS 10.14.6 Mojavex86_64R Under development (unstable) (2023-03-16 r83985) -- "Unsuffered Consequences" 4290
Click on any hostname to see more info about the system (e.g. compilers)      (*) as reported by 'uname -p', except on Windows and Mac OS X

CHECK results for ChIPanalyser on merida1


To the developers/maintainers of the ChIPanalyser package:
- Please allow up to 24 hours (and sometimes 48 hours) for your latest push to git@git.bioconductor.org:packages/ChIPanalyser.git to
reflect on this report. See How and When does the builder pull? When will my changes propagate? for more information.
- Make sure to use the following settings in order to reproduce any error or warning you see on this page.

raw results

Package 319/2189HostnameOS / ArchINSTALLBUILDCHECKBUILD BIN
ChIPanalyser 1.21.0  (landing page)
Patrick C.N. Martin
Snapshot Date: 2023-03-22 14:00:17 -0400 (Wed, 22 Mar 2023)
git_url: https://git.bioconductor.org/packages/ChIPanalyser
git_branch: devel
git_last_commit: ca12b0a
git_last_commit_date: 2022-11-01 11:16:15 -0400 (Tue, 01 Nov 2022)
nebbiolo1Linux (Ubuntu 22.04.1 LTS) / x86_64  OK    OK    OK  UNNEEDED, same version is already published
palomino3Windows Server 2022 Datacenter / x64  OK    OK    OK    OK  UNNEEDED, same version is already published
merida1macOS 10.14.6 Mojave / x86_64  OK    OK    OK    OK  UNNEEDED, same version is already published

Summary

Package: ChIPanalyser
Version: 1.21.0
Command: /Library/Frameworks/R.framework/Resources/bin/R CMD check --install=check:ChIPanalyser.install-out.txt --library=/Library/Frameworks/R.framework/Resources/library --no-vignettes --timings ChIPanalyser_1.21.0.tar.gz
StartedAt: 2023-03-23 00:07:31 -0400 (Thu, 23 Mar 2023)
EndedAt: 2023-03-23 00:21:14 -0400 (Thu, 23 Mar 2023)
EllapsedTime: 822.8 seconds
RetCode: 0
Status:   OK  
CheckDir: ChIPanalyser.Rcheck
Warnings: 0

Command output

##############################################################################
##############################################################################
###
### Running command:
###
###   /Library/Frameworks/R.framework/Resources/bin/R CMD check --install=check:ChIPanalyser.install-out.txt --library=/Library/Frameworks/R.framework/Resources/library --no-vignettes --timings ChIPanalyser_1.21.0.tar.gz
###
##############################################################################
##############################################################################


* using log directory ‘/Users/biocbuild/bbs-3.17-bioc/meat/ChIPanalyser.Rcheck’
* using R Under development (unstable) (2023-03-16 r83985)
* using platform: x86_64-apple-darwin17.0 (64-bit)
* R was compiled by
    Apple clang version 12.0.0 (clang-1200.0.32.29)
    GNU Fortran (GCC) 8.2.0
* running under: macOS Mojave 10.14.6
* using session charset: UTF-8
* using option ‘--no-vignettes’
* checking for file ‘ChIPanalyser/DESCRIPTION’ ... OK
* checking extension type ... Package
* this is package ‘ChIPanalyser’ version ‘1.21.0’
* package encoding: UTF-8
* checking package namespace information ... OK
* checking package dependencies ... OK
* checking if this is a source package ... OK
* checking if there is a namespace ... OK
* checking for hidden files and directories ... OK
* checking for portable file names ... OK
* checking for sufficient/correct file permissions ... OK
* checking whether package ‘ChIPanalyser’ can be installed ... OK
* checking installed package size ... OK
* checking package directory ... OK
* checking ‘build’ directory ... OK
* checking DESCRIPTION meta-information ... OK
* checking top-level files ... OK
* checking for left-over files ... OK
* checking index information ... OK
* checking package subdirectories ... OK
* checking R files for non-ASCII characters ... OK
* checking R files for syntax errors ... OK
* checking whether the package can be loaded ... OK
* checking whether the package can be loaded with stated dependencies ... OK
* checking whether the package can be unloaded cleanly ... OK
* checking whether the namespace can be loaded with stated dependencies ... OK
* checking whether the namespace can be unloaded cleanly ... OK
* checking dependencies in R code ... OK
* checking S3 generic/method consistency ... OK
* checking replacement functions ... OK
* checking foreign function calls ... OK
* checking R code for possible problems ... OK
* checking Rd files ... OK
* checking Rd metadata ... OK
* checking Rd cross-references ... OK
* checking for missing documentation entries ... OK
* checking for code/documentation mismatches ... OK
* checking Rd \usage sections ... OK
* checking Rd contents ... OK
* checking for unstated dependencies in examples ... OK
* checking contents of ‘data’ directory ... OK
* checking data for non-ASCII characters ... OK
* checking LazyData ... OK
* checking data for ASCII and uncompressed saves ... OK
* checking sizes of PDF files under ‘inst/doc’ ... OK
* checking files in ‘vignettes’ ... OK
* checking examples ... OK
Examples with CPU (user + system) or elapsed time > 5s
                    user system elapsed
getTestingData     5.633  0.161   7.930
setChromatinStates 4.175  0.054   5.677
* checking for unstated dependencies in ‘tests’ ... OK
* checking tests ...
  Running ‘runTests.R’
 OK
* checking for unstated dependencies in vignettes ... OK
* checking package vignettes in ‘inst/doc’ ... OK
* checking running R code from vignettes ... SKIPPED
* checking re-building of vignette outputs ... SKIPPED
* checking PDF version of manual ... OK
* DONE

Status: OK


Installation output

ChIPanalyser.Rcheck/00install.out

##############################################################################
##############################################################################
###
### Running command:
###
###   /Library/Frameworks/R.framework/Resources/bin/R CMD INSTALL ChIPanalyser
###
##############################################################################
##############################################################################


* installing to library ‘/Library/Frameworks/R.framework/Versions/4.3/Resources/library’
* installing *source* package ‘ChIPanalyser’ ...
** using staged installation
** R
** data
*** moving datasets to lazyload DB
** inst
** byte-compile and prepare package for lazy loading
Creating a new generic function for ‘drop’ in package ‘ChIPanalyser’
** help
*** installing help indices
** building package indices
** installing vignettes
** testing if installed package can be loaded from temporary location
** testing if installed package can be loaded from final location
** testing if installed package keeps a record of temporary installation path
* DONE (ChIPanalyser)

Tests output

ChIPanalyser.Rcheck/tests/runTests.Rout


R Under development (unstable) (2023-03-16 r83985) -- "Unsuffered Consequences"
Copyright (C) 2023 The R Foundation for Statistical Computing
Platform: x86_64-apple-darwin17.0 (64-bit)

R is free software and comes with ABSOLUTELY NO WARRANTY.
You are welcome to redistribute it under certain conditions.
Type 'license()' or 'licence()' for distribution details.

R is a collaborative project with many contributors.
Type 'contributors()' for more information and
'citation()' on how to cite R or R packages in publications.

Type 'demo()' for some demos, 'help()' for on-line help, or
'help.start()' for an HTML browser interface to help.
Type 'q()' to quit R.

> BiocGenerics:::testPackage("ChIPanalyser")

Attaching package: 'BiocGenerics'

The following objects are masked from 'package:stats':

    IQR, mad, sd, var, xtabs

The following objects are masked from 'package:base':

    Filter, Find, Map, Position, Reduce, anyDuplicated, aperm, append,
    as.data.frame, basename, cbind, colnames, dirname, do.call,
    duplicated, eval, evalq, get, grep, grepl, intersect, is.unsorted,
    lapply, mapply, match, mget, order, paste, pmax, pmax.int, pmin,
    pmin.int, rank, rbind, rownames, sapply, setdiff, sort, table,
    tapply, union, unique, unsplit, which.max, which.min


Attaching package: 'S4Vectors'

The following objects are masked from 'package:base':

    I, expand.grid, unname


Attaching package: 'Biostrings'

The following object is masked from 'package:base':

    strsplit


Attaching package: 'ChIPanalyser'

The following object is masked from 'package:IRanges':

    drop

The following object is masked from 'package:base':

    drop

Loading required package: BSgenome.Dmelanogaster.UCSC.dm6


RUNIT TEST PROTOCOL -- Thu Mar 23 00:20:47 2023 
*********************************************** 
Number of test functions: 0 
Number of errors: 0 
Number of failures: 0 

 
1 Test Suite : 
ChIPanalyser RUnit Tests - 0 test functions, 0 errors, 0 failures
Number of test functions: 0 
Number of errors: 0 
Number of failures: 0 
> 
> proc.time()
   user  system elapsed 
123.412   8.428 179.428 

Example timings

ChIPanalyser.Rcheck/ChIPanalyser-Ex.timings

nameusersystemelapsed
BPFrequency0.3450.0060.509
BPFrequency_-0.0030.0020.011
ChIPScore-class0.0020.0000.003
ChIPanalyser-package0.0000.0010.000
DNASequenceLength0.0030.0030.006
GRList-class0.0010.0010.001
PFMFormat0.4030.0200.574
PFMFormat_0.1140.0170.184
PWMThreshold0.0240.0050.043
PWMThreshold_-0.0230.0050.049
PWMpseudocount0.0240.0050.042
PWMpseudocount_-0.0240.0050.040
PositionFrequencyMatrix0.1170.0190.186
PositionFrequencyMatrix_-0.0590.0100.101
PositionWeightMatrix0.1150.0170.183
PositionWeightMatrix_-0.0340.0040.053
averageExpPWMScore0.1180.0190.189
backgroundSignal0.0210.0030.035
backgroundSignal_-0.0280.0080.046
boundMolecules0.0220.0030.035
boundMolecules_-0.0270.0080.054
chipMean0.0220.0030.030
chipMean_-0.0220.0030.037
chipSd0.0200.0020.028
chipSd_-0.0210.0030.031
chipSmooth0.0220.0030.037
chipSmooth_-0.0230.0030.030
computeChIPProfile0.0020.0020.006
computeGenomeWideScores0.0000.0000.001
computeOccupancy0.0030.0030.007
computeOptimal0.0030.0030.009
computePWMScore0.0030.0030.005
data0.0010.0020.009
drop0.1160.0180.175
evolve0.0020.0030.005
generateStartingPopulation0.0580.0040.092
genomicProfiles-class0.0010.0010.003
genomicProfiles0.1530.0250.246
genomicProfilesInternal-class0.0010.0000.002
getHighestFitnessSolutions0.0020.0020.008
getTestingData5.6330.1617.930
getTrainingData1.7300.1182.517
lambdaPWM0.0220.0020.031
lambdaPWM_0.0230.0020.032
loci-class0.0010.0000.001
loci1.7120.1392.556
lociWidth0.0220.0030.030
lociWidth_0.0210.0030.028
maxPWMScore0.0030.0030.012
maxSignal0.0200.0010.024
maxSignal_-0.0190.0000.027
minPWMScore0.0020.0030.009
naturalLog0.0210.0030.030
naturalLog_-0.0220.0020.036
noOfSites0.0220.0020.032
noOfSites_-0.0210.0020.035
noiseFilter0.0210.0020.034
noiseFilter_0.0210.0020.035
nos-class0.0010.0000.002
parameterOptions-class0.0010.0010.003
parameterOptions0.0260.0040.042
ploidy0.0200.0000.026
ploidy_-0.0200.0000.028
plotOccupancyProfile0.0030.0030.012
plotOptimalHeatMaps0.0020.0030.005
processingChIP1.7370.1312.572
profileAccuracyEstimate0.0030.0030.006
removeBackground0.0190.0010.029
removeBackground_-0.0210.0000.029
scores1.7570.1252.533
searchSites0.0030.0020.005
setChromatinStates4.1750.0545.677
singleRun0.0020.0020.008
splitData1.7970.1002.620
stepSize0.0200.0000.029
stepSize_-0.0200.0000.025
strandRule0.0210.0030.034
strandRule_-0.0210.0030.031
whichstrand0.0220.0030.034
whichstrand_-0.0200.0030.034