Back to Multiple platform build/check report for BioC 3.17: simplified long |
|
This page was generated on 2023-03-23 11:06:54 -0400 (Thu, 23 Mar 2023).
Hostname | OS | Arch (*) | R version | Installed pkgs |
---|---|---|---|---|
nebbiolo1 | Linux (Ubuntu 22.04.1 LTS) | x86_64 | R Under development (unstable) (2023-03-16 r83996) -- "Unsuffered Consequences" | 4536 |
palomino3 | Windows Server 2022 Datacenter | x64 | R Under development (unstable) (2023-03-15 r83984 ucrt) -- "Unsuffered Consequences" | 4298 |
merida1 | macOS 10.14.6 Mojave | x86_64 | R Under development (unstable) (2023-03-16 r83985) -- "Unsuffered Consequences" | 4290 |
Click on any hostname to see more info about the system (e.g. compilers) (*) as reported by 'uname -p', except on Windows and Mac OS X |
To the developers/maintainers of the mbkmeans package: - Please allow up to 24 hours (and sometimes 48 hours) for your latest push to git@git.bioconductor.org:packages/mbkmeans.git to reflect on this report. See How and When does the builder pull? When will my changes propagate? for more information. - Make sure to use the following settings in order to reproduce any error or warning you see on this page. |
Package 1117/2189 | Hostname | OS / Arch | INSTALL | BUILD | CHECK | BUILD BIN | ||||||||
mbkmeans 1.15.0 (landing page) Davide Risso
| nebbiolo1 | Linux (Ubuntu 22.04.1 LTS) / x86_64 | OK | OK | OK | ![]() | ||||||||
palomino3 | Windows Server 2022 Datacenter / x64 | OK | OK | OK | OK | ![]() | ||||||||
merida1 | macOS 10.14.6 Mojave / x86_64 | OK | OK | OK | OK | ![]() | ||||||||
Package: mbkmeans |
Version: 1.15.0 |
Command: /Library/Frameworks/R.framework/Resources/bin/R CMD INSTALL mbkmeans |
StartedAt: 2023-03-22 15:52:10 -0400 (Wed, 22 Mar 2023) |
EndedAt: 2023-03-22 15:54:26 -0400 (Wed, 22 Mar 2023) |
EllapsedTime: 136.0 seconds |
RetCode: 0 |
Status: OK |
############################################################################## ############################################################################## ### ### Running command: ### ### /Library/Frameworks/R.framework/Resources/bin/R CMD INSTALL mbkmeans ### ############################################################################## ############################################################################## * installing to library ‘/Library/Frameworks/R.framework/Versions/4.3/Resources/library’ * installing *source* package ‘mbkmeans’ ... ** using staged installation ** libs using C++ compiler: ‘Apple clang version 11.0.0 (clang-1100.0.33.17)’ using C++11 using SDK: ‘’ clang++ -mmacosx-version-min=10.13 -std=gnu++11 -I"/Library/Frameworks/R.framework/Resources/include" -DNDEBUG -I'/Library/Frameworks/R.framework/Versions/4.3/Resources/library/Rcpp/include' -I'/Library/Frameworks/R.framework/Versions/4.3/Resources/library/RcppArmadillo/include' -I'/Library/Frameworks/R.framework/Versions/4.3/Resources/library/Rhdf5lib/include' -I'/Library/Frameworks/R.framework/Versions/4.3/Resources/library/beachmat/include' -I'/Library/Frameworks/R.framework/Versions/4.3/Resources/library/ClusterR/include' -I/usr/local/include -fPIC -Wall -g -O2 -c RcppExports.cpp -o RcppExports.o clang++ -mmacosx-version-min=10.13 -std=gnu++11 -I"/Library/Frameworks/R.framework/Resources/include" -DNDEBUG -I'/Library/Frameworks/R.framework/Versions/4.3/Resources/library/Rcpp/include' -I'/Library/Frameworks/R.framework/Versions/4.3/Resources/library/RcppArmadillo/include' -I'/Library/Frameworks/R.framework/Versions/4.3/Resources/library/Rhdf5lib/include' -I'/Library/Frameworks/R.framework/Versions/4.3/Resources/library/beachmat/include' -I'/Library/Frameworks/R.framework/Versions/4.3/Resources/library/ClusterR/include' -I/usr/local/include -fPIC -Wall -g -O2 -c mini_batch.cpp -o mini_batch.o In file included from mini_batch.cpp:2: In file included from /Library/Frameworks/R.framework/Versions/4.3/Resources/library/RcppArmadillo/include/RcppArmadillo.h:29: In file included from /Library/Frameworks/R.framework/Versions/4.3/Resources/library/RcppArmadillo/include/RcppArmadillo/interface/RcppArmadilloForward.h:57: In file included from /Library/Frameworks/R.framework/Versions/4.3/Resources/library/RcppArmadillo/include/armadillo:26: /Library/Frameworks/R.framework/Versions/4.3/Resources/library/RcppArmadillo/include/armadillo_bits/config.hpp:338:11: warning: INFO: support for ARMA_DONT_PRINT_ERRORS option has been removed [-W#pragma-messages] #pragma message ("INFO: support for ARMA_DONT_PRINT_ERRORS option has been removed") ^ /Library/Frameworks/R.framework/Versions/4.3/Resources/library/RcppArmadillo/include/armadillo_bits/config.hpp:343:13: warning: INFO: suggest to use ARMA_WARN_LEVEL option instead [-W#pragma-messages] #pragma message ("INFO: suggest to use ARMA_WARN_LEVEL option instead") ^ /Library/Frameworks/R.framework/Versions/4.3/Resources/library/RcppArmadillo/include/armadillo_bits/config.hpp:346:11: warning: INFO: see the documentation for details [-W#pragma-messages] #pragma message ("INFO: see the documentation for details") ^ 3 warnings generated. clang++ -mmacosx-version-min=10.13 -std=gnu++11 -dynamiclib -Wl,-headerpad_max_install_names -undefined dynamic_lookup -single_module -multiply_defined suppress -L/Library/Frameworks/R.framework/Resources/lib -L/usr/local/lib -o mbkmeans.so RcppExports.o mini_batch.o -F/Library/Frameworks/R.framework/.. -framework R -Wl,-framework -Wl,CoreFoundation installing to /Library/Frameworks/R.framework/Versions/4.3/Resources/library/00LOCK-mbkmeans/00new/mbkmeans/libs ** R ** inst ** byte-compile and prepare package for lazy loading ** help *** installing help indices ** building package indices ** installing vignettes ** testing if installed package can be loaded from temporary location ** checking absolute paths in shared objects and dynamic libraries ** testing if installed package can be loaded from final location ** testing if installed package keeps a record of temporary installation path * DONE (mbkmeans)