Back to Multiple platform build/check report for BioC 3.17:   simplified   long
ABCDEF[G]HIJKLMNOPQRSTUVWXYZ

This page was generated on 2023-10-16 11:36:10 -0400 (Mon, 16 Oct 2023).

HostnameOSArch (*)R versionInstalled pkgs
nebbiolo1Linux (Ubuntu 22.04.2 LTS)x86_644.3.1 (2023-06-16) -- "Beagle Scouts" 4626
palomino3Windows Server 2022 Datacenterx644.3.1 (2023-06-16 ucrt) -- "Beagle Scouts" 4379
merida1macOS 12.6.4 Montereyx86_644.3.1 (2023-06-16) -- "Beagle Scouts" 4395
Click on any hostname to see more info about the system (e.g. compilers)      (*) as reported by 'uname -p', except on Windows and Mac OS X

Package 806/2230HostnameOS / ArchINSTALLBUILDCHECKBUILD BIN
GenomicFeatures 1.52.2  (landing page)
H. Pag├Ęs
Snapshot Date: 2023-10-15 14:00:13 -0400 (Sun, 15 Oct 2023)
git_url: https://git.bioconductor.org/packages/GenomicFeatures
git_branch: RELEASE_3_17
git_last_commit: b430ea1
git_last_commit_date: 2023-08-25 11:15:43 -0400 (Fri, 25 Aug 2023)
nebbiolo1Linux (Ubuntu 22.04.2 LTS) / x86_64  OK    OK    OK  UNNEEDED, same version is already published
palomino3Windows Server 2022 Datacenter / x64  OK    OK    OK    OK  UNNEEDED, same version is already published
merida1macOS 12.6.4 Monterey / x86_64  OK    OK    OK    OK  UNNEEDED, same version is already published
kjohnson2macOS 12.6.1 Monterey / arm64see weekly results here

BUILD results for GenomicFeatures on palomino3


To the developers/maintainers of the GenomicFeatures package:
- Allow up to 24 hours (and sometimes 48 hours) for your latest push to git@git.bioconductor.org:packages/GenomicFeatures.git to reflect on this report. See Troubleshooting Build Report for more information.
- Use the following Renviron settings to reproduce errors and warnings.
- If 'R CMD check' started to fail recently on the Linux builder(s) over a missing dependency, add the missing dependency to 'Suggests:' in your DESCRIPTION file. See Renviron.bioc for more information.

raw results


Summary

Package: GenomicFeatures
Version: 1.52.2
Command: chmod a+r GenomicFeatures -R && F:\biocbuild\bbs-3.17-bioc\R\bin\R.exe CMD build --keep-empty-dirs --no-resave-data GenomicFeatures
StartedAt: 2023-10-15 19:28:00 -0400 (Sun, 15 Oct 2023)
EndedAt: 2023-10-15 19:30:14 -0400 (Sun, 15 Oct 2023)
EllapsedTime: 134.2 seconds
RetCode: 0
Status:   OK  
PackageFile: GenomicFeatures_1.52.2.tar.gz
PackageFileSize: 1.125 MiB

Command output

##############################################################################
##############################################################################
###
### Running command:
###
###   chmod a+r GenomicFeatures -R && F:\biocbuild\bbs-3.17-bioc\R\bin\R.exe CMD build --keep-empty-dirs --no-resave-data GenomicFeatures
###
##############################################################################
##############################################################################


* checking for file 'GenomicFeatures/DESCRIPTION' ... OK
* preparing 'GenomicFeatures':
* checking DESCRIPTION meta-information ... OK
* installing the package to build vignettes
* creating vignettes ... OK
* checking for LF line-endings in source and make files and shell scripts
* checking for empty or unneeded directories
* building 'GenomicFeatures_1.52.2.tar.gz'