Back to Multiple platform build/check report for BioC 3.17:   simplified   long
AB[C]DEFGHIJKLMNOPQRSTUVWXYZ

This page was generated on 2023-03-31 11:02:15 -0400 (Fri, 31 Mar 2023).

HostnameOSArch (*)R versionInstalled pkgs
nebbiolo1Linux (Ubuntu 22.04.1 LTS)x86_64R Under development (unstable) (2023-03-16 r83996) -- "Unsuffered Consequences" 4547
palomino3Windows Server 2022 Datacenterx64R Under development (unstable) (2023-03-15 r83984 ucrt) -- "Unsuffered Consequences" 4308
Click on any hostname to see more info about the system (e.g. compilers)      (*) as reported by 'uname -p', except on Windows and Mac OS X

All results for package circRNAprofiler


To the developers/maintainers of the circRNAprofiler package:
- Allow up to 24 hours (and sometimes 48 hours) for your latest push to git@git.bioconductor.org:packages/circRNAprofiler.git to reflect on this report. See Troubleshooting Build Report for more information.

- Use the following Renviron settings to reproduce errors and warnings.

Note: If "R CMD check" recently failed on the Linux builder over a missing dependency, add the missing dependency to "Suggests" in your DESCRIPTION file. See the Renviron.bioc for details.

raw results

Package 342/2195HostnameOS / ArchINSTALLBUILDCHECKBUILD BIN
circRNAprofiler 1.13.7  (landing page)
Simona Aufiero
Snapshot Date: 2023-03-30 14:00:16 -0400 (Thu, 30 Mar 2023)
git_url: https://git.bioconductor.org/packages/circRNAprofiler
git_branch: devel
git_last_commit: a1cfa55
git_last_commit_date: 2023-01-23 04:19:23 -0400 (Mon, 23 Jan 2023)
nebbiolo1Linux (Ubuntu 22.04.1 LTS) / x86_64  ERROR    ERROR  skipped
palomino3Windows Server 2022 Datacenter / x64  ERROR    ERROR  skippedskipped