Back to Multiple platform build/check report for BioC 3.17:   simplified   long
ABCDEFGHIJKLMNO[P]QRSTUVWXYZ

This page was generated on 2023-06-02 11:06:19 -0400 (Fri, 02 Jun 2023).

HostnameOSArch (*)R versionInstalled pkgs
nebbiolo1Linux (Ubuntu 22.04.2 LTS)x86_644.3.0 RC (2023-04-13 r84269) -- "Already Tomorrow" 4618
palomino3Windows Server 2022 Datacenterx644.3.0 RC (2023-04-13 r84269 ucrt) -- "Already Tomorrow" 4369
merida1macOS 12.6.4 Montereyx86_644.3.0 RC (2023-04-13 r84257) -- "Already Tomorrow" 4327
Click on any hostname to see more info about the system (e.g. compilers)      (*) as reported by 'uname -p', except on Windows and Mac OS X

CHECK results for peakPantheR on palomino3


To the developers/maintainers of the peakPantheR package:
- Allow up to 24 hours (and sometimes 48 hours) for your latest push to git@git.bioconductor.org:packages/peakPantheR.git to reflect on this report. See Troubleshooting Build Report for more information.

- Use the following Renviron settings to reproduce errors and warnings.

Note: If "R CMD check" recently failed on the Linux builder over a missing dependency, add the missing dependency to "Suggests" in your DESCRIPTION file. See the Renviron.bioc for details.

raw results

Package 1490/2229HostnameOS / ArchINSTALLBUILDCHECKBUILD BIN
peakPantheR 1.14.0  (landing page)
Arnaud Wolfer
Snapshot Date: 2023-06-01 14:00:08 -0400 (Thu, 01 Jun 2023)
git_url: https://git.bioconductor.org/packages/peakPantheR
git_branch: RELEASE_3_17
git_last_commit: 3478dbc
git_last_commit_date: 2023-04-25 11:12:38 -0400 (Tue, 25 Apr 2023)
nebbiolo1Linux (Ubuntu 22.04.2 LTS) / x86_64  OK    OK    OK  UNNEEDED, same version is already published
palomino3Windows Server 2022 Datacenter / x64  OK    OK    OK    OK  UNNEEDED, same version is already published
merida1macOS 12.6.4 Monterey / x86_64  OK    OK    OK    OK  UNNEEDED, same version is already published

Summary

Package: peakPantheR
Version: 1.14.0
Command: F:\biocbuild\bbs-3.17-bioc\R\bin\R.exe CMD check --no-multiarch --install=check:peakPantheR.install-out.txt --library=F:\biocbuild\bbs-3.17-bioc\R\library --no-vignettes --timings peakPantheR_1.14.0.tar.gz
StartedAt: 2023-06-02 05:10:26 -0400 (Fri, 02 Jun 2023)
EndedAt: 2023-06-02 05:26:33 -0400 (Fri, 02 Jun 2023)
EllapsedTime: 967.8 seconds
RetCode: 0
Status:   OK  
CheckDir: peakPantheR.Rcheck
Warnings: 0

Command output

##############################################################################
##############################################################################
###
### Running command:
###
###   F:\biocbuild\bbs-3.17-bioc\R\bin\R.exe CMD check --no-multiarch --install=check:peakPantheR.install-out.txt --library=F:\biocbuild\bbs-3.17-bioc\R\library --no-vignettes --timings peakPantheR_1.14.0.tar.gz
###
##############################################################################
##############################################################################


* using log directory 'F:/biocbuild/bbs-3.17-bioc/meat/peakPantheR.Rcheck'
* using R version 4.3.0 RC (2023-04-13 r84269 ucrt)
* using platform: x86_64-w64-mingw32 (64-bit)
* R was compiled by
    gcc.exe (GCC) 12.2.0
    GNU Fortran (GCC) 12.2.0
* running under: Windows Server 2022 x64 (build 20348)
* using session charset: UTF-8
* using option '--no-vignettes'
* checking for file 'peakPantheR/DESCRIPTION' ... OK
* this is package 'peakPantheR' version '1.14.0'
* package encoding: UTF-8
* checking package namespace information ... OK
* checking package dependencies ... OK
* checking if this is a source package ... OK
* checking if there is a namespace ... OK
* checking for hidden files and directories ... OK
* checking for portable file names ... OK
* checking whether package 'peakPantheR' can be installed ... OK
* checking installed package size ... OK
* checking package directory ... OK
* checking 'build' directory ... OK
* checking DESCRIPTION meta-information ... OK
* checking top-level files ... OK
* checking for left-over files ... OK
* checking index information ... OK
* checking package subdirectories ... OK
* checking R files for non-ASCII characters ... OK
* checking R files for syntax errors ... OK
* checking whether the package can be loaded ... OK
* checking whether the package can be loaded with stated dependencies ... OK
* checking whether the package can be unloaded cleanly ... OK
* checking whether the namespace can be loaded with stated dependencies ... OK
* checking whether the namespace can be unloaded cleanly ... OK
* checking startup messages can be suppressed ... OK
* checking dependencies in R code ... OK
* checking S3 generic/method consistency ... OK
* checking replacement functions ... OK
* checking foreign function calls ... OK
* checking R code for possible problems ... OK
* checking Rd files ... OK
* checking Rd metadata ... OK
* checking Rd cross-references ... OK
* checking for missing documentation entries ... OK
* checking for code/documentation mismatches ... OK
* checking Rd \usage sections ... OK
* checking Rd contents ... OK
* checking for unstated dependencies in examples ... OK
* checking files in 'vignettes' ... OK
* checking examples ... OK
Examples with CPU (user + system) or elapsed time > 5s
                                                         user system elapsed
peakPantheR_ROIStatistics                               17.86   0.33   18.18
peakPantheR_parallelAnnotation                          12.78   0.15   12.94
outputAnnotationResult-peakPantheRAnnotation-method     12.61   0.08   12.69
outputAnnotationDiagnostic-peakPantheRAnnotation-method 12.52   0.09   12.80
EICs-peakPantheRAnnotation-method                        9.39   0.49   10.27
retentionTimeCorrection-peakPantheRAnnotation-method     8.57   0.07    8.63
* checking for unstated dependencies in 'tests' ... OK
* checking tests ...
  Running 'testthat.R'
 OK
* checking for unstated dependencies in vignettes ... OK
* checking package vignettes in 'inst/doc' ... OK
* checking running R code from vignettes ... SKIPPED
* checking re-building of vignette outputs ... SKIPPED
* checking PDF version of manual ... OK
* DONE

Status: OK


Installation output

peakPantheR.Rcheck/00install.out

##############################################################################
##############################################################################
###
### Running command:
###
###   F:\biocbuild\bbs-3.17-bioc\R\bin\R.exe CMD INSTALL peakPantheR
###
##############################################################################
##############################################################################


* installing to library 'F:/biocbuild/bbs-3.17-bioc/R/library'
* installing *source* package 'peakPantheR' ...
** using staged installation
** R
** inst
** byte-compile and prepare package for lazy loading
** help
*** installing help indices
*** copying figures
** building package indices
** installing vignettes
** testing if installed package can be loaded from temporary location
** testing if installed package can be loaded from final location
** testing if installed package keeps a record of temporary installation path
* DONE (peakPantheR)

Tests output

peakPantheR.Rcheck/tests/testthat.Rout


R version 4.3.0 RC (2023-04-13 r84269 ucrt) -- "Already Tomorrow"
Copyright (C) 2023 The R Foundation for Statistical Computing
Platform: x86_64-w64-mingw32/x64 (64-bit)

R is free software and comes with ABSOLUTELY NO WARRANTY.
You are welcome to redistribute it under certain conditions.
Type 'license()' or 'licence()' for distribution details.

R is a collaborative project with many contributors.
Type 'contributors()' for more information and
'citation()' on how to cite R or R packages in publications.

Type 'demo()' for some demos, 'help()' for on-line help, or
'help.start()' for an HTML browser interface to help.
Type 'q()' to quit R.

> library(testthat)
> library(peakPantheR)

This is peakPantheR version 1.14.0 

> 
> test_check("peakPantheR")
[ FAIL 0 | WARN 0 | SKIP 0 | PASS 1438 ]
Warning messages:
1: In .Internal(gc(verbose, reset, full)) :
  closing unused connection 10 (F:\biocbuild\bbs-3.17-bioc\tmpdir\RtmpKMu8U7\notValidXML.mzML)
2: In .Internal(gc(verbose, reset, full)) :
  closing unused connection 9 (F:\biocbuild\bbs-3.17-bioc\tmpdir\RtmpKMu8U7\notValidXML.mzML)
3: In .Internal(gc(verbose, reset, full)) :
  closing unused connection 8 (F:\biocbuild\bbs-3.17-bioc\tmpdir\RtmpKMu8U7\notValidXML.mzML)
4: In .Internal(gc(verbose, reset, full)) :
  closing unused connection 7 (F:\biocbuild\bbs-3.17-bioc\tmpdir\RtmpKMu8U7\notValidXML.mzML)
5: In .Internal(gc(verbose, reset, full)) :
  closing unused connection 6 (F:\biocbuild\bbs-3.17-bioc\R\library\peakPantheR\extdata\test_fakemzML.mzML)
6: In .Internal(gc(verbose, reset, full)) :
  closing unused connection 5 (F:\biocbuild\bbs-3.17-bioc\R\library\peakPantheR\extdata\test_fakemzML.mzML)
> 
> proc.time()
   user  system elapsed 
 634.06    7.10  795.35 

Example timings

peakPantheR.Rcheck/peakPantheR-Ex.timings

nameusersystemelapsed
EICs-peakPantheRAnnotation-method 9.39 0.4910.27
FIR-peakPantheRAnnotation-method0.180.050.22
ROI-peakPantheRAnnotation-method0.220.010.24
TIC-peakPantheRAnnotation-method0.170.030.20
acquisitionTime-peakPantheRAnnotation-method0.180.020.19
annotationDiagnosticPlots-peakPantheRAnnotation-method0.140.050.19
annotationParamsDiagnostic-peakPantheRAnnotation-method0.170.010.19
annotationTable-peakPantheRAnnotation-method0.210.020.22
annotation_diagnostic_multiplot_UI_helper0.120.010.14
annotation_fit_summary_UI_helper000
annotation_showMethod_UI_helper0.020.000.02
annotation_showText_UI_helper000
cpdID-peakPantheRAnnotation-method0.140.070.20
cpdMetadata-peakPantheRAnnotation-method0.150.060.22
cpdName-peakPantheRAnnotation-method0.130.060.19
dataPoints-peakPantheRAnnotation-method0.190.060.25
filename-peakPantheRAnnotation-method0.150.050.20
filepath-peakPantheRAnnotation-method0.160.030.18
initialise_annotation_from_files_UI_helper0.000.020.01
isAnnotated-peakPantheRAnnotation-method0.190.000.19
load_annotation_from_file_UI_helper0.000.000.01
nbCompounds-peakPantheRAnnotation-method0.250.000.25
nbSamples-peakPantheRAnnotation-method0.210.030.24
outputAnnotationDiagnostic-peakPantheRAnnotation-method12.52 0.0912.80
outputAnnotationFeatureMetadata_UI_helper000
outputAnnotationParamsCSV-peakPantheRAnnotation-method0.030.000.03
outputAnnotationResult-peakPantheRAnnotation-method12.61 0.0812.69
outputAnnotationSpectraMetadata_UI_helper000
peakFit-peakPantheRAnnotation-method0.220.050.26
peakPantheRAnnotation0.150.030.19
peakPantheR_ROIStatistics17.86 0.3318.18
peakPantheR_loadAnnotationParamsCSV0.040.000.03
peakPantheR_parallelAnnotation12.78 0.1512.94
peakPantheR_plotEICFit0.380.020.40
peakPantheR_plotPeakwidth0.540.000.54
peakPantheR_singleFileSearch4.600.014.61
peakPantheR_start_GUI000
peakTables-peakPantheRAnnotation-method0.220.050.27
resetAnnotation-peakPantheRAnnotation-method0.150.030.18
resetFIR-peakPantheRAnnotation-method000
retentionTimeCorrection-peakPantheRAnnotation-method8.570.078.63
spectraMetadata-peakPantheRAnnotation-method0.180.010.20
spectraPaths_and_metadata_UI_helper0.020.000.02
spectra_metadata_colourScheme_UI_helper000
uROI-peakPantheRAnnotation-method0.170.010.19
uROIExist-peakPantheRAnnotation-method0.170.020.19
useFIR-peakPantheRAnnotation-method0.170.030.20
useUROI-peakPantheRAnnotation-method0.240.010.25