Back to Multiple platform build/check report for BioC 3.17:   simplified   long
ABCDEFGHIJKL[M]NOPQRSTUVWXYZ

This page was generated on 2023-03-31 11:03:11 -0400 (Fri, 31 Mar 2023).

HostnameOSArch (*)R versionInstalled pkgs
nebbiolo1Linux (Ubuntu 22.04.1 LTS)x86_64R Under development (unstable) (2023-03-16 r83996) -- "Unsuffered Consequences" 4547
palomino3Windows Server 2022 Datacenterx64R Under development (unstable) (2023-03-15 r83984 ucrt) -- "Unsuffered Consequences" 4308
Click on any hostname to see more info about the system (e.g. compilers)      (*) as reported by 'uname -p', except on Windows and Mac OS X

BUILD results for metagene2 on palomino3


To the developers/maintainers of the metagene2 package:
- Allow up to 24 hours (and sometimes 48 hours) for your latest push to git@git.bioconductor.org:packages/metagene2.git to reflect on this report. See Troubleshooting Build Report for more information.

- Use the following Renviron settings to reproduce errors and warnings.

Note: If "R CMD check" recently failed on the Linux builder over a missing dependency, add the missing dependency to "Suggests" in your DESCRIPTION file. See the Renviron.bioc for details.

raw results

Package 1159/2195HostnameOS / ArchINSTALLBUILDCHECKBUILD BIN
metagene2 1.15.1  (landing page)
Eric Fournier
Snapshot Date: 2023-03-30 14:00:16 -0400 (Thu, 30 Mar 2023)
git_url: https://git.bioconductor.org/packages/metagene2
git_branch: devel
git_last_commit: dc6eff2
git_last_commit_date: 2023-02-06 18:32:07 -0400 (Mon, 06 Feb 2023)
nebbiolo1Linux (Ubuntu 22.04.1 LTS) / x86_64  OK    OK    WARNINGS  UNNEEDED, same version is already published
palomino3Windows Server 2022 Datacenter / x64  OK    OK    WARNINGS    OK  UNNEEDED, same version is already published

Summary

Package: metagene2
Version: 1.15.1
Command: chmod a+r metagene2 -R && F:\biocbuild\bbs-3.17-bioc\R\bin\R.exe CMD build --keep-empty-dirs --no-resave-data metagene2
StartedAt: 2023-03-30 19:59:19 -0400 (Thu, 30 Mar 2023)
EndedAt: 2023-03-30 20:01:28 -0400 (Thu, 30 Mar 2023)
EllapsedTime: 129.4 seconds
RetCode: 0
Status:   OK  
PackageFile: metagene2_1.15.1.tar.gz
PackageFileSize: 1.721 MiB

Command output

##############################################################################
##############################################################################
###
### Running command:
###
###   chmod a+r metagene2 -R && F:\biocbuild\bbs-3.17-bioc\R\bin\R.exe CMD build --keep-empty-dirs --no-resave-data metagene2
###
##############################################################################
##############################################################################


* checking for file 'metagene2/DESCRIPTION' ... OK
* preparing 'metagene2':
* checking DESCRIPTION meta-information ... OK
* installing the package to build vignettes
* creating vignettes ... OK
* checking for LF line-endings in source and make files and shell scripts
* checking for empty or unneeded directories
Omitted 'LazyData' from DESCRIPTION
* building 'metagene2_1.15.1.tar.gz'