Back to Multiple platform build/check report for BioC 3.17:   simplified   long
ABCDEFGHIJKLMNOPQ[R]STUVWXYZ

This page was generated on 2023-03-20 11:06:53 -0400 (Mon, 20 Mar 2023).

HostnameOSArch (*)R versionInstalled pkgs
nebbiolo1Linux (Ubuntu 22.04.1 LTS)x86_64R Under development (unstable) (2023-03-16 r83996) -- "Unsuffered Consequences" 4297
palomino3Windows Server 2022 Datacenterx64R Under development (unstable) (2023-03-15 r83984 ucrt) -- "Unsuffered Consequences" 4286
merida1macOS 10.14.6 Mojavex86_64R Under development (unstable) (2023-03-16 r83985) -- "Unsuffered Consequences" 4150
Click on any hostname to see more info about the system (e.g. compilers)      (*) as reported by 'uname -p', except on Windows and Mac OS X

INSTALL results for RMassBank on merida1


To the developers/maintainers of the RMassBank package:
- Please allow up to 24 hours (and sometimes 48 hours) for your latest push to git@git.bioconductor.org:packages/RMassBank.git to
reflect on this report. See How and When does the builder pull? When will my changes propagate? for more information.
- Make sure to use the following settings in order to reproduce any error or warning you see on this page.

raw results

Package 1704/2189HostnameOS / ArchINSTALLBUILDCHECKBUILD BIN
RMassBank 3.9.0  (landing page)
RMassBank at Eawag
Snapshot Date: 2023-03-19 14:00:12 -0400 (Sun, 19 Mar 2023)
git_url: https://git.bioconductor.org/packages/RMassBank
git_branch: master
git_last_commit: b05aa95
git_last_commit_date: 2022-11-01 11:07:13 -0400 (Tue, 01 Nov 2022)
nebbiolo1Linux (Ubuntu 22.04.1 LTS) / x86_64  OK    OK    WARNINGS  UNNEEDED, same version is already published
palomino3Windows Server 2022 Datacenter / x64  OK    OK    WARNINGS    OK  UNNEEDED, same version is already published
merida1macOS 10.14.6 Mojave / x86_64  ERROR    ERROR  skippedskipped

Summary

Package: RMassBank
Version: 3.9.0
Command: /Library/Frameworks/R.framework/Resources/bin/R CMD INSTALL RMassBank
StartedAt: 2023-03-19 16:08:51 -0400 (Sun, 19 Mar 2023)
EndedAt: 2023-03-19 16:08:52 -0400 (Sun, 19 Mar 2023)
EllapsedTime: 1.4 seconds
RetCode: 1
Status:   ERROR  

Command output

##############################################################################
##############################################################################
###
### Running command:
###
###   /Library/Frameworks/R.framework/Resources/bin/R CMD INSTALL RMassBank
###
##############################################################################
##############################################################################


* installing to library ‘/Library/Frameworks/R.framework/Versions/4.3/Resources/library’
ERROR: dependencies ‘mzR’, ‘MSnbase’, ‘ChemmineR’ are not available for package ‘RMassBank’
* removing ‘/Library/Frameworks/R.framework/Versions/4.3/Resources/library/RMassBank’