Back to Multiple platform build/check report for BioC 3.17: simplified long |
|
This page was generated on 2023-03-24 11:06:10 -0400 (Fri, 24 Mar 2023).
Hostname | OS | Arch (*) | R version | Installed pkgs |
---|---|---|---|---|
nebbiolo1 | Linux (Ubuntu 22.04.1 LTS) | x86_64 | R Under development (unstable) (2023-03-16 r83996) -- "Unsuffered Consequences" | 4546 |
palomino3 | Windows Server 2022 Datacenter | x64 | R Under development (unstable) (2023-03-15 r83984 ucrt) -- "Unsuffered Consequences" | 4307 |
merida1 | macOS 10.14.6 Mojave | x86_64 | R Under development (unstable) (2023-03-16 r83985) -- "Unsuffered Consequences" | 4299 |
Click on any hostname to see more info about the system (e.g. compilers) (*) as reported by 'uname -p', except on Windows and Mac OS X |
To the developers/maintainers of the musicatk package: - Please allow up to 24 hours (and sometimes 48 hours) for your latest push to git@git.bioconductor.org:packages/musicatk.git to reflect on this report. See How and When does the builder pull? When will my changes propagate? for more information. - Make sure to use the following settings in order to reproduce any error or warning you see on this page. |
Package 1326/2195 | Hostname | OS / Arch | INSTALL | BUILD | CHECK | BUILD BIN | ||||||||
musicatk 1.9.0 (landing page) Aaron Chevalier
| nebbiolo1 | Linux (Ubuntu 22.04.1 LTS) / x86_64 | OK | OK | OK | ![]() | ||||||||
palomino3 | Windows Server 2022 Datacenter / x64 | OK | OK | OK | OK | ![]() | ||||||||
merida1 | macOS 10.14.6 Mojave / x86_64 | OK | OK | OK | OK | ![]() | ||||||||
Package: musicatk |
Version: 1.9.0 |
Command: F:\biocbuild\bbs-3.17-bioc\R\bin\R.exe CMD check --no-multiarch --install=check:musicatk.install-out.txt --library=F:\biocbuild\bbs-3.17-bioc\R\library --no-vignettes --timings musicatk_1.9.0.tar.gz |
StartedAt: 2023-03-24 04:20:06 -0400 (Fri, 24 Mar 2023) |
EndedAt: 2023-03-24 04:26:29 -0400 (Fri, 24 Mar 2023) |
EllapsedTime: 383.0 seconds |
RetCode: 0 |
Status: OK |
CheckDir: musicatk.Rcheck |
Warnings: 0 |
############################################################################## ############################################################################## ### ### Running command: ### ### F:\biocbuild\bbs-3.17-bioc\R\bin\R.exe CMD check --no-multiarch --install=check:musicatk.install-out.txt --library=F:\biocbuild\bbs-3.17-bioc\R\library --no-vignettes --timings musicatk_1.9.0.tar.gz ### ############################################################################## ############################################################################## * using log directory 'F:/biocbuild/bbs-3.17-bioc/meat/musicatk.Rcheck' * using R Under development (unstable) (2023-03-15 r83984 ucrt) * using platform: x86_64-w64-mingw32 (64-bit) * R was compiled by gcc.exe (GCC) 12.2.0 GNU Fortran (GCC) 12.2.0 * running under: Windows Server 2022 x64 (build 20348) * using session charset: UTF-8 * using option '--no-vignettes' * checking for file 'musicatk/DESCRIPTION' ... OK * checking extension type ... Package * this is package 'musicatk' version '1.9.0' * package encoding: UTF-8 * checking package namespace information ... OK * checking package dependencies ... OK * checking if this is a source package ... OK * checking if there is a namespace ... OK * checking for hidden files and directories ... OK * checking for portable file names ... OK * checking whether package 'musicatk' can be installed ... OK * checking installed package size ... OK * checking package directory ... OK * checking 'build' directory ... OK * checking DESCRIPTION meta-information ... OK * checking top-level files ... OK * checking for left-over files ... OK * checking index information ... OK * checking package subdirectories ... OK * checking R files for non-ASCII characters ... OK * checking R files for syntax errors ... OK * checking whether the package can be loaded ... OK * checking whether the package can be loaded with stated dependencies ... OK * checking whether the package can be unloaded cleanly ... OK * checking whether the namespace can be loaded with stated dependencies ... OK * checking whether the namespace can be unloaded cleanly ... OK * checking dependencies in R code ... NOTE Namespaces in Imports field not imported from: 'TCGAbiolinks' 'shinyBS' 'shinyalert' 'shinybusy' 'shinydashboard' 'shinyjqui' 'shinyjs' 'sortable' All declared Imports should be used. * checking S3 generic/method consistency ... OK * checking replacement functions ... OK * checking foreign function calls ... OK * checking R code for possible problems ... OK * checking Rd files ... OK * checking Rd metadata ... OK * checking Rd cross-references ... OK * checking for missing documentation entries ... OK * checking for code/documentation mismatches ... OK * checking Rd \usage sections ... OK * checking Rd contents ... OK * checking for unstated dependencies in examples ... OK * checking contents of 'data' directory ... OK * checking data for non-ASCII characters ... OK * checking LazyData ... OK * checking data for ASCII and uncompressed saves ... OK * checking files in 'vignettes' ... OK * checking examples ... OK Examples with CPU (user + system) or elapsed time > 5s user system elapsed build_standard_table 6.91 1.44 8.35 plot_cluster 5.06 0.19 6.64 create_umap 4.72 0.09 5.33 create_musica 0.81 0.33 8.81 * checking for unstated dependencies in 'tests' ... OK * checking tests ... Running 'testthat.R' OK * checking for unstated dependencies in vignettes ... OK * checking package vignettes in 'inst/doc' ... OK * checking running R code from vignettes ... SKIPPED * checking re-building of vignette outputs ... SKIPPED * checking PDF version of manual ... OK * DONE Status: 1 NOTE See 'F:/biocbuild/bbs-3.17-bioc/meat/musicatk.Rcheck/00check.log' for details.
musicatk.Rcheck/00install.out
############################################################################## ############################################################################## ### ### Running command: ### ### F:\biocbuild\bbs-3.17-bioc\R\bin\R.exe CMD INSTALL musicatk ### ############################################################################## ############################################################################## * installing to library 'F:/biocbuild/bbs-3.17-bioc/R/library' * installing *source* package 'musicatk' ... ** using staged installation ** R ** data *** moving datasets to lazyload DB ** inst ** byte-compile and prepare package for lazy loading ** help *** installing help indices ** building package indices ** installing vignettes ** testing if installed package can be loaded from temporary location ** testing if installed package can be loaded from final location ** testing if installed package keeps a record of temporary installation path * DONE (musicatk)
musicatk.Rcheck/tests/testthat.Rout
R Under development (unstable) (2023-03-15 r83984 ucrt) -- "Unsuffered Consequences" Copyright (C) 2023 The R Foundation for Statistical Computing Platform: x86_64-w64-mingw32/x64 (64-bit) R is free software and comes with ABSOLUTELY NO WARRANTY. You are welcome to redistribute it under certain conditions. Type 'license()' or 'licence()' for distribution details. R is a collaborative project with many contributors. Type 'contributors()' for more information and 'citation()' on how to cite R or R packages in publications. Type 'demo()' for some demos, 'help()' for on-line help, or 'help.start()' for an HTML browser interface to help. Type 'q()' to quit R. > library("testthat") > library("musicatk") Loading required package: NMF Loading required package: registry Loading required package: rngtools Loading required package: cluster NMF - BioConductor layer [OK] | Shared memory capabilities [NO: windows] | Cores 2/2 Attaching package: 'NMF' The following object is masked from 'package:testthat': compare > > test_check("musicatk") [ FAIL 0 | WARN 5 | SKIP 0 | PASS 42 ] [ FAIL 0 | WARN 5 | SKIP 0 | PASS 42 ] > > proc.time() user system elapsed 20.15 1.20 21.89
musicatk.Rcheck/musicatk-Ex.timings
name | user | system | elapsed | |
add_flank_to_variants | 2.89 | 0.36 | 3.25 | |
add_variant_type | 0.00 | 0.01 | 0.02 | |
annotate_replication_strand | 0.11 | 0.02 | 0.13 | |
annotate_transcript_strand | 1.14 | 0.03 | 1.17 | |
annotate_variant_length | 0.05 | 0.00 | 0.05 | |
annotate_variant_type | 0.02 | 0.00 | 0.01 | |
auto_predict_grid | 2.84 | 0.08 | 2.94 | |
build_custom_table | 0.92 | 0.03 | 0.95 | |
build_standard_table | 6.91 | 1.44 | 8.35 | |
built_tables | 0.00 | 0.01 | 0.01 | |
cluster_exposure | 0.00 | 0.02 | 0.02 | |
combine_count_tables | 2.09 | 0.45 | 2.54 | |
combine_predict_grid | 2.02 | 0.00 | 2.02 | |
compare_cosmic_v2 | 2.09 | 0.03 | 2.12 | |
compare_cosmic_v3 | 0.89 | 0.02 | 0.91 | |
compare_results | 1.33 | 0.00 | 1.33 | |
cosmic_v2_subtype_map | 0 | 0 | 0 | |
create_musica | 0.81 | 0.33 | 8.81 | |
create_umap | 4.72 | 0.09 | 5.33 | |
discover_signatures | 0.63 | 0.19 | 1.12 | |
drop_annotation | 0.00 | 0.01 | 0.02 | |
exposure_differential_analysis | 0.01 | 0.02 | 0.03 | |
exposures | 0.00 | 0.01 | 0.02 | |
extract_count_tables | 0 | 0 | 0 | |
extract_variants | 4.42 | 0.05 | 4.51 | |
extract_variants_from_maf | 0.10 | 0.02 | 0.11 | |
extract_variants_from_maf_file | 0.09 | 0.01 | 0.11 | |
extract_variants_from_matrix | 0.13 | 0.00 | 0.13 | |
extract_variants_from_vcf | 0.70 | 0.02 | 0.72 | |
extract_variants_from_vcf_file | 0.51 | 0.00 | 0.52 | |
generate_result_grid | 0.31 | 0.00 | 0.31 | |
get_musica | 0.02 | 0.00 | 0.01 | |
k_select | 0.92 | 0.01 | 1.25 | |
musicatk | 0 | 0 | 0 | |
name_signatures | 0 | 0 | 0 | |
pipe | 0.02 | 0.00 | 0.02 | |
plot_cluster | 5.06 | 0.19 | 6.64 | |
plot_differential_analysis | 0.17 | 0.02 | 0.19 | |
plot_exposures | 0.17 | 0.01 | 0.19 | |
plot_heatmap | 0.66 | 0.03 | 1.29 | |
plot_sample_counts | 0.36 | 0.00 | 0.36 | |
plot_sample_reconstruction_error | 0.51 | 0.02 | 0.53 | |
plot_signatures | 0.5 | 0.0 | 0.5 | |
plot_umap | 4.80 | 0.09 | 4.91 | |
predict_exposure | 1.25 | 0.17 | 1.42 | |
rc | 0 | 0 | 0 | |
samp_annot | 0.01 | 0.00 | 0.01 | |
sample_names | 0.02 | 0.00 | 0.02 | |
select_genome | 0 | 0 | 0 | |
signatures | 0.00 | 0.02 | 0.01 | |
subset_musica_by_annotation | 0.01 | 0.00 | 0.02 | |
subset_musica_by_counts | 0.00 | 0.02 | 0.02 | |
subset_variant_by_type | 0 | 0 | 0 | |
subset_variants_by_samples | 0.02 | 0.00 | 0.01 | |
table_selected | 0 | 0 | 0 | |
tables | 0.00 | 0.01 | 0.02 | |
umap | 0.01 | 0.00 | 0.01 | |
variants | 0.02 | 0.02 | 0.03 | |