Back to Multiple platform build/check report for BioC 3.17:   simplified   long
ABCDEF[G]HIJKLMNOPQRSTUVWXYZ

This page was generated on 2023-03-29 11:04:50 -0400 (Wed, 29 Mar 2023).

HostnameOSArch (*)R versionInstalled pkgs
nebbiolo1Linux (Ubuntu 22.04.1 LTS)x86_64R Under development (unstable) (2023-03-16 r83996) -- "Unsuffered Consequences" 4547
palomino3Windows Server 2022 Datacenterx64R Under development (unstable) (2023-03-15 r83984 ucrt) -- "Unsuffered Consequences" 4308
merida1macOS 10.14.6 Mojavex86_64R Under development (unstable) (2023-03-16 r83985) -- "Unsuffered Consequences" 4301
Click on any hostname to see more info about the system (e.g. compilers)      (*) as reported by 'uname -p', except on Windows and Mac OS X

INSTALL results for GOstats on nebbiolo1


To the developers/maintainers of the GOstats package:
- Please allow up to 24 hours (and sometimes 48 hours) for your latest push to git@git.bioconductor.org:packages/GOstats.git to
reflect on this report. See How and When does the builder pull? When will my changes propagate? for more information.
- Make sure to use the following settings in order to reproduce any error or warning you see on this page.

raw results

Package 852/2195HostnameOS / ArchINSTALLBUILDCHECKBUILD BIN
GOstats 2.65.0  (landing page)
Bioconductor Package Maintainer
Snapshot Date: 2023-03-28 14:00:22 -0400 (Tue, 28 Mar 2023)
git_url: https://git.bioconductor.org/packages/GOstats
git_branch: devel
git_last_commit: 1e9259a
git_last_commit_date: 2022-11-01 10:37:26 -0400 (Tue, 01 Nov 2022)
nebbiolo1Linux (Ubuntu 22.04.1 LTS) / x86_64  ERROR    ERROR  skipped
palomino3Windows Server 2022 Datacenter / x64  ERROR    ERROR  skippedskipped
merida1macOS 10.14.6 Mojave / x86_64  ERROR    ERROR  skippedskipped

Summary

Package: GOstats
Version: 2.65.0
Command: /home/biocbuild/bbs-3.17-bioc/R/bin/R CMD INSTALL GOstats
StartedAt: 2023-03-28 15:31:28 -0400 (Tue, 28 Mar 2023)
EndedAt: 2023-03-28 15:31:34 -0400 (Tue, 28 Mar 2023)
EllapsedTime: 6.0 seconds
RetCode: 1
Status:   ERROR  

Command output

##############################################################################
##############################################################################
###
### Running command:
###
###   /home/biocbuild/bbs-3.17-bioc/R/bin/R CMD INSTALL GOstats
###
##############################################################################
##############################################################################


* installing to library ‘/home/biocbuild/bbs-3.17-bioc/R/site-library’
* installing *source* package ‘GOstats’ ...
** using staged installation
** R
** data
** inst
** byte-compile and prepare package for lazy loading
Error: package or namespace load failed for ‘Category’:
 objects ‘rowSums’, ‘colSums’, ‘rowMeans’, ‘colMeans’ are not exported by 'namespace:BiocGenerics'
Execution halted
ERROR: lazy loading failed for package ‘GOstats’
* removing ‘/home/biocbuild/bbs-3.17-bioc/R/site-library/GOstats’
* restoring previous ‘/home/biocbuild/bbs-3.17-bioc/R/site-library/GOstats’