Back to Multiple platform build/check report for BioC 3.17:   simplified   long
[A]BCDEFGHIJKLMNOPQRSTUVWXYZ

This page was generated on 2023-03-22 11:06:28 -0400 (Wed, 22 Mar 2023).

HostnameOSArch (*)R versionInstalled pkgs
nebbiolo1Linux (Ubuntu 22.04.1 LTS)x86_64R Under development (unstable) (2023-03-16 r83996) -- "Unsuffered Consequences" 4508
palomino3Windows Server 2022 Datacenterx64R Under development (unstable) (2023-03-15 r83984 ucrt) -- "Unsuffered Consequences" 4293
merida1macOS 10.14.6 Mojavex86_64R Under development (unstable) (2023-03-16 r83985) -- "Unsuffered Consequences" 4290
Click on any hostname to see more info about the system (e.g. compilers)      (*) as reported by 'uname -p', except on Windows and Mac OS X

BUILD results for ATACseqTFEA on merida1


To the developers/maintainers of the ATACseqTFEA package:
- Please allow up to 24 hours (and sometimes 48 hours) for your latest push to git@git.bioconductor.org:packages/ATACseqTFEA.git to
reflect on this report. See How and When does the builder pull? When will my changes propagate? for more information.
- Make sure to use the following settings in order to reproduce any error or warning you see on this page.

raw results

Package 106/2189HostnameOS / ArchINSTALLBUILDCHECKBUILD BIN
ATACseqTFEA 1.1.1  (landing page)
Jianhong Ou
Snapshot Date: 2023-03-21 14:00:22 -0400 (Tue, 21 Mar 2023)
git_url: https://git.bioconductor.org/packages/ATACseqTFEA
git_branch: master
git_last_commit: 203524e
git_last_commit_date: 2022-11-04 14:13:13 -0400 (Fri, 04 Nov 2022)
nebbiolo1Linux (Ubuntu 22.04.1 LTS) / x86_64  OK    OK    OK  UNNEEDED, same version is already published
palomino3Windows Server 2022 Datacenter / x64  OK    OK    OK    OK  UNNEEDED, same version is already published
merida1macOS 10.14.6 Mojave / x86_64  OK    OK    OK    OK  UNNEEDED, same version is already published

Summary

Package: ATACseqTFEA
Version: 1.1.1
Command: /Library/Frameworks/R.framework/Resources/bin/R CMD build --keep-empty-dirs --no-resave-data ATACseqTFEA
StartedAt: 2023-03-21 16:41:21 -0400 (Tue, 21 Mar 2023)
EndedAt: 2023-03-21 16:45:24 -0400 (Tue, 21 Mar 2023)
EllapsedTime: 242.1 seconds
RetCode: 0
Status:   OK  
PackageFile: ATACseqTFEA_1.1.1.tar.gz
PackageFileSize: 4.361 MiB

Command output

##############################################################################
##############################################################################
###
### Running command:
###
###   /Library/Frameworks/R.framework/Resources/bin/R CMD build --keep-empty-dirs --no-resave-data ATACseqTFEA
###
##############################################################################
##############################################################################


* checking for file ‘ATACseqTFEA/DESCRIPTION’ ... OK
* preparing ‘ATACseqTFEA’:
* checking DESCRIPTION meta-information ... OK
* installing the package to build vignettes
* creating vignettes ... OK
* checking for LF line-endings in source and make files and shell scripts
* checking for empty or unneeded directories
* building ‘ATACseqTFEA_1.1.1.tar.gz’