Back to Multiple platform build/check report for BioC 3.17:   simplified   long
ABCDEF[G]HIJKLMNOPQRSTUVWXYZ

This page was generated on 2023-03-18 11:06:03 -0400 (Sat, 18 Mar 2023).

HostnameOSArch (*)R versionInstalled pkgs
nebbiolo1Linux (Ubuntu 22.04.1 LTS)x86_64R Under development (unstable) (2023-03-16 r83996) -- "Unsuffered Consequences" 4282
palomino3Windows Server 2022 Datacenterx64R Under development (unstable) (2023-03-15 r83984 ucrt) -- "Unsuffered Consequences" 4279
merida1macOS 10.14.6 Mojavex86_64R Under development (unstable) (2023-03-16 r83985) -- "Unsuffered Consequences" 4145
Click on any hostname to see more info about the system (e.g. compilers)      (*) as reported by 'uname -p', except on Windows and Mac OS X

BUILD results for GenomicOZone on merida1


To the developers/maintainers of the GenomicOZone package:
- Please allow up to 24 hours (and sometimes 48 hours) for your latest push to git@git.bioconductor.org:packages/GenomicOZone.git to
reflect on this report. See How and When does the builder pull? When will my changes propagate? for more information.
- Make sure to use the following settings in order to reproduce any error or warning you see on this page.

raw results

Package 795/2189HostnameOS / ArchINSTALLBUILDCHECKBUILD BIN
GenomicOZone 1.13.0  (landing page)
Hua Zhong, Mingzhou Song
Snapshot Date: 2023-03-17 14:27:35 -0400 (Fri, 17 Mar 2023)
git_url: https://git.bioconductor.org/packages/GenomicOZone
git_branch: master
git_last_commit: e628f5b
git_last_commit_date: 2022-11-01 11:20:20 -0400 (Tue, 01 Nov 2022)
nebbiolo1Linux (Ubuntu 22.04.1 LTS) / x86_64  OK    OK    OK  UNNEEDED, same version is already published
palomino3Windows Server 2022 Datacenter / x64  OK    OK    OK    OK  UNNEEDED, same version is already published
merida1macOS 10.14.6 Mojave / x86_64  OK    OK    OK    OK  UNNEEDED, same version is already published

Summary

Package: GenomicOZone
Version: 1.13.0
Command: /Library/Frameworks/R.framework/Resources/bin/R CMD build --keep-empty-dirs --no-resave-data GenomicOZone
StartedAt: 2023-03-17 18:19:05 -0400 (Fri, 17 Mar 2023)
EndedAt: 2023-03-17 18:24:24 -0400 (Fri, 17 Mar 2023)
EllapsedTime: 318.9 seconds
RetCode: 0
Status:   OK  
PackageFile: GenomicOZone_1.13.0.tar.gz
PackageFileSize: 932.5 KiB

Command output

##############################################################################
##############################################################################
###
### Running command:
###
###   /Library/Frameworks/R.framework/Resources/bin/R CMD build --keep-empty-dirs --no-resave-data GenomicOZone
###
##############################################################################
##############################################################################


* checking for file ‘GenomicOZone/DESCRIPTION’ ... OK
* preparing ‘GenomicOZone’:
* checking DESCRIPTION meta-information ... OK
* installing the package to process help pages
Loading required namespace: GenomicOZone
Registered S3 method overwritten by 'GGally':
  method from   
  +.gg   ggplot2
* saving partial Rd database
* creating vignettes ... OK
* checking for LF line-endings in source and make files and shell scripts
* checking for empty or unneeded directories
Omitted 'LazyData' from DESCRIPTION
* building 'GenomicOZone_1.13.0.tar.gz'