Back to Multiple platform build/check report for BioC 3.17: simplified long |
|
This page was generated on 2023-06-03 14:36:43 -0400 (Sat, 03 Jun 2023).
Hostname | OS | Arch (*) | R version | Installed pkgs |
---|---|---|---|---|
nebbiolo1 | Linux (Ubuntu 22.04.2 LTS) | x86_64 | 4.3.0 RC (2023-04-13 r84269) -- "Already Tomorrow" | 4623 |
palomino3 | Windows Server 2022 Datacenter | x64 | 4.3.0 RC (2023-04-13 r84269 ucrt) -- "Already Tomorrow" | 4374 |
merida1 | macOS 12.6.4 Monterey | x86_64 | 4.3.0 RC (2023-04-13 r84257) -- "Already Tomorrow" | 4332 |
Click on any hostname to see more info about the system (e.g. compilers) (*) as reported by 'uname -p', except on Windows and Mac OS X |
To the developers/maintainers of the peakPantheR package: - Allow up to 24 hours (and sometimes 48 hours) for your latest push to git@git.bioconductor.org:packages/peakPantheR.git to reflect on this report. See Troubleshooting Build Report for more information. - Use the following Renviron settings to reproduce errors and warnings. Note: If "R CMD check" recently failed on the Linux builder over a missing dependency, add the missing dependency to "Suggests" in your DESCRIPTION file. See the Renviron.bioc for details. |
Package 1490/2229 | Hostname | OS / Arch | INSTALL | BUILD | CHECK | BUILD BIN | ||||||||
peakPantheR 1.14.0 (landing page) Arnaud Wolfer
| nebbiolo1 | Linux (Ubuntu 22.04.2 LTS) / x86_64 | OK | OK | OK | ![]() | ||||||||
palomino3 | Windows Server 2022 Datacenter / x64 | OK | OK | OK | OK | ![]() | ||||||||
merida1 | macOS 12.6.4 Monterey / x86_64 | OK | OK | OK | OK | ![]() | ||||||||
Package: peakPantheR |
Version: 1.14.0 |
Command: /home/biocbuild/bbs-3.17-bioc/R/bin/R CMD check --install=check:peakPantheR.install-out.txt --library=/home/biocbuild/bbs-3.17-bioc/R/site-library --timings peakPantheR_1.14.0.tar.gz |
StartedAt: 2023-06-02 23:33:31 -0400 (Fri, 02 Jun 2023) |
EndedAt: 2023-06-02 23:51:23 -0400 (Fri, 02 Jun 2023) |
EllapsedTime: 1072.3 seconds |
RetCode: 0 |
Status: OK |
CheckDir: peakPantheR.Rcheck |
Warnings: 0 |
############################################################################## ############################################################################## ### ### Running command: ### ### /home/biocbuild/bbs-3.17-bioc/R/bin/R CMD check --install=check:peakPantheR.install-out.txt --library=/home/biocbuild/bbs-3.17-bioc/R/site-library --timings peakPantheR_1.14.0.tar.gz ### ############################################################################## ############################################################################## * using log directory ‘/home/biocbuild/bbs-3.17-bioc/meat/peakPantheR.Rcheck’ * using R version 4.3.0 RC (2023-04-13 r84269) * using platform: x86_64-pc-linux-gnu (64-bit) * R was compiled by gcc (Ubuntu 11.3.0-1ubuntu1~22.04) 11.3.0 GNU Fortran (Ubuntu 11.3.0-1ubuntu1~22.04) 11.3.0 * running under: Ubuntu 22.04.2 LTS * using session charset: UTF-8 * checking for file ‘peakPantheR/DESCRIPTION’ ... OK * this is package ‘peakPantheR’ version ‘1.14.0’ * package encoding: UTF-8 * checking package namespace information ... OK * checking package dependencies ... OK * checking if this is a source package ... OK * checking if there is a namespace ... OK * checking for hidden files and directories ... OK * checking for portable file names ... OK * checking for sufficient/correct file permissions ... OK * checking whether package ‘peakPantheR’ can be installed ... OK * checking installed package size ... OK * checking package directory ... OK * checking ‘build’ directory ... OK * checking DESCRIPTION meta-information ... OK * checking top-level files ... OK * checking for left-over files ... OK * checking index information ... OK * checking package subdirectories ... OK * checking R files for non-ASCII characters ... OK * checking R files for syntax errors ... OK * checking whether the package can be loaded ... OK * checking whether the package can be loaded with stated dependencies ... OK * checking whether the package can be unloaded cleanly ... OK * checking whether the namespace can be loaded with stated dependencies ... OK * checking whether the namespace can be unloaded cleanly ... OK * checking loading without being on the library search path ... OK * checking startup messages can be suppressed ... OK * checking dependencies in R code ... OK * checking S3 generic/method consistency ... OK * checking replacement functions ... OK * checking foreign function calls ... OK * checking R code for possible problems ... OK * checking Rd files ... OK * checking Rd metadata ... OK * checking Rd cross-references ... OK * checking for missing documentation entries ... OK * checking for code/documentation mismatches ... OK * checking Rd \usage sections ... OK * checking Rd contents ... OK * checking for unstated dependencies in examples ... OK * checking files in ‘vignettes’ ... OK * checking examples ... OK Examples with CPU (user + system) or elapsed time > 5s user system elapsed outputAnnotationResult-peakPantheRAnnotation-method 19.996 0.744 24.099 peakPantheR_ROIStatistics 19.634 0.500 20.539 outputAnnotationDiagnostic-peakPantheRAnnotation-method 17.733 1.371 20.491 EICs-peakPantheRAnnotation-method 13.524 0.691 16.304 peakPantheR_parallelAnnotation 12.322 0.156 12.478 retentionTimeCorrection-peakPantheRAnnotation-method 7.635 0.136 7.771 * checking for unstated dependencies in ‘tests’ ... OK * checking tests ... Running ‘testthat.R’ OK * checking for unstated dependencies in vignettes ... OK * checking package vignettes in ‘inst/doc’ ... OK * checking running R code from vignettes ... ‘getting-started.Rmd’ using ‘UTF-8’... OK ‘parallel-annotation.Rmd’ using ‘UTF-8’... OK ‘peakPantheR-GUI.Rmd’ using ‘UTF-8’... OK ‘real-time-annotation.Rmd’ using ‘UTF-8’... OK NONE * checking re-building of vignette outputs ... OK * checking PDF version of manual ... OK * DONE Status: OK
peakPantheR.Rcheck/00install.out
############################################################################## ############################################################################## ### ### Running command: ### ### /home/biocbuild/bbs-3.17-bioc/R/bin/R CMD INSTALL peakPantheR ### ############################################################################## ############################################################################## * installing to library ‘/home/biocbuild/bbs-3.17-bioc/R/site-library’ * installing *source* package ‘peakPantheR’ ... ** using staged installation ** R ** inst ** byte-compile and prepare package for lazy loading ** help *** installing help indices *** copying figures ** building package indices ** installing vignettes ** testing if installed package can be loaded from temporary location ** testing if installed package can be loaded from final location ** testing if installed package keeps a record of temporary installation path * DONE (peakPantheR)
peakPantheR.Rcheck/tests/testthat.Rout
R version 4.3.0 RC (2023-04-13 r84269) -- "Already Tomorrow" Copyright (C) 2023 The R Foundation for Statistical Computing Platform: x86_64-pc-linux-gnu (64-bit) R is free software and comes with ABSOLUTELY NO WARRANTY. You are welcome to redistribute it under certain conditions. Type 'license()' or 'licence()' for distribution details. R is a collaborative project with many contributors. Type 'contributors()' for more information and 'citation()' on how to cite R or R packages in publications. Type 'demo()' for some demos, 'help()' for on-line help, or 'help.start()' for an HTML browser interface to help. Type 'q()' to quit R. > library(testthat) > library(peakPantheR) This is peakPantheR version 1.14.0 > > test_check("peakPantheR") [ FAIL 0 | WARN 0 | SKIP 0 | PASS 1438 ] Warning messages: 1: In .Internal(gc(verbose, reset, full)) : closing unused connection 10 (/tmp/Rtmp5ZsKWG/notValidXML.mzML) 2: In .Internal(gc(verbose, reset, full)) : closing unused connection 9 (/tmp/Rtmp5ZsKWG/notValidXML.mzML) 3: In .Internal(gc(verbose, reset, full)) : closing unused connection 8 (/tmp/Rtmp5ZsKWG/notValidXML.mzML) 4: In .Internal(gc(verbose, reset, full)) : closing unused connection 7 (/tmp/Rtmp5ZsKWG/notValidXML.mzML) 5: In .Internal(gc(verbose, reset, full)) : closing unused connection 6 (/home/biocbuild/bbs-3.17-bioc/R/site-library/peakPantheR/extdata/test_fakemzML.mzML) 6: In .Internal(gc(verbose, reset, full)) : closing unused connection 5 (/home/biocbuild/bbs-3.17-bioc/R/site-library/peakPantheR/extdata/test_fakemzML.mzML) > > proc.time() user system elapsed 616.063 11.553 775.739
peakPantheR.Rcheck/peakPantheR-Ex.timings
name | user | system | elapsed | |
EICs-peakPantheRAnnotation-method | 13.524 | 0.691 | 16.304 | |
FIR-peakPantheRAnnotation-method | 0.171 | 0.016 | 0.188 | |
ROI-peakPantheRAnnotation-method | 0.191 | 0.012 | 0.203 | |
TIC-peakPantheRAnnotation-method | 0.164 | 0.016 | 0.180 | |
acquisitionTime-peakPantheRAnnotation-method | 0.170 | 0.004 | 0.174 | |
annotationDiagnosticPlots-peakPantheRAnnotation-method | 0.162 | 0.000 | 0.163 | |
annotationParamsDiagnostic-peakPantheRAnnotation-method | 0.177 | 0.000 | 0.177 | |
annotationTable-peakPantheRAnnotation-method | 0.166 | 0.000 | 0.165 | |
annotation_diagnostic_multiplot_UI_helper | 0.097 | 0.008 | 0.104 | |
annotation_fit_summary_UI_helper | 0.005 | 0.002 | 0.007 | |
annotation_showMethod_UI_helper | 0.002 | 0.002 | 0.003 | |
annotation_showText_UI_helper | 0.000 | 0.001 | 0.001 | |
cpdID-peakPantheRAnnotation-method | 0.137 | 0.001 | 0.139 | |
cpdMetadata-peakPantheRAnnotation-method | 0.132 | 0.004 | 0.136 | |
cpdName-peakPantheRAnnotation-method | 0.151 | 0.005 | 0.155 | |
dataPoints-peakPantheRAnnotation-method | 0.133 | 0.000 | 0.132 | |
filename-peakPantheRAnnotation-method | 0.205 | 0.012 | 0.218 | |
filepath-peakPantheRAnnotation-method | 0.564 | 0.016 | 0.580 | |
initialise_annotation_from_files_UI_helper | 0.039 | 0.016 | 0.054 | |
isAnnotated-peakPantheRAnnotation-method | 0.936 | 0.004 | 0.941 | |
load_annotation_from_file_UI_helper | 0.023 | 0.000 | 0.023 | |
nbCompounds-peakPantheRAnnotation-method | 0.649 | 0.000 | 0.650 | |
nbSamples-peakPantheRAnnotation-method | 0.706 | 0.012 | 0.718 | |
outputAnnotationDiagnostic-peakPantheRAnnotation-method | 17.733 | 1.371 | 20.491 | |
outputAnnotationFeatureMetadata_UI_helper | 0.004 | 0.000 | 0.004 | |
outputAnnotationParamsCSV-peakPantheRAnnotation-method | 0.022 | 0.000 | 0.022 | |
outputAnnotationResult-peakPantheRAnnotation-method | 19.996 | 0.744 | 24.099 | |
outputAnnotationSpectraMetadata_UI_helper | 0.01 | 0.00 | 0.01 | |
peakFit-peakPantheRAnnotation-method | 0.320 | 0.004 | 0.324 | |
peakPantheRAnnotation | 0.469 | 0.004 | 0.473 | |
peakPantheR_ROIStatistics | 19.634 | 0.500 | 20.539 | |
peakPantheR_loadAnnotationParamsCSV | 0.006 | 0.000 | 0.006 | |
peakPantheR_parallelAnnotation | 12.322 | 0.156 | 12.478 | |
peakPantheR_plotEICFit | 0.298 | 0.000 | 0.297 | |
peakPantheR_plotPeakwidth | 0.484 | 0.028 | 0.512 | |
peakPantheR_singleFileSearch | 3.912 | 0.024 | 3.936 | |
peakPantheR_start_GUI | 0 | 0 | 0 | |
peakTables-peakPantheRAnnotation-method | 0.123 | 0.008 | 0.131 | |
resetAnnotation-peakPantheRAnnotation-method | 0.125 | 0.004 | 0.129 | |
resetFIR-peakPantheRAnnotation-method | 0.005 | 0.000 | 0.005 | |
retentionTimeCorrection-peakPantheRAnnotation-method | 7.635 | 0.136 | 7.771 | |
spectraMetadata-peakPantheRAnnotation-method | 0.135 | 0.000 | 0.135 | |
spectraPaths_and_metadata_UI_helper | 0.003 | 0.000 | 0.003 | |
spectra_metadata_colourScheme_UI_helper | 0.005 | 0.000 | 0.005 | |
uROI-peakPantheRAnnotation-method | 0.129 | 0.004 | 0.132 | |
uROIExist-peakPantheRAnnotation-method | 0.117 | 0.012 | 0.129 | |
useFIR-peakPantheRAnnotation-method | 0.128 | 0.000 | 0.128 | |
useUROI-peakPantheRAnnotation-method | 0.124 | 0.000 | 0.124 | |