Back to Multiple platform build/check report for BioC 3.17: simplified long |
|
This page was generated on 2023-03-24 11:05:06 -0400 (Fri, 24 Mar 2023).
Hostname | OS | Arch (*) | R version | Installed pkgs |
---|---|---|---|---|
nebbiolo1 | Linux (Ubuntu 22.04.1 LTS) | x86_64 | R Under development (unstable) (2023-03-16 r83996) -- "Unsuffered Consequences" | 4546 |
palomino3 | Windows Server 2022 Datacenter | x64 | R Under development (unstable) (2023-03-15 r83984 ucrt) -- "Unsuffered Consequences" | 4307 |
merida1 | macOS 10.14.6 Mojave | x86_64 | R Under development (unstable) (2023-03-16 r83985) -- "Unsuffered Consequences" | 4299 |
Click on any hostname to see more info about the system (e.g. compilers) (*) as reported by 'uname -p', except on Windows and Mac OS X |
To the developers/maintainers of the ASpli package: - Please allow up to 24 hours (and sometimes 48 hours) for your latest push to git@git.bioconductor.org:packages/ASpli.git to reflect on this report. See How and When does the builder pull? When will my changes propagate? for more information. - Make sure to use the following settings in order to reproduce any error or warning you see on this page. |
Package 99/2195 | Hostname | OS / Arch | INSTALL | BUILD | CHECK | BUILD BIN | ||||||||
ASpli 2.9.0 (landing page) Estefania Mancini
| nebbiolo1 | Linux (Ubuntu 22.04.1 LTS) / x86_64 | OK | OK | OK | ![]() | ||||||||
palomino3 | Windows Server 2022 Datacenter / x64 | OK | OK | OK | OK | ![]() | ||||||||
merida1 | macOS 10.14.6 Mojave / x86_64 | OK | OK | OK | OK | ![]() | ||||||||
Package: ASpli |
Version: 2.9.0 |
Command: /home/biocbuild/bbs-3.17-bioc/R/bin/R CMD check --install=check:ASpli.install-out.txt --library=/home/biocbuild/bbs-3.17-bioc/R/site-library --timings ASpli_2.9.0.tar.gz |
StartedAt: 2023-03-23 18:41:09 -0400 (Thu, 23 Mar 2023) |
EndedAt: 2023-03-23 19:01:39 -0400 (Thu, 23 Mar 2023) |
EllapsedTime: 1230.0 seconds |
RetCode: 0 |
Status: OK |
CheckDir: ASpli.Rcheck |
Warnings: 0 |
############################################################################## ############################################################################## ### ### Running command: ### ### /home/biocbuild/bbs-3.17-bioc/R/bin/R CMD check --install=check:ASpli.install-out.txt --library=/home/biocbuild/bbs-3.17-bioc/R/site-library --timings ASpli_2.9.0.tar.gz ### ############################################################################## ############################################################################## * using log directory ‘/home/biocbuild/bbs-3.17-bioc/meat/ASpli.Rcheck’ * using R Under development (unstable) (2023-03-16 r83996) * using platform: x86_64-pc-linux-gnu (64-bit) * R was compiled by gcc (Ubuntu 11.3.0-1ubuntu1~22.04) 11.3.0 GNU Fortran (Ubuntu 11.3.0-1ubuntu1~22.04) 11.3.0 * running under: Ubuntu 22.04.2 LTS * using session charset: UTF-8 * checking for file ‘ASpli/DESCRIPTION’ ... OK * checking extension type ... Package * this is package ‘ASpli’ version ‘2.9.0’ * checking package namespace information ... OK * checking package dependencies ... OK * checking if this is a source package ... OK * checking if there is a namespace ... OK * checking for hidden files and directories ... OK * checking for portable file names ... OK * checking for sufficient/correct file permissions ... OK * checking whether package ‘ASpli’ can be installed ... OK * checking installed package size ... OK * checking package directory ... OK * checking ‘build’ directory ... OK * checking DESCRIPTION meta-information ... OK * checking top-level files ... OK * checking for left-over files ... OK * checking index information ... OK * checking package subdirectories ... OK * checking R files for non-ASCII characters ... OK * checking R files for syntax errors ... OK * checking whether the package can be loaded ... OK * checking whether the package can be loaded with stated dependencies ... OK * checking whether the package can be unloaded cleanly ... OK * checking whether the namespace can be loaded with stated dependencies ... OK * checking whether the namespace can be unloaded cleanly ... OK * checking loading without being on the library search path ... OK * checking dependencies in R code ... OK * checking S3 generic/method consistency ... OK * checking replacement functions ... OK * checking foreign function calls ... OK * checking R code for possible problems ... OK * checking Rd files ... OK * checking Rd metadata ... OK * checking Rd cross-references ... OK * checking for missing documentation entries ... OK * checking for code/documentation mismatches ... OK * checking Rd \usage sections ... OK * checking Rd contents ... OK * checking for unstated dependencies in examples ... OK * checking installed files from ‘inst/doc’ ... OK * checking files in ‘vignettes’ ... OK * checking examples ... OK Examples with CPU (user + system) or elapsed time > 5s user system elapsed ASpli-package 134.486 1.704 135.983 exportIntegratedSignals 74.883 0.363 75.152 exportSplicingReports 74.715 0.304 74.911 integrateSignals 73.292 0.276 73.470 jDUreport 71.427 0.300 71.621 splicingReport 68.948 0.316 69.171 jCounts-methods 68.189 0.456 68.548 gbCounts 64.502 0.220 64.623 gbDUreport-method 60.406 0.216 60.515 * checking for unstated dependencies in vignettes ... OK * checking package vignettes in ‘inst/doc’ ... OK * checking running R code from vignettes ... ‘ASpli.Rnw’... OK OK * checking re-building of vignette outputs ... OK * checking PDF version of manual ... OK * DONE Status: OK
ASpli.Rcheck/00install.out
############################################################################## ############################################################################## ### ### Running command: ### ### /home/biocbuild/bbs-3.17-bioc/R/bin/R CMD INSTALL ASpli ### ############################################################################## ############################################################################## * installing to library ‘/home/biocbuild/bbs-3.17-bioc/R/site-library’ * installing *source* package ‘ASpli’ ... ** using staged installation ** R ** inst ** byte-compile and prepare package for lazy loading ** help *** installing help indices ** building package indices ** installing vignettes ** testing if installed package can be loaded from temporary location ** testing if installed package can be loaded from final location ** testing if installed package keeps a record of temporary installation path * DONE (ASpli)
ASpli.Rcheck/ASpli-Ex.timings
name | user | system | elapsed | |
ASpli-package | 134.486 | 1.704 | 135.983 | |
DUreport | 0 | 0 | 0 | |
DUreport.norm | 0 | 0 | 0 | |
DUreport.offset | 0 | 0 | 0 | |
DUreportBinSplice-method | 0.001 | 0.000 | 0.000 | |
acc_AS | 0.000 | 0.000 | 0.001 | |
acc_DU | 0 | 0 | 0 | |
acc_counts | 0 | 0 | 0 | |
acc_features | 0.176 | 0.000 | 0.176 | |
binGenome | 3.409 | 0.036 | 3.446 | |
containsJunctions-function | 0.000 | 0.000 | 0.001 | |
example_data | 0 | 0 | 0 | |
exportIntegratedSignals | 74.883 | 0.363 | 75.152 | |
exportSplicingReports | 74.715 | 0.304 | 74.911 | |
filterDU-method | 0.001 | 0.000 | 0.000 | |
filterSignals | 0 | 0 | 0 | |
gbCounts | 64.502 | 0.220 | 64.623 | |
gbDUreport-method | 60.406 | 0.216 | 60.515 | |
getConditions-function | 0.001 | 0.000 | 0.000 | |
integrateSignals | 73.292 | 0.276 | 73.470 | |
jCounts-methods | 68.189 | 0.456 | 68.548 | |
jDUreport | 71.427 | 0.300 | 71.621 | |
junctionDUreport | 0 | 0 | 0 | |
loadBAM | 0 | 0 | 0 | |
mergeBinDUAS-method | 0 | 0 | 0 | |
plotBins | 0.000 | 0.001 | 0.001 | |
plotGenomicRegions | 0.000 | 0.001 | 0.000 | |
rds | 0.000 | 0.001 | 0.000 | |
splicingReport | 68.948 | 0.316 | 69.171 | |
subset-methods | 0.000 | 0.001 | 0.000 | |