Back to Multiple platform build/check report for BioC 3.17:   simplified   long
AB[C]DEFGHIJKLMNOPQRSTUVWXYZ

This page was generated on 2023-04-01 11:05:50 -0400 (Sat, 01 Apr 2023).

HostnameOSArch (*)R versionInstalled pkgs
nebbiolo1Linux (Ubuntu 22.04.1 LTS)x86_64R Under development (unstable) (2023-03-16 r83996) -- "Unsuffered Consequences" 4551
palomino3Windows Server 2022 Datacenterx64R Under development (unstable) (2023-03-15 r83984 ucrt) -- "Unsuffered Consequences" 4312
merida1macOS 10.14.6 Mojavex86_64R Under development (unstable) (2023-03-16 r83985) -- "Unsuffered Consequences" 4309
Click on any hostname to see more info about the system (e.g. compilers)      (*) as reported by 'uname -p', except on Windows and Mac OS X

BUILD BIN results for csaw on merida1


To the developers/maintainers of the csaw package:
- Allow up to 24 hours (and sometimes 48 hours) for your latest push to git@git.bioconductor.org:packages/csaw.git to reflect on this report. See Troubleshooting Build Report for more information.

- Use the following Renviron settings to reproduce errors and warnings.

Note: If "R CMD check" recently failed on the Linux builder over a missing dependency, add the missing dependency to "Suggests" in your DESCRIPTION file. See the Renviron.bioc for details.

raw results

Package 456/2199HostnameOS / ArchINSTALLBUILDCHECKBUILD BIN
csaw 1.33.1  (landing page)
Aaron Lun
Snapshot Date: 2023-03-31 14:00:12 -0400 (Fri, 31 Mar 2023)
git_url: https://git.bioconductor.org/packages/csaw
git_branch: devel
git_last_commit: cac071b
git_last_commit_date: 2023-03-14 01:46:54 -0400 (Tue, 14 Mar 2023)
nebbiolo1Linux (Ubuntu 22.04.1 LTS) / x86_64  OK    OK    WARNINGS  UNNEEDED, same version is already published
palomino3Windows Server 2022 Datacenter / x64  OK    OK    WARNINGS    NA  
merida1macOS 10.14.6 Mojave / x86_64  OK    OK    WARNINGS    OK  UNNEEDED, same version is already published

Summary

Package: csaw
Version: 1.33.1
Command: rm -rf csaw.buildbin-libdir && mkdir csaw.buildbin-libdir && /Users/biocbuild/BBS/utils/build-universal.sh csaw_1.33.1.tar.gz /Library/Frameworks/R.framework/Resources/bin/R csaw.buildbin-libdir
StartedAt: 2023-04-01 08:48:14 -0400 (Sat, 01 Apr 2023)
EndedAt: 2023-04-01 08:54:41 -0400 (Sat, 01 Apr 2023)
EllapsedTime: 387.5 seconds
RetCode: 0
Status:   OK  
PackageFile: csaw_1.33.1.tgz
PackageFileSize: 1.228 MiB

Command output

##############################################################################
##############################################################################
###
### Running command:
###
###   rm -rf csaw.buildbin-libdir && mkdir csaw.buildbin-libdir && /Users/biocbuild/BBS/utils/build-universal.sh csaw_1.33.1.tar.gz /Library/Frameworks/R.framework/Resources/bin/R csaw.buildbin-libdir
###
##############################################################################
##############################################################################


>>>>>>> 
>>>>>>> INSTALLATION WITH 'R CMD INSTALL --preclean --no-multiarch --library=csaw.buildbin-libdir csaw_1.33.1.tar.gz'
>>>>>>> 

* installing *source* package ‘csaw’ ...
** using staged installation
** libs
using C++ compiler: ‘Apple clang version 11.0.0 (clang-1100.0.33.17)’
using C++11
using SDK: ‘’
clang++ -mmacosx-version-min=10.13 -std=gnu++11 -I"/Library/Frameworks/R.framework/Resources/include" -DNDEBUG -D_FILE_OFFSET_BITS=64 -I'/Library/Frameworks/R.framework/Versions/4.3/Resources/library/Rhtslib/include' -I'/Library/Frameworks/R.framework/Versions/4.3/Resources/library/zlibbioc/include' -I'/Library/Frameworks/R.framework/Versions/4.3/Resources/library/Rcpp/include' -I/usr/local/include    -fPIC  -Wall -g -O2  -c annotator.cpp -o annotator.o
clang++ -mmacosx-version-min=10.13 -std=gnu++11 -I"/Library/Frameworks/R.framework/Resources/include" -DNDEBUG -D_FILE_OFFSET_BITS=64 -I'/Library/Frameworks/R.framework/Versions/4.3/Resources/library/Rhtslib/include' -I'/Library/Frameworks/R.framework/Versions/4.3/Resources/library/zlibbioc/include' -I'/Library/Frameworks/R.framework/Versions/4.3/Resources/library/Rcpp/include' -I/usr/local/include    -fPIC  -Wall -g -O2  -c bam_utils.cpp -o bam_utils.o
clang++ -mmacosx-version-min=10.13 -std=gnu++11 -I"/Library/Frameworks/R.framework/Resources/include" -DNDEBUG -D_FILE_OFFSET_BITS=64 -I'/Library/Frameworks/R.framework/Versions/4.3/Resources/library/Rhtslib/include' -I'/Library/Frameworks/R.framework/Versions/4.3/Resources/library/zlibbioc/include' -I'/Library/Frameworks/R.framework/Versions/4.3/Resources/library/Rcpp/include' -I/usr/local/include    -fPIC  -Wall -g -O2  -c best_in_cluster.cpp -o best_in_cluster.o
clang++ -mmacosx-version-min=10.13 -std=gnu++11 -I"/Library/Frameworks/R.framework/Resources/include" -DNDEBUG -D_FILE_OFFSET_BITS=64 -I'/Library/Frameworks/R.framework/Versions/4.3/Resources/library/Rhtslib/include' -I'/Library/Frameworks/R.framework/Versions/4.3/Resources/library/zlibbioc/include' -I'/Library/Frameworks/R.framework/Versions/4.3/Resources/library/Rcpp/include' -I/usr/local/include    -fPIC  -Wall -g -O2  -c check_bimodality.cpp -o check_bimodality.o
clang++ -mmacosx-version-min=10.13 -std=gnu++11 -I"/Library/Frameworks/R.framework/Resources/include" -DNDEBUG -D_FILE_OFFSET_BITS=64 -I'/Library/Frameworks/R.framework/Versions/4.3/Resources/library/Rhtslib/include' -I'/Library/Frameworks/R.framework/Versions/4.3/Resources/library/zlibbioc/include' -I'/Library/Frameworks/R.framework/Versions/4.3/Resources/library/Rcpp/include' -I/usr/local/include    -fPIC  -Wall -g -O2  -c correlate_reads.cpp -o correlate_reads.o
clang++ -mmacosx-version-min=10.13 -std=gnu++11 -I"/Library/Frameworks/R.framework/Resources/include" -DNDEBUG -D_FILE_OFFSET_BITS=64 -I'/Library/Frameworks/R.framework/Versions/4.3/Resources/library/Rhtslib/include' -I'/Library/Frameworks/R.framework/Versions/4.3/Resources/library/zlibbioc/include' -I'/Library/Frameworks/R.framework/Versions/4.3/Resources/library/Rcpp/include' -I/usr/local/include    -fPIC  -Wall -g -O2  -c find_maxima.cpp -o find_maxima.o
clang++ -mmacosx-version-min=10.13 -std=gnu++11 -I"/Library/Frameworks/R.framework/Resources/include" -DNDEBUG -D_FILE_OFFSET_BITS=64 -I'/Library/Frameworks/R.framework/Versions/4.3/Resources/library/Rhtslib/include' -I'/Library/Frameworks/R.framework/Versions/4.3/Resources/library/zlibbioc/include' -I'/Library/Frameworks/R.framework/Versions/4.3/Resources/library/Rcpp/include' -I/usr/local/include    -fPIC  -Wall -g -O2  -c get_profile.cpp -o get_profile.o
clang++ -mmacosx-version-min=10.13 -std=gnu++11 -I"/Library/Frameworks/R.framework/Resources/include" -DNDEBUG -D_FILE_OFFSET_BITS=64 -I'/Library/Frameworks/R.framework/Versions/4.3/Resources/library/Rhtslib/include' -I'/Library/Frameworks/R.framework/Versions/4.3/Resources/library/zlibbioc/include' -I'/Library/Frameworks/R.framework/Versions/4.3/Resources/library/Rcpp/include' -I/usr/local/include    -fPIC  -Wall -g -O2  -c get_rle_counts.cpp -o get_rle_counts.o
clang++ -mmacosx-version-min=10.13 -std=gnu++11 -I"/Library/Frameworks/R.framework/Resources/include" -DNDEBUG -D_FILE_OFFSET_BITS=64 -I'/Library/Frameworks/R.framework/Versions/4.3/Resources/library/Rhtslib/include' -I'/Library/Frameworks/R.framework/Versions/4.3/Resources/library/zlibbioc/include' -I'/Library/Frameworks/R.framework/Versions/4.3/Resources/library/Rcpp/include' -I/usr/local/include    -fPIC  -Wall -g -O2  -c init.cpp -o init.o
clang++ -mmacosx-version-min=10.13 -std=gnu++11 -I"/Library/Frameworks/R.framework/Resources/include" -DNDEBUG -D_FILE_OFFSET_BITS=64 -I'/Library/Frameworks/R.framework/Versions/4.3/Resources/library/Rhtslib/include' -I'/Library/Frameworks/R.framework/Versions/4.3/Resources/library/zlibbioc/include' -I'/Library/Frameworks/R.framework/Versions/4.3/Resources/library/Rcpp/include' -I/usr/local/include    -fPIC  -Wall -g -O2  -c intersector.cpp -o intersector.o
clang++ -mmacosx-version-min=10.13 -std=gnu++11 -I"/Library/Frameworks/R.framework/Resources/include" -DNDEBUG -D_FILE_OFFSET_BITS=64 -I'/Library/Frameworks/R.framework/Versions/4.3/Resources/library/Rhtslib/include' -I'/Library/Frameworks/R.framework/Versions/4.3/Resources/library/zlibbioc/include' -I'/Library/Frameworks/R.framework/Versions/4.3/Resources/library/Rcpp/include' -I/usr/local/include    -fPIC  -Wall -g -O2  -c merge_windows.cpp -o merge_windows.o
clang++ -mmacosx-version-min=10.13 -std=gnu++11 -I"/Library/Frameworks/R.framework/Resources/include" -DNDEBUG -D_FILE_OFFSET_BITS=64 -I'/Library/Frameworks/R.framework/Versions/4.3/Resources/library/Rhtslib/include' -I'/Library/Frameworks/R.framework/Versions/4.3/Resources/library/zlibbioc/include' -I'/Library/Frameworks/R.framework/Versions/4.3/Resources/library/Rcpp/include' -I/usr/local/include    -fPIC  -Wall -g -O2  -c pair_reads.cpp -o pair_reads.o
clang++ -mmacosx-version-min=10.13 -std=gnu++11 -I"/Library/Frameworks/R.framework/Resources/include" -DNDEBUG -D_FILE_OFFSET_BITS=64 -I'/Library/Frameworks/R.framework/Versions/4.3/Resources/library/Rhtslib/include' -I'/Library/Frameworks/R.framework/Versions/4.3/Resources/library/zlibbioc/include' -I'/Library/Frameworks/R.framework/Versions/4.3/Resources/library/Rcpp/include' -I/usr/local/include    -fPIC  -Wall -g -O2  -c single_reads.cpp -o single_reads.o
clang++ -mmacosx-version-min=10.13 -std=gnu++11 -I"/Library/Frameworks/R.framework/Resources/include" -DNDEBUG -D_FILE_OFFSET_BITS=64 -I'/Library/Frameworks/R.framework/Versions/4.3/Resources/library/Rhtslib/include' -I'/Library/Frameworks/R.framework/Versions/4.3/Resources/library/zlibbioc/include' -I'/Library/Frameworks/R.framework/Versions/4.3/Resources/library/Rcpp/include' -I/usr/local/include    -fPIC  -Wall -g -O2  -c utils.cpp -o utils.o
clang++ -mmacosx-version-min=10.13 -std=gnu++11 -dynamiclib -Wl,-headerpad_max_install_names -undefined dynamic_lookup -single_module -multiply_defined suppress -L/Library/Frameworks/R.framework/Resources/lib -L/usr/local/lib -o csaw.so annotator.o bam_utils.o best_in_cluster.o check_bimodality.o correlate_reads.o find_maxima.o get_profile.o get_rle_counts.o init.o intersector.o merge_windows.o pair_reads.o single_reads.o utils.o /Library/Frameworks/R.framework/Versions/4.3/Resources/library/Rhtslib/usrlib/libhts.a -lcurl -F/Library/Frameworks/R.framework/.. -framework R -Wl,-framework -Wl,CoreFoundation
installing to /Users/biocbuild/bbs-3.17-bioc/meat/csaw.buildbin-libdir/00LOCK-csaw/00new/csaw/libs
** R
** inst
** byte-compile and prepare package for lazy loading
** help
*** installing help indices
** building package indices
** installing vignettes
** testing if installed package can be loaded from temporary location
** checking absolute paths in shared objects and dynamic libraries
** testing if installed package can be loaded from final location
** testing if installed package keeps a record of temporary installation path
* DONE (csaw)


>>>>>>> 
>>>>>>> FIXING LINKS FOR csaw.buildbin-libdir/csaw/libs/csaw.so
>>>>>>> 

install_name_tool -change "/usr/local/lib/libgcc_s.1.dylib" "/Library/Frameworks/R.framework/Versions/4.3/Resources/lib/libgcc_s.1.dylib" "csaw.buildbin-libdir/csaw/libs/csaw.so"
install_name_tool -change "/usr/local/lib/libgfortran.5.dylib" "/Library/Frameworks/R.framework/Versions/4.3/Resources/lib/libgfortran.5.dylib" "csaw.buildbin-libdir/csaw/libs/csaw.so"
install_name_tool -change "/usr/local/lib/libquadmath.0.dylib" "/Library/Frameworks/R.framework/Versions/4.3/Resources/lib/libquadmath.0.dylib" "csaw.buildbin-libdir/csaw/libs/csaw.so"