Back to Multiple platform build/check report for BioC 3.17: simplified long |
|
This page was generated on 2023-03-22 11:05:57 -0400 (Wed, 22 Mar 2023).
Hostname | OS | Arch (*) | R version | Installed pkgs |
---|---|---|---|---|
nebbiolo1 | Linux (Ubuntu 22.04.1 LTS) | x86_64 | R Under development (unstable) (2023-03-16 r83996) -- "Unsuffered Consequences" | 4508 |
palomino3 | Windows Server 2022 Datacenter | x64 | R Under development (unstable) (2023-03-15 r83984 ucrt) -- "Unsuffered Consequences" | 4293 |
merida1 | macOS 10.14.6 Mojave | x86_64 | R Under development (unstable) (2023-03-16 r83985) -- "Unsuffered Consequences" | 4290 |
Click on any hostname to see more info about the system (e.g. compilers) (*) as reported by 'uname -p', except on Windows and Mac OS X |
To the developers/maintainers of the katdetectr package: - Please allow up to 24 hours (and sometimes 48 hours) for your latest push to git@git.bioconductor.org:packages/katdetectr.git to reflect on this report. See How and When does the builder pull? When will my changes propagate? for more information. - Make sure to use the following settings in order to reproduce any error or warning you see on this page. |
Package 1025/2189 | Hostname | OS / Arch | INSTALL | BUILD | CHECK | BUILD BIN | ||||||||
katdetectr 1.1.3 (landing page) Daan Hazelaar
| nebbiolo1 | Linux (Ubuntu 22.04.1 LTS) / x86_64 | OK | OK | OK | ![]() | ||||||||
palomino3 | Windows Server 2022 Datacenter / x64 | OK | OK | OK | OK | ![]() | ||||||||
merida1 | macOS 10.14.6 Mojave / x86_64 | OK | OK | OK | OK | ![]() | ||||||||
Package: katdetectr |
Version: 1.1.3 |
Command: rm -rf katdetectr.buildbin-libdir && mkdir katdetectr.buildbin-libdir && F:\biocbuild\bbs-3.17-bioc\R\bin\R.exe CMD INSTALL --build --library=katdetectr.buildbin-libdir katdetectr_1.1.3.tar.gz |
StartedAt: 2023-03-22 08:55:53 -0400 (Wed, 22 Mar 2023) |
EndedAt: 2023-03-22 08:56:43 -0400 (Wed, 22 Mar 2023) |
EllapsedTime: 50.3 seconds |
RetCode: 0 |
Status: OK |
PackageFile: katdetectr_1.1.3.zip |
PackageFileSize: 937.7 KiB |
############################################################################## ############################################################################## ### ### Running command: ### ### rm -rf katdetectr.buildbin-libdir && mkdir katdetectr.buildbin-libdir && F:\biocbuild\bbs-3.17-bioc\R\bin\R.exe CMD INSTALL --build --library=katdetectr.buildbin-libdir katdetectr_1.1.3.tar.gz ### ############################################################################## ############################################################################## * installing *source* package 'katdetectr' ... ** using staged installation ** R ** inst ** byte-compile and prepare package for lazy loading ** help *** installing help indices ** building package indices ** installing vignettes ** testing if installed package can be loaded from temporary location ** testing if installed package can be loaded from final location ** testing if installed package keeps a record of temporary installation path * MD5 sums packaged installation of 'katdetectr' as katdetectr_1.1.3.zip * DONE (katdetectr)