Back to Multiple platform build/check report for BioC 3.17:   simplified   long
ABCDEFGHIJKL[M]NOPQRSTUVWXYZ

This page was generated on 2023-03-28 11:06:59 -0400 (Tue, 28 Mar 2023).

HostnameOSArch (*)R versionInstalled pkgs
nebbiolo1Linux (Ubuntu 22.04.1 LTS)x86_64R Under development (unstable) (2023-03-16 r83996) -- "Unsuffered Consequences" 4547
palomino3Windows Server 2022 Datacenterx64R Under development (unstable) (2023-03-15 r83984 ucrt) -- "Unsuffered Consequences" 4308
merida1macOS 10.14.6 Mojavex86_64R Under development (unstable) (2023-03-16 r83985) -- "Unsuffered Consequences" 4301
Click on any hostname to see more info about the system (e.g. compilers)      (*) as reported by 'uname -p', except on Windows and Mac OS X

BUILD BIN results for MADSEQ on merida1


To the developers/maintainers of the MADSEQ package:
- Please allow up to 24 hours (and sometimes 48 hours) for your latest push to git@git.bioconductor.org:packages/MADSEQ.git to
reflect on this report. See How and When does the builder pull? When will my changes propagate? for more information.
- Make sure to use the following settings in order to reproduce any error or warning you see on this page.

raw results

Package 1087/2195HostnameOS / ArchINSTALLBUILDCHECKBUILD BIN
MADSEQ 1.25.0  (landing page)
Yu Kong
Snapshot Date: 2023-03-27 14:00:21 -0400 (Mon, 27 Mar 2023)
git_url: https://git.bioconductor.org/packages/MADSEQ
git_branch: devel
git_last_commit: 3fde695
git_last_commit_date: 2022-11-01 11:13:50 -0400 (Tue, 01 Nov 2022)
nebbiolo1Linux (Ubuntu 22.04.1 LTS) / x86_64  OK    OK    OK  UNNEEDED, same version is already published
palomino3Windows Server 2022 Datacenter / x64  OK    OK    OK    OK  UNNEEDED, same version is already published
merida1macOS 10.14.6 Mojave / x86_64  OK    OK    OK    OK  UNNEEDED, same version is already published

Summary

Package: MADSEQ
Version: 1.25.0
Command: rm -rf MADSEQ.buildbin-libdir && mkdir MADSEQ.buildbin-libdir && /Users/biocbuild/BBS/utils/build-universal.sh MADSEQ_1.25.0.tar.gz /Library/Frameworks/R.framework/Resources/bin/R MADSEQ.buildbin-libdir
StartedAt: 2023-03-28 09:31:02 -0400 (Tue, 28 Mar 2023)
EndedAt: 2023-03-28 09:33:34 -0400 (Tue, 28 Mar 2023)
EllapsedTime: 151.8 seconds
RetCode: 0
Status:   OK  
PackageFile: MADSEQ_1.25.0.tgz
PackageFileSize: 2.342 MiB

Command output

##############################################################################
##############################################################################
###
### Running command:
###
###   rm -rf MADSEQ.buildbin-libdir && mkdir MADSEQ.buildbin-libdir && /Users/biocbuild/BBS/utils/build-universal.sh MADSEQ_1.25.0.tar.gz /Library/Frameworks/R.framework/Resources/bin/R MADSEQ.buildbin-libdir
###
##############################################################################
##############################################################################


>>>>>>> 
>>>>>>> INSTALLATION WITH 'R CMD INSTALL --preclean --no-multiarch --library=MADSEQ.buildbin-libdir MADSEQ_1.25.0.tar.gz'
>>>>>>> 

* installing *source* package ‘MADSEQ’ ...
** using staged installation
** R
** data
*** moving datasets to lazyload DB
** inst
** byte-compile and prepare package for lazy loading
** help
*** installing help indices
** building package indices
** installing vignettes
** testing if installed package can be loaded from temporary location
** testing if installed package can be loaded from final location
** testing if installed package keeps a record of temporary installation path
* DONE (MADSEQ)