Back to Multiple platform build/check report for BioC 3.17:   simplified   long
AB[C]DEFGHIJKLMNOPQRSTUVWXYZ

This page was generated on 2023-03-23 11:05:47 -0400 (Thu, 23 Mar 2023).

HostnameOSArch (*)R versionInstalled pkgs
nebbiolo1Linux (Ubuntu 22.04.1 LTS)x86_64R Under development (unstable) (2023-03-16 r83996) -- "Unsuffered Consequences" 4536
palomino3Windows Server 2022 Datacenterx64R Under development (unstable) (2023-03-15 r83984 ucrt) -- "Unsuffered Consequences" 4298
merida1macOS 10.14.6 Mojavex86_64R Under development (unstable) (2023-03-16 r83985) -- "Unsuffered Consequences" 4290
Click on any hostname to see more info about the system (e.g. compilers)      (*) as reported by 'uname -p', except on Windows and Mac OS X

BUILD results for crisprBowtie on palomino3


To the developers/maintainers of the crisprBowtie package:
- Please allow up to 24 hours (and sometimes 48 hours) for your latest push to git@git.bioconductor.org:packages/crisprBowtie.git to
reflect on this report. See How and When does the builder pull? When will my changes propagate? for more information.
- Make sure to use the following settings in order to reproduce any error or warning you see on this page.

raw results

Package 443/2189HostnameOS / ArchINSTALLBUILDCHECKBUILD BIN
crisprBowtie 1.3.4  (landing page)
Jean-Philippe Fortin
Snapshot Date: 2023-03-22 14:00:17 -0400 (Wed, 22 Mar 2023)
git_url: https://git.bioconductor.org/packages/crisprBowtie
git_branch: devel
git_last_commit: a6b5f12
git_last_commit_date: 2023-02-28 10:33:59 -0400 (Tue, 28 Feb 2023)
nebbiolo1Linux (Ubuntu 22.04.1 LTS) / x86_64  OK    OK    OK  UNNEEDED, same version is already published
palomino3Windows Server 2022 Datacenter / x64  OK    OK    OK    OK  UNNEEDED, same version is already published
merida1macOS 10.14.6 Mojave / x86_64  OK    OK    OK    OK  UNNEEDED, same version is already published

Summary

Package: crisprBowtie
Version: 1.3.4
Command: chmod a+r crisprBowtie -R && F:\biocbuild\bbs-3.17-bioc\R\bin\R.exe CMD build --keep-empty-dirs --no-resave-data crisprBowtie
StartedAt: 2023-03-22 19:15:50 -0400 (Wed, 22 Mar 2023)
EndedAt: 2023-03-22 19:16:41 -0400 (Wed, 22 Mar 2023)
EllapsedTime: 50.9 seconds
RetCode: 0
Status:   OK  
PackageFile: crisprBowtie_1.3.4.tar.gz
PackageFileSize: 305 KiB

Command output

##############################################################################
##############################################################################
###
### Running command:
###
###   chmod a+r crisprBowtie -R && F:\biocbuild\bbs-3.17-bioc\R\bin\R.exe CMD build --keep-empty-dirs --no-resave-data crisprBowtie
###
##############################################################################
##############################################################################


* checking for file 'crisprBowtie/DESCRIPTION' ... OK
* preparing 'crisprBowtie':
* checking DESCRIPTION meta-information ... OK
* installing the package to build vignettes
* creating vignettes ... OK
* checking for LF line-endings in source and make files and shell scripts
* checking for empty or unneeded directories
* building 'crisprBowtie_1.3.4.tar.gz'