Back to Multiple platform build/check report for BioC 3.17:   simplified   long
ABCDEFGHIJKLMNOPQR[S]TUVWXYZ

This page was generated on 2023-03-27 11:05:23 -0400 (Mon, 27 Mar 2023).

HostnameOSArch (*)R versionInstalled pkgs
nebbiolo1Linux (Ubuntu 22.04.1 LTS)x86_64R Under development (unstable) (2023-03-16 r83996) -- "Unsuffered Consequences" 4547
palomino3Windows Server 2022 Datacenterx64R Under development (unstable) (2023-03-15 r83984 ucrt) -- "Unsuffered Consequences" 4308
merida1macOS 10.14.6 Mojavex86_64R Under development (unstable) (2023-03-16 r83985) -- "Unsuffered Consequences" 4300
Click on any hostname to see more info about the system (e.g. compilers)      (*) as reported by 'uname -p', except on Windows and Mac OS X

CHECK results for scClassify on nebbiolo1


To the developers/maintainers of the scClassify package:
- Please allow up to 24 hours (and sometimes 48 hours) for your latest push to git@git.bioconductor.org:packages/scClassify.git to
reflect on this report. See How and When does the builder pull? When will my changes propagate? for more information.
- Make sure to use the following settings in order to reproduce any error or warning you see on this page.

raw results

Package 1802/2195HostnameOS / ArchINSTALLBUILDCHECKBUILD BIN
scClassify 1.11.0  (landing page)
Yingxin Lin
Snapshot Date: 2023-03-26 14:00:09 -0400 (Sun, 26 Mar 2023)
git_url: https://git.bioconductor.org/packages/scClassify
git_branch: devel
git_last_commit: 98cd8a3
git_last_commit_date: 2022-11-01 11:21:55 -0400 (Tue, 01 Nov 2022)
nebbiolo1Linux (Ubuntu 22.04.1 LTS) / x86_64  OK    OK    OK  UNNEEDED, same version is already published
palomino3Windows Server 2022 Datacenter / x64  OK    OK    OK    OK  UNNEEDED, same version is already published
merida1macOS 10.14.6 Mojave / x86_64  OK    OK    OK    OK  UNNEEDED, same version is already published

Summary

Package: scClassify
Version: 1.11.0
Command: /home/biocbuild/bbs-3.17-bioc/R/bin/R CMD check --install=check:scClassify.install-out.txt --library=/home/biocbuild/bbs-3.17-bioc/R/site-library --timings scClassify_1.11.0.tar.gz
StartedAt: 2023-03-26 23:45:15 -0400 (Sun, 26 Mar 2023)
EndedAt: 2023-03-26 23:53:03 -0400 (Sun, 26 Mar 2023)
EllapsedTime: 467.1 seconds
RetCode: 0
Status:   OK  
CheckDir: scClassify.Rcheck
Warnings: 0

Command output

##############################################################################
##############################################################################
###
### Running command:
###
###   /home/biocbuild/bbs-3.17-bioc/R/bin/R CMD check --install=check:scClassify.install-out.txt --library=/home/biocbuild/bbs-3.17-bioc/R/site-library --timings scClassify_1.11.0.tar.gz
###
##############################################################################
##############################################################################


* using log directory ‘/home/biocbuild/bbs-3.17-bioc/meat/scClassify.Rcheck’
* using R Under development (unstable) (2023-03-16 r83996)
* using platform: x86_64-pc-linux-gnu (64-bit)
* R was compiled by
    gcc (Ubuntu 11.3.0-1ubuntu1~22.04) 11.3.0
    GNU Fortran (Ubuntu 11.3.0-1ubuntu1~22.04) 11.3.0
* running under: Ubuntu 22.04.2 LTS
* using session charset: UTF-8
* checking for file ‘scClassify/DESCRIPTION’ ... OK
* checking extension type ... Package
* this is package ‘scClassify’ version ‘1.11.0’
* package encoding: UTF-8
* checking package namespace information ... OK
* checking package dependencies ... OK
* checking if this is a source package ... OK
* checking if there is a namespace ... OK
* checking for hidden files and directories ... OK
* checking for portable file names ... OK
* checking for sufficient/correct file permissions ... OK
* checking whether package ‘scClassify’ can be installed ... OK
* checking installed package size ... OK
* checking package directory ... OK
* checking ‘build’ directory ... OK
* checking DESCRIPTION meta-information ... OK
* checking top-level files ... OK
* checking for left-over files ... OK
* checking index information ... OK
* checking package subdirectories ... OK
* checking R files for non-ASCII characters ... OK
* checking R files for syntax errors ... OK
* checking whether the package can be loaded ... OK
* checking whether the package can be loaded with stated dependencies ... OK
* checking whether the package can be unloaded cleanly ... OK
* checking whether the namespace can be loaded with stated dependencies ... OK
* checking whether the namespace can be unloaded cleanly ... OK
* checking loading without being on the library search path ... OK
* checking dependencies in R code ... OK
* checking S3 generic/method consistency ... OK
* checking replacement functions ... OK
* checking foreign function calls ... OK
* checking R code for possible problems ... OK
* checking Rd files ... OK
* checking Rd metadata ... OK
* checking Rd cross-references ... OK
* checking for missing documentation entries ... OK
* checking for code/documentation mismatches ... OK
* checking Rd \usage sections ... OK
* checking Rd contents ... OK
* checking for unstated dependencies in examples ... OK
* checking contents of ‘data’ directory ... OK
* checking data for non-ASCII characters ... OK
* checking data for ASCII and uncompressed saves ... OK
* checking files in ‘vignettes’ ... OK
* checking examples ... OK
Examples with CPU (user + system) or elapsed time > 5s
                          user system elapsed
runSampleCal            66.691  1.394  66.936
predict_scClassifyJoint 20.939  2.246  21.808
predict_scClassify      12.586  3.426  10.439
scClassify               9.138  0.720   8.091
* checking for unstated dependencies in vignettes ... OK
* checking package vignettes in ‘inst/doc’ ... OK
* checking running R code from vignettes ...
  ‘pretrainedModel.Rmd’ using ‘UTF-8’... OK
  ‘scClassify.Rmd’ using ‘UTF-8’... OK
 NONE
* checking re-building of vignette outputs ... OK
* checking PDF version of manual ... OK
* DONE

Status: OK


Installation output

scClassify.Rcheck/00install.out

##############################################################################
##############################################################################
###
### Running command:
###
###   /home/biocbuild/bbs-3.17-bioc/R/bin/R CMD INSTALL scClassify
###
##############################################################################
##############################################################################


* installing to library ‘/home/biocbuild/bbs-3.17-bioc/R/site-library’
* installing *source* package ‘scClassify’ ...
** using staged installation
** R
** data
** inst
** byte-compile and prepare package for lazy loading
** help
*** installing help indices
*** copying figures
** building package indices
** installing vignettes
** testing if installed package can be loaded from temporary location
** testing if installed package can be loaded from final location
** testing if installed package keeps a record of temporary installation path
* DONE (scClassify)

Tests output


Example timings

scClassify.Rcheck/scClassify-Ex.timings

nameusersystemelapsed
cellTypeTrain0.0840.0040.088
cellTypeTree0.0830.0000.083
features0.080.000.08
getN0.1310.0040.135
learningCurve0.2070.0200.226
model1.4100.7922.202
modelweights0.0820.0040.086
name0.0870.0000.088
plotCellTypeTree0.3790.0200.399
predict_scClassify12.586 3.42610.439
predict_scClassifyJoint20.939 2.24621.808
runHOPACH1.2290.0431.272
runSampleCal66.691 1.39466.936
scClassify9.1380.7208.091
scClassifyTrainModelList0.1200.0040.124
train_scClassify1.1240.0601.184