Back to Multiple platform build/check report for BioC 3.17:   simplified   long
ABCDEFGHIJKLMNOPQ[R]STUVWXYZ

This page was generated on 2023-03-29 11:06:32 -0400 (Wed, 29 Mar 2023).

HostnameOSArch (*)R versionInstalled pkgs
nebbiolo1Linux (Ubuntu 22.04.1 LTS)x86_64R Under development (unstable) (2023-03-16 r83996) -- "Unsuffered Consequences" 4547
palomino3Windows Server 2022 Datacenterx64R Under development (unstable) (2023-03-15 r83984 ucrt) -- "Unsuffered Consequences" 4308
merida1macOS 10.14.6 Mojavex86_64R Under development (unstable) (2023-03-16 r83985) -- "Unsuffered Consequences" 4301
Click on any hostname to see more info about the system (e.g. compilers)      (*) as reported by 'uname -p', except on Windows and Mac OS X

CHECK results for rCGH on merida1


To the developers/maintainers of the rCGH package:
- Please allow up to 24 hours (and sometimes 48 hours) for your latest push to git@git.bioconductor.org:packages/rCGH.git to
reflect on this report. See How and When does the builder pull? When will my changes propagate? for more information.
- Make sure to use the following settings in order to reproduce any error or warning you see on this page.

raw results

Package 1625/2195HostnameOS / ArchINSTALLBUILDCHECKBUILD BIN
rCGH 1.29.0  (landing page)
Frederic Commo
Snapshot Date: 2023-03-28 14:00:22 -0400 (Tue, 28 Mar 2023)
git_url: https://git.bioconductor.org/packages/rCGH
git_branch: devel
git_last_commit: f152ae6
git_last_commit_date: 2022-11-01 11:11:54 -0400 (Tue, 01 Nov 2022)
nebbiolo1Linux (Ubuntu 22.04.1 LTS) / x86_64  OK    OK    OK  UNNEEDED, same version is already published
palomino3Windows Server 2022 Datacenter / x64  OK    OK    OK    OK  UNNEEDED, same version is already published
merida1macOS 10.14.6 Mojave / x86_64  OK    OK    OK    OK  UNNEEDED, same version is already published

Summary

Package: rCGH
Version: 1.29.0
Command: /Library/Frameworks/R.framework/Resources/bin/R CMD check --install=check:rCGH.install-out.txt --library=/Library/Frameworks/R.framework/Resources/library --no-vignettes --timings rCGH_1.29.0.tar.gz
StartedAt: 2023-03-29 04:02:14 -0400 (Wed, 29 Mar 2023)
EndedAt: 2023-03-29 04:18:38 -0400 (Wed, 29 Mar 2023)
EllapsedTime: 984.1 seconds
RetCode: 0
Status:   OK  
CheckDir: rCGH.Rcheck
Warnings: 0

Command output

##############################################################################
##############################################################################
###
### Running command:
###
###   /Library/Frameworks/R.framework/Resources/bin/R CMD check --install=check:rCGH.install-out.txt --library=/Library/Frameworks/R.framework/Resources/library --no-vignettes --timings rCGH_1.29.0.tar.gz
###
##############################################################################
##############################################################################


* using log directory ‘/Users/biocbuild/bbs-3.17-bioc/meat/rCGH.Rcheck’
* using R Under development (unstable) (2023-03-16 r83985)
* using platform: x86_64-apple-darwin17.0 (64-bit)
* R was compiled by
    Apple clang version 12.0.0 (clang-1200.0.32.29)
    GNU Fortran (GCC) 8.2.0
* running under: macOS Mojave 10.14.6
* using session charset: UTF-8
* using option ‘--no-vignettes’
* checking for file ‘rCGH/DESCRIPTION’ ... OK
* checking extension type ... Package
* this is package ‘rCGH’ version ‘1.29.0’
* checking package namespace information ... OK
* checking package dependencies ... OK
* checking if this is a source package ... OK
* checking if there is a namespace ... OK
* checking for hidden files and directories ... OK
* checking for portable file names ... OK
* checking for sufficient/correct file permissions ... OK
* checking whether package ‘rCGH’ can be installed ... OK
* checking installed package size ... OK
* checking package directory ... OK
* checking ‘build’ directory ... OK
* checking DESCRIPTION meta-information ... OK
* checking top-level files ... OK
* checking for left-over files ... OK
* checking index information ... OK
* checking package subdirectories ... NOTE
Problems with news in ‘NEWS’:
  Cannot process chunk/lines:
    rCGH 1.1.8 has been released as rCGH-1.2.2
  Cannot process chunk/lines:
    Cleaner version from 1.1.4.
  Cannot process chunk/lines:
    Should not give any warning due to functions masked by imported packages
  Cannot process chunk/lines:
    Not submitted!
  Cannot process chunk/lines:
    New bioconductor devel versioning after release cycle.
  Cannot process chunk/lines:
    The first and corresponding bioconductor release version is 1.0.0.
* checking R files for non-ASCII characters ... OK
* checking R files for syntax errors ... OK
* checking whether the package can be loaded ... OK
* checking whether the package can be loaded with stated dependencies ... OK
* checking whether the package can be unloaded cleanly ... OK
* checking whether the namespace can be loaded with stated dependencies ... OK
* checking whether the namespace can be unloaded cleanly ... OK
* checking startup messages can be suppressed ... OK
* checking dependencies in R code ... OK
* checking S3 generic/method consistency ... OK
* checking replacement functions ... OK
* checking foreign function calls ... OK
* checking R code for possible problems ... OK
* checking Rd files ... OK
* checking Rd metadata ... OK
* checking Rd cross-references ... OK
* checking for missing documentation entries ... OK
* checking for code/documentation mismatches ... OK
* checking Rd \usage sections ... OK
* checking Rd contents ... OK
* checking for unstated dependencies in examples ... OK
* checking contents of ‘data’ directory ... OK
* checking data for non-ASCII characters ... OK
* checking LazyData ... OK
* checking data for ASCII and uncompressed saves ... OK
* checking sizes of PDF files under ‘inst/doc’ ... OK
* checking installed files from ‘inst/doc’ ... OK
* checking files in ‘vignettes’ ... NOTE
The following directory looks like a leftover from 'knitr':
  ‘figure’
Please remove from your package.
* checking examples ... OK
Examples with CPU (user + system) or elapsed time > 5s
               user system elapsed
byGeneTable  22.145  0.272  29.772
multiplot    16.813  0.293  22.273
plotProfile  16.618  0.138  22.869
rCGH-package 12.371  0.122  16.969
recenter     10.158  0.340  13.680
plotLOH      10.338  0.097  13.557
plotDensity  10.170  0.198  13.194
EMnormalize   9.517  0.228  12.857
view          9.301  0.061  12.785
segmentCGH    9.146  0.073  12.649
adjustSignal  8.395  0.070  11.160
* checking for unstated dependencies in ‘tests’ ... OK
* checking tests ...
  Running ‘runTests.R’
 OK
* checking for unstated dependencies in vignettes ... OK
* checking package vignettes in ‘inst/doc’ ... OK
* checking running R code from vignettes ... SKIPPED
* checking re-building of vignette outputs ... SKIPPED
* checking PDF version of manual ... OK
* DONE

Status: 2 NOTEs
See
  ‘/Users/biocbuild/bbs-3.17-bioc/meat/rCGH.Rcheck/00check.log’
for details.



Installation output

rCGH.Rcheck/00install.out

##############################################################################
##############################################################################
###
### Running command:
###
###   /Library/Frameworks/R.framework/Resources/bin/R CMD INSTALL rCGH
###
##############################################################################
##############################################################################


* installing to library ‘/Library/Frameworks/R.framework/Versions/4.3/Resources/library’
* installing *source* package ‘rCGH’ ...
** using staged installation
** R
** data
*** moving datasets to lazyload DB
** inst
** byte-compile and prepare package for lazy loading
** help
*** installing help indices
** building package indices
** installing vignettes
** testing if installed package can be loaded from temporary location
** testing if installed package can be loaded from final location
** testing if installed package keeps a record of temporary installation path
* DONE (rCGH)

Tests output

rCGH.Rcheck/tests/runTests.Rout


R Under development (unstable) (2023-03-16 r83985) -- "Unsuffered Consequences"
Copyright (C) 2023 The R Foundation for Statistical Computing
Platform: x86_64-apple-darwin17.0 (64-bit)

R is free software and comes with ABSOLUTELY NO WARRANTY.
You are welcome to redistribute it under certain conditions.
Type 'license()' or 'licence()' for distribution details.

R is a collaborative project with many contributors.
Type 'contributors()' for more information and
'citation()' on how to cite R or R packages in publications.

Type 'demo()' for some demos, 'help()' for on-line help, or
'help.start()' for an HTML browser interface to help.
Type 'q()' to quit R.

> BiocGenerics:::testPackage("rCGH")

	********************************************************
	Current version: 1.29.0
	This version may contain important changes.
	Use news(Version == '1.29.0', package = 'rCGH').
	********************************************************

SNP probes will be used.
Reading information...
Reading values...
Adding presettings...
Genome build: hg19
Log2Ratios QCs:
	dLRs: 0.162
	MAD: 0.128

Scaling...
Signal filtering...
Modeling allelic Difference...
Computing LRR segmentation using UndoSD: 0.179
Merging segments shorter than 10Kb.
Number of segments: 25
Merging peaks closer than 0.1 ...
Gaussian mixture estimation:
n.peaks =  3

Group parameters:
Grp 1:
prop: 0.504,	mean: -0.061,	Sd: 0.149,	peak height: 1.344
Grp 2:
prop: 0.481,	mean: 0.861,	Sd: 0.149,	peak height: 1.284
Grp 3:
prop: 0.015,	mean: 2.04,	Sd: 0.149,	peak height: 0.041

Correction value:  -0.061
Use plotDensity() to visualize the LRR densities.
  403 genes were dropped because they have exons located on both strands
  of the same reference sequence or on more than one reference sequence,
  so cannot be represented by a single genomic range.
  Use 'single.strand.genes.only=FALSE' to get all the genes in a
  GRangesList object, or use suppressMessages() to suppress this message.
Creating byGene table...
SNP probes will be used.
Reading information...
Reading values...
Adding presettings...
Genome build: hg19
SNP probes will be used.
Reading information...
Reading values...
Adding presettings...
Genome build: hg19


RUNIT TEST PROTOCOL -- Wed Mar 29 04:18:22 2023 
*********************************************** 
Number of test functions: 11 
Number of errors: 0 
Number of failures: 0 

 
1 Test Suite : 
rCGH RUnit Tests - 11 test functions, 0 errors, 0 failures
Number of test functions: 11 
Number of errors: 0 
Number of failures: 0 
> 
> proc.time()
   user  system elapsed 
 49.565   1.478  72.569 

Example timings

rCGH.Rcheck/rCGH-Ex.timings

nameusersystemelapsed
AllAccessors1.8460.0302.498
EMnormalize 9.517 0.22812.857
adjustSignal 8.395 0.07011.160
byGeneTable22.145 0.27229.772
hg180.0030.0010.004
hg190.0020.0010.006
hg380.0030.0010.004
multiplot16.813 0.29322.273
plotDensity10.170 0.19813.194
plotLOH10.338 0.09713.557
plotProfile16.618 0.13822.869
rCGH-Agilent-class0.0010.0010.002
rCGH-SNP6-class0.0010.0000.001
rCGH-class0.0000.0010.001
rCGH-cytoScan-class0.0010.0000.001
rCGH-generic-class0.0000.0010.001
rCGH-oncoScan-class0.0010.0000.001
rCGH-package12.371 0.12216.969
readAffyCytoScan0.5790.0100.757
readAffyOncoScan0.0270.0020.044
readAffySNP60.5260.0090.700
readAgilent0.7520.0121.001
readGeneric0.0130.0010.017
recenter10.158 0.34013.680
segmentCGH 9.146 0.07312.649
setInfo0.5620.0070.777
view 9.301 0.06112.785