Back to Multiple platform build/check report for BioC 3.17: simplified long |
|
This page was generated on 2023-04-01 11:05:58 -0400 (Sat, 01 Apr 2023).
Hostname | OS | Arch (*) | R version | Installed pkgs |
---|---|---|---|---|
nebbiolo1 | Linux (Ubuntu 22.04.1 LTS) | x86_64 | R Under development (unstable) (2023-03-16 r83996) -- "Unsuffered Consequences" | 4551 |
palomino3 | Windows Server 2022 Datacenter | x64 | R Under development (unstable) (2023-03-15 r83984 ucrt) -- "Unsuffered Consequences" | 4312 |
merida1 | macOS 10.14.6 Mojave | x86_64 | R Under development (unstable) (2023-03-16 r83985) -- "Unsuffered Consequences" | 4309 |
Click on any hostname to see more info about the system (e.g. compilers) (*) as reported by 'uname -p', except on Windows and Mac OS X |
To the developers/maintainers of the groHMM package: - Allow up to 24 hours (and sometimes 48 hours) for your latest push to git@git.bioconductor.org:packages/groHMM.git to reflect on this report. See Troubleshooting Build Report for more information. - Use the following Renviron settings to reproduce errors and warnings. Note: If "R CMD check" recently failed on the Linux builder over a missing dependency, add the missing dependency to "Suggests" in your DESCRIPTION file. See the Renviron.bioc for details. |
Package 872/2199 | Hostname | OS / Arch | INSTALL | BUILD | CHECK | BUILD BIN | ||||||||
groHMM 1.33.0 (landing page) Tulip Nandu
| nebbiolo1 | Linux (Ubuntu 22.04.1 LTS) / x86_64 | OK | OK | OK | ![]() | ||||||||
palomino3 | Windows Server 2022 Datacenter / x64 | OK | OK | OK | NA | |||||||||
merida1 | macOS 10.14.6 Mojave / x86_64 | OK | OK | OK | OK | ![]() | ||||||||
Package: groHMM |
Version: 1.33.0 |
Command: /Library/Frameworks/R.framework/Resources/bin/R CMD check --install=check:groHMM.install-out.txt --library=/Library/Frameworks/R.framework/Resources/library --no-vignettes --timings groHMM_1.33.0.tar.gz |
StartedAt: 2023-04-01 02:03:07 -0400 (Sat, 01 Apr 2023) |
EndedAt: 2023-04-01 02:12:04 -0400 (Sat, 01 Apr 2023) |
EllapsedTime: 536.6 seconds |
RetCode: 0 |
Status: OK |
CheckDir: groHMM.Rcheck |
Warnings: 0 |
############################################################################## ############################################################################## ### ### Running command: ### ### /Library/Frameworks/R.framework/Resources/bin/R CMD check --install=check:groHMM.install-out.txt --library=/Library/Frameworks/R.framework/Resources/library --no-vignettes --timings groHMM_1.33.0.tar.gz ### ############################################################################## ############################################################################## * using log directory ‘/Users/biocbuild/bbs-3.17-bioc/meat/groHMM.Rcheck’ * using R Under development (unstable) (2023-03-16 r83985) * using platform: x86_64-apple-darwin17.0 (64-bit) * R was compiled by Apple clang version 12.0.0 (clang-1200.0.32.29) GNU Fortran (GCC) 8.2.0 * running under: macOS Mojave 10.14.6 * using session charset: UTF-8 * using option ‘--no-vignettes’ * checking for file ‘groHMM/DESCRIPTION’ ... OK * this is package ‘groHMM’ version ‘1.33.0’ * checking package namespace information ... OK * checking package dependencies ... NOTE Depends: includes the non-default packages: 'MASS', 'parallel', 'S4Vectors', 'IRanges', 'GenomeInfoDb', 'GenomicRanges', 'GenomicAlignments', 'rtracklayer' Adding so many packages to the search path is excessive and importing selectively is preferable. * checking if this is a source package ... OK * checking if there is a namespace ... OK * checking for hidden files and directories ... OK * checking for portable file names ... OK * checking for sufficient/correct file permissions ... OK * checking whether package ‘groHMM’ can be installed ... OK * used C compiler: ‘Apple clang version 11.0.0 (clang-1100.0.33.17)’ * used SDK: ‘’ * checking installed package size ... OK * checking package directory ... OK * checking ‘build’ directory ... OK * checking DESCRIPTION meta-information ... NOTE Authors@R field gives no person with maintainer role, valid email address and non-empty name. * checking top-level files ... OK * checking for left-over files ... OK * checking index information ... OK * checking package subdirectories ... OK * checking R files for non-ASCII characters ... OK * checking R files for syntax errors ... OK * checking whether the package can be loaded ... OK * checking whether the package can be loaded with stated dependencies ... OK * checking whether the package can be unloaded cleanly ... OK * checking whether the namespace can be loaded with stated dependencies ... OK * checking whether the namespace can be unloaded cleanly ... OK * checking dependencies in R code ... OK * checking S3 generic/method consistency ... OK * checking replacement functions ... OK * checking foreign function calls ... OK * checking R code for possible problems ... OK * checking Rd files ... OK * checking Rd metadata ... OK * checking Rd cross-references ... OK * checking for missing documentation entries ... OK * checking for code/documentation mismatches ... OK * checking Rd \usage sections ... OK * checking Rd contents ... OK * checking for unstated dependencies in examples ... OK * checking line endings in C/C++/Fortran sources/headers ... OK * checking compiled code ... NOTE Note: information on .o files is not available * checking sizes of PDF files under ‘inst/doc’ ... OK * checking files in ‘vignettes’ ... OK * checking examples ... OK * checking for unstated dependencies in vignettes ... OK * checking package vignettes in ‘inst/doc’ ... OK * checking running R code from vignettes ... SKIPPED * checking re-building of vignette outputs ... SKIPPED * checking PDF version of manual ... OK * DONE Status: 3 NOTEs See ‘/Users/biocbuild/bbs-3.17-bioc/meat/groHMM.Rcheck/00check.log’ for details.
groHMM.Rcheck/00install.out
############################################################################## ############################################################################## ### ### Running command: ### ### /Library/Frameworks/R.framework/Resources/bin/R CMD INSTALL groHMM ### ############################################################################## ############################################################################## * installing to library ‘/Library/Frameworks/R.framework/Versions/4.3/Resources/library’ * installing *source* package ‘groHMM’ ... ** using staged installation ** libs using C compiler: ‘Apple clang version 11.0.0 (clang-1100.0.33.17)’ using SDK: ‘’ clang -mmacosx-version-min=10.13 -I"/Library/Frameworks/R.framework/Resources/include" -DNDEBUG -I/usr/local/include -fPIC -Wall -g -O2 -c AnnotateProbes.c -o AnnotateProbes.o clang -mmacosx-version-min=10.13 -I"/Library/Frameworks/R.framework/Resources/include" -DNDEBUG -I/usr/local/include -fPIC -Wall -g -O2 -c DecayAlgorithm.c -o DecayAlgorithm.o clang -mmacosx-version-min=10.13 -I"/Library/Frameworks/R.framework/Resources/include" -DNDEBUG -I/usr/local/include -fPIC -Wall -g -O2 -c MLEfit.c -o MLEfit.o In file included from MLEfit.c:43: ./hmmHeader.h:281:16: warning: unused function 'MargainalizeSumLogProbOver' [-Wunused-function] static double MargainalizeSumLogProbOver(int state, int position, ^ ./hmmHeader.h:301:16: warning: unused function 'expSum' [-Wunused-function] static double expSum(double *logValues, int length) { ^ 2 warnings generated. clang -mmacosx-version-min=10.13 -I"/Library/Frameworks/R.framework/Resources/include" -DNDEBUG -I/usr/local/include -fPIC -Wall -g -O2 -c RegisterRRoutines.c -o RegisterRRoutines.o clang -mmacosx-version-min=10.13 -I"/Library/Frameworks/R.framework/Resources/include" -DNDEBUG -I/usr/local/include -fPIC -Wall -g -O2 -c Windowing.c -o Windowing.o Windowing.c:146:6: warning: unused variable 'II' [-Wunused-variable] int II = 0; ^ 1 warning generated. clang -mmacosx-version-min=10.13 -I"/Library/Frameworks/R.framework/Resources/include" -DNDEBUG -I/usr/local/include -fPIC -Wall -g -O2 -c hmmEM.c -o hmmEM.o In file included from hmmEM.c:50: ./hmmHeader.h:281:16: warning: unused function 'MargainalizeSumLogProbOver' [-Wunused-function] static double MargainalizeSumLogProbOver(int state, int position, ^ ./hmmHeader.h:301:16: warning: unused function 'expSum' [-Wunused-function] static double expSum(double *logValues, int length) { ^ 2 warnings generated. clang -mmacosx-version-min=10.13 -I"/Library/Frameworks/R.framework/Resources/include" -DNDEBUG -I/usr/local/include -fPIC -Wall -g -O2 -c hmmFwBw.c -o hmmFwBw.o In file included from hmmFwBw.c:45: ./hmmHeader.h:281:16: warning: unused function 'MargainalizeSumLogProbOver' [-Wunused-function] static double MargainalizeSumLogProbOver(int state, int position, ^ ./hmmHeader.h:301:16: warning: unused function 'expSum' [-Wunused-function] static double expSum(double *logValues, int length) { ^ 2 warnings generated. clang -mmacosx-version-min=10.13 -I"/Library/Frameworks/R.framework/Resources/include" -DNDEBUG -I/usr/local/include -fPIC -Wall -g -O2 -c hmmMiscFunctions.c -o hmmMiscFunctions.o hmmMiscFunctions.c:384:10: warning: unused variable 'wi' [-Wunused-variable] double wi, *newEx; ^ hmmMiscFunctions.c:417:10: warning: unused variable 'epsilon' [-Wunused-variable] double epsilon=0.00001; ^ 2 warnings generated. clang -mmacosx-version-min=10.13 -I"/Library/Frameworks/R.framework/Resources/include" -DNDEBUG -I/usr/local/include -fPIC -Wall -g -O2 -c hmmViterbi.c -o hmmViterbi.o In file included from hmmViterbi.c:48: ./hmmHeader.h:281:16: warning: unused function 'MargainalizeSumLogProbOver' [-Wunused-function] static double MargainalizeSumLogProbOver(int state, int position, ^ ./hmmHeader.h:301:16: warning: unused function 'expSum' [-Wunused-function] static double expSum(double *logValues, int length) { ^ 2 warnings generated. clang -mmacosx-version-min=10.13 -dynamiclib -Wl,-headerpad_max_install_names -undefined dynamic_lookup -single_module -multiply_defined suppress -L/Library/Frameworks/R.framework/Resources/lib -L/usr/local/lib -o groHMM.so AnnotateProbes.o DecayAlgorithm.o MLEfit.o RegisterRRoutines.o Windowing.o hmmEM.o hmmFwBw.o hmmMiscFunctions.o hmmViterbi.o -F/Library/Frameworks/R.framework/.. -framework R -Wl,-framework -Wl,CoreFoundation installing to /Library/Frameworks/R.framework/Versions/4.3/Resources/library/00LOCK-groHMM/00new/groHMM/libs ** R ** inst ** byte-compile and prepare package for lazy loading ** help *** installing help indices ** building package indices ** installing vignettes ** testing if installed package can be loaded from temporary location ** checking absolute paths in shared objects and dynamic libraries ** testing if installed package can be loaded from final location ** testing if installed package keeps a record of temporary installation path * DONE (groHMM)
groHMM.Rcheck/groHMM-Ex.timings
name | user | system | elapsed | |
breakTranscriptsOnGenes | 1.803 | 0.050 | 2.641 | |
combineTranscripts | 0.551 | 0.002 | 0.797 | |
detectTranscripts | 0.462 | 0.029 | 0.748 | |
evaluateHMMInAnnotations | 0.220 | 0.000 | 0.313 | |
getCores | 0.001 | 0.000 | 0.000 | |
getTxDensity | 0.035 | 0.001 | 0.046 | |
limitToXkb | 0.141 | 0.001 | 0.200 | |
makeConsensusAnnotations | 0 | 0 | 0 | |
metaGene | 0.205 | 0.001 | 0.284 | |
pausingIndex | 0.424 | 0.018 | 0.633 | |
polymeraseWave | 1.803 | 0.050 | 2.686 | |
runMetaGene | 0.035 | 0.000 | 0.058 | |
windowAnalysis | 0.379 | 0.018 | 0.590 | |
writeWiggle | 0.375 | 0.017 | 0.516 | |