Back to Multiple platform build/check report for BioC 3.17:   simplified   long
AB[C]DEFGHIJKLMNOPQRSTUVWXYZ

This page was generated on 2023-06-09 11:05:52 -0400 (Fri, 09 Jun 2023).

HostnameOSArch (*)R versionInstalled pkgs
nebbiolo1Linux (Ubuntu 22.04.2 LTS)x86_644.3.0 RC (2023-04-13 r84269) -- "Already Tomorrow" 4628
palomino3Windows Server 2022 Datacenterx644.3.0 RC (2023-04-13 r84269 ucrt) -- "Already Tomorrow" 4379
merida1macOS 12.6.4 Montereyx86_644.3.0 RC (2023-04-13 r84257) -- "Already Tomorrow" 4385
Click on any hostname to see more info about the system (e.g. compilers)      (*) as reported by 'uname -p', except on Windows and Mac OS X

BUILD results for ChAMP on palomino3


To the developers/maintainers of the ChAMP package:
- Allow up to 24 hours (and sometimes 48 hours) for your latest push to git@git.bioconductor.org:packages/ChAMP.git to reflect on this report. See Troubleshooting Build Report for more information.
- Use the following Renviron settings to reproduce errors and warnings.
- If 'R CMD check' started to fail recently on the Linux builder(s) over a missing dependency, add the missing dependency to 'Suggests:' in your DESCRIPTION file. See Renviron.bioc for more information.

raw results

Package 316/2229HostnameOS / ArchINSTALLBUILDCHECKBUILD BIN
ChAMP 2.30.0  (landing page)
Yuan Tian
Snapshot Date: 2023-06-08 14:00:15 -0400 (Thu, 08 Jun 2023)
git_url: https://git.bioconductor.org/packages/ChAMP
git_branch: RELEASE_3_17
git_last_commit: b6ff667
git_last_commit_date: 2023-04-25 10:29:24 -0400 (Tue, 25 Apr 2023)
nebbiolo1Linux (Ubuntu 22.04.2 LTS) / x86_64  OK    OK    WARNINGS  UNNEEDED, same version is already published
palomino3Windows Server 2022 Datacenter / x64  OK    OK    WARNINGS    OK  UNNEEDED, same version is already published
merida1macOS 12.6.4 Monterey / x86_64  OK    OK    WARNINGS    OK  NO, package depends on 'DMRcate' which is not available

Summary

Package: ChAMP
Version: 2.30.0
Command: chmod a+r ChAMP -R && F:\biocbuild\bbs-3.17-bioc\R\bin\R.exe CMD build --keep-empty-dirs --no-resave-data ChAMP
StartedAt: 2023-06-08 17:55:27 -0400 (Thu, 08 Jun 2023)
EndedAt: 2023-06-08 17:59:44 -0400 (Thu, 08 Jun 2023)
EllapsedTime: 256.3 seconds
RetCode: 0
Status:   OK  
PackageFile: ChAMP_2.30.0.tar.gz
PackageFileSize: 7.89 MiB

Command output

##############################################################################
##############################################################################
###
### Running command:
###
###   chmod a+r ChAMP -R && F:\biocbuild\bbs-3.17-bioc\R\bin\R.exe CMD build --keep-empty-dirs --no-resave-data ChAMP
###
##############################################################################
##############################################################################


* checking for file 'ChAMP/DESCRIPTION' ... OK
* preparing 'ChAMP':
* checking DESCRIPTION meta-information ... OK
* installing the package to build vignettes
* creating vignettes ... OK
* checking for LF line-endings in source and make files and shell scripts
* checking for empty or unneeded directories
Omitted 'LazyData' from DESCRIPTION
* building 'ChAMP_2.30.0.tar.gz'