Back to Multiple platform build/check report for BioC 3.17:   simplified   long
ABCDEFGHIJKLMNOPQ[R]STUVWXYZ

This page was generated on 2023-03-24 11:06:19 -0400 (Fri, 24 Mar 2023).

HostnameOSArch (*)R versionInstalled pkgs
nebbiolo1Linux (Ubuntu 22.04.1 LTS)x86_64R Under development (unstable) (2023-03-16 r83996) -- "Unsuffered Consequences" 4546
palomino3Windows Server 2022 Datacenterx64R Under development (unstable) (2023-03-15 r83984 ucrt) -- "Unsuffered Consequences" 4307
merida1macOS 10.14.6 Mojavex86_64R Under development (unstable) (2023-03-16 r83985) -- "Unsuffered Consequences" 4299
Click on any hostname to see more info about the system (e.g. compilers)      (*) as reported by 'uname -p', except on Windows and Mac OS X

BUILD results for rhdf5filters on palomino3


To the developers/maintainers of the rhdf5filters package:
- Please allow up to 24 hours (and sometimes 48 hours) for your latest push to git@git.bioconductor.org:packages/rhdf5filters.git to
reflect on this report. See How and When does the builder pull? When will my changes propagate? for more information.
- Make sure to use the following settings in order to reproduce any error or warning you see on this page.

raw results

Package 1686/2195HostnameOS / ArchINSTALLBUILDCHECKBUILD BIN
rhdf5filters 1.11.1  (landing page)
Mike Smith
Snapshot Date: 2023-03-23 14:00:15 -0400 (Thu, 23 Mar 2023)
git_url: https://git.bioconductor.org/packages/rhdf5filters
git_branch: devel
git_last_commit: 3db3b34
git_last_commit_date: 2023-02-22 08:58:52 -0400 (Wed, 22 Feb 2023)
nebbiolo1Linux (Ubuntu 22.04.1 LTS) / x86_64  OK    OK    OK  UNNEEDED, same version is already published
palomino3Windows Server 2022 Datacenter / x64  OK    OK    OK    OK  UNNEEDED, same version is already published
merida1macOS 10.14.6 Mojave / x86_64  OK    OK    OK    OK  UNNEEDED, same version is already published

Summary

Package: rhdf5filters
Version: 1.11.1
Command: chmod a+r rhdf5filters -R && F:\biocbuild\bbs-3.17-bioc\R\bin\R.exe CMD build --keep-empty-dirs --no-resave-data rhdf5filters
StartedAt: 2023-03-23 21:29:39 -0400 (Thu, 23 Mar 2023)
EndedAt: 2023-03-23 21:30:43 -0400 (Thu, 23 Mar 2023)
EllapsedTime: 64.2 seconds
RetCode: 0
Status:   OK  
PackageFile: rhdf5filters_1.11.1.tar.gz
PackageFileSize: 982.9 KiB

Command output

##############################################################################
##############################################################################
###
### Running command:
###
###   chmod a+r rhdf5filters -R && F:\biocbuild\bbs-3.17-bioc\R\bin\R.exe CMD build --keep-empty-dirs --no-resave-data rhdf5filters
###
##############################################################################
##############################################################################


* checking for file 'rhdf5filters/DESCRIPTION' ... OK
* preparing 'rhdf5filters':
* checking DESCRIPTION meta-information ... OK
* cleaning src
* running 'cleanup.win'
* installing the package to build vignettes
* creating vignettes ... OK
* cleaning src
* running 'cleanup.win'
* checking for LF line-endings in source and make files and shell scripts
* checking for empty or unneeded directories
* building 'rhdf5filters_1.11.1.tar.gz'
Warning: file 'rhdf5filters/cleanup' did not have execute permissions: corrected
Warning: file 'rhdf5filters/configure' did not have execute permissions: corrected