Back to Multiple platform build/check report for BioC 3.17: simplified long |
|
This page was generated on 2023-03-31 11:03:01 -0400 (Fri, 31 Mar 2023).
Hostname | OS | Arch (*) | R version | Installed pkgs |
---|---|---|---|---|
nebbiolo1 | Linux (Ubuntu 22.04.1 LTS) | x86_64 | R Under development (unstable) (2023-03-16 r83996) -- "Unsuffered Consequences" | 4547 |
palomino3 | Windows Server 2022 Datacenter | x64 | R Under development (unstable) (2023-03-15 r83984 ucrt) -- "Unsuffered Consequences" | 4308 |
Click on any hostname to see more info about the system (e.g. compilers) (*) as reported by 'uname -p', except on Windows and Mac OS X |
To the developers/maintainers of the circRNAprofiler package: - Allow up to 24 hours (and sometimes 48 hours) for your latest push to git@git.bioconductor.org:packages/circRNAprofiler.git to reflect on this report. See Troubleshooting Build Report for more information. - Use the following Renviron settings to reproduce errors and warnings. Note: If "R CMD check" recently failed on the Linux builder over a missing dependency, add the missing dependency to "Suggests" in your DESCRIPTION file. See the Renviron.bioc for details. |
Package 342/2195 | Hostname | OS / Arch | INSTALL | BUILD | CHECK | BUILD BIN | ||||||||
circRNAprofiler 1.13.7 (landing page) Simona Aufiero
| nebbiolo1 | Linux (Ubuntu 22.04.1 LTS) / x86_64 | ERROR | ERROR | skipped | |||||||||
palomino3 | Windows Server 2022 Datacenter / x64 | ERROR | ERROR | skipped | skipped | |||||||||
Package: circRNAprofiler |
Version: 1.13.7 |
Command: F:\biocbuild\bbs-3.17-bioc\R\bin\R.exe CMD INSTALL circRNAprofiler |
StartedAt: 2023-03-30 16:48:17 -0400 (Thu, 30 Mar 2023) |
EndedAt: 2023-03-30 16:48:36 -0400 (Thu, 30 Mar 2023) |
EllapsedTime: 18.9 seconds |
RetCode: 1 |
Status: ERROR |
############################################################################## ############################################################################## ### ### Running command: ### ### F:\biocbuild\bbs-3.17-bioc\R\bin\R.exe CMD INSTALL circRNAprofiler ### ############################################################################## ############################################################################## * installing to library 'F:/biocbuild/bbs-3.17-bioc/R/library' * installing *source* package 'circRNAprofiler' ... ** using staged installation ** R ** data ** inst ** byte-compile and prepare package for lazy loading Error: object 'colMeans' is not exported by 'namespace:BiocGenerics' Execution halted ERROR: lazy loading failed for package 'circRNAprofiler' * removing 'F:/biocbuild/bbs-3.17-bioc/R/library/circRNAprofiler' * restoring previous 'F:/biocbuild/bbs-3.17-bioc/R/library/circRNAprofiler'