Back to Multiple platform build/check report for BioC 3.17:   simplified   long
ABCDEFGHIJKLMNO[P]QRSTUVWXYZ

This page was generated on 2023-06-05 11:03:31 -0400 (Mon, 05 Jun 2023).

HostnameOSArch (*)R versionInstalled pkgs
nebbiolo1Linux (Ubuntu 22.04.2 LTS)x86_644.3.0 RC (2023-04-13 r84269) -- "Already Tomorrow" 4623
palomino3Windows Server 2022 Datacenterx644.3.0 RC (2023-04-13 r84269 ucrt) -- "Already Tomorrow" 4374
merida1macOS 12.6.4 Montereyx86_644.3.0 RC (2023-04-13 r84257) -- "Already Tomorrow" 4332
Click on any hostname to see more info about the system (e.g. compilers)      (*) as reported by 'uname -p', except on Windows and Mac OS X

All results for package preprocessCore


To the developers/maintainers of the preprocessCore package:
- Allow up to 24 hours (and sometimes 48 hours) for your latest push to git@git.bioconductor.org:packages/preprocessCore.git to reflect on this report. See Troubleshooting Build Report for more information.

- Use the following Renviron settings to reproduce errors and warnings.

Note: If "R CMD check" recently failed on the Linux builder over a missing dependency, add the missing dependency to "Suggests" in your DESCRIPTION file. See the Renviron.bioc for details.

raw results

Package 1552/2229HostnameOS / ArchINSTALLBUILDCHECKBUILD BIN
preprocessCore 1.62.1  (landing page)
Ben Bolstad
Snapshot Date: 2023-06-04 14:00:14 -0400 (Sun, 04 Jun 2023)
git_url: https://git.bioconductor.org/packages/preprocessCore
git_branch: RELEASE_3_17
git_last_commit: a1aecdf
git_last_commit_date: 2023-05-01 20:11:04 -0400 (Mon, 01 May 2023)
nebbiolo1Linux (Ubuntu 22.04.2 LTS) / x86_64  OK    OK    WARNINGS  UNNEEDED, same version is already published
palomino3Windows Server 2022 Datacenter / x64  OK    OK    WARNINGS    OK  UNNEEDED, same version is already published
merida1macOS 12.6.4 Monterey / x86_64  OK    OK    WARNINGS    NA  

Results for Bioconductor software packages that depend directly on package preprocessCore

QUICK STATSOS / ArchINSTALLBUILDCHECKBUILD BIN
nebbiolo1Linux (Ubuntu 22.04.2 LTS) / x86_64
0044
0143
051028
palomino3Windows Server 2022 Datacenter / x64
0044
0143
011230
0043
merida1macOS 12.6.4 Monterey / x86_64
0044
1142
011130
0014
Package 1/44HostnameOS / ArchINSTALLBUILDCHECKBUILD BIN
affy 1.78.0  (landing page)
Rafael A. Irizarry
git_last_commit: cc7eac3
git_last_commit_date: 2023-04-25 09:38:42 -0400
nebbiolo1Linux (Ubuntu 22.04.2 LTS) / x86_64  OK    OK    ERROR  
palomino3Windows Server 2022 Datacenter / x64  OK    OK    WARNINGS    OK  UNNEEDED, same version is already published
merida1macOS 12.6.4 Monterey / x86_64  OK    OK    WARNINGS    OK  UNNEEDED, same version is already published
Package 2/44HostnameOS / ArchINSTALLBUILDCHECKBUILD BIN
affyPLM 1.76.1  (landing page)
Ben Bolstad
git_last_commit: d20fa58
git_last_commit_date: 2023-05-01 20:07:56 -0400
nebbiolo1Linux (Ubuntu 22.04.2 LTS) / x86_64  OK    OK    ERROR  
palomino3Windows Server 2022 Datacenter / x64  OK    OK    WARNINGS    OK  UNNEEDED, same version is already published
merida1macOS 12.6.4 Monterey / x86_64  OK    OK    OK    OK  UNNEEDED, same version is already published
Package 3/44HostnameOS / ArchINSTALLBUILDCHECKBUILD BIN
AgiMicroRna 2.50.0  (landing page)
Pedro Lopez-Romero
git_last_commit: a812b0f
git_last_commit_date: 2023-04-25 09:49:25 -0400
nebbiolo1Linux (Ubuntu 22.04.2 LTS) / x86_64  OK    OK    WARNINGS  UNNEEDED, same version is already published
palomino3Windows Server 2022 Datacenter / x64  OK    OK    WARNINGS    OK  UNNEEDED, same version is already published
merida1macOS 12.6.4 Monterey / x86_64  OK    OK    WARNINGS    OK  NO, package depends on 'affycoretools' which is not available
Package 4/44HostnameOS / ArchINSTALLBUILDCHECKBUILD BIN
BloodGen3Module 1.8.0  (landing page)
Darawan Rinchai
git_last_commit: d289aa9
git_last_commit_date: 2023-04-25 11:29:58 -0400
nebbiolo1Linux (Ubuntu 22.04.2 LTS) / x86_64  OK    OK    WARNINGS  UNNEEDED, same version is already published
palomino3Windows Server 2022 Datacenter / x64  OK    OK    WARNINGS    OK  UNNEEDED, same version is already published
merida1macOS 12.6.4 Monterey / x86_64  OK    OK    WARNINGS    OK  UNNEEDED, same version is already published
Package 5/44HostnameOS / ArchINSTALLBUILDCHECKBUILD BIN
bnbc 1.22.0  (landing page)
Kipper Fletez-Brant
git_last_commit: 4afeeae
git_last_commit_date: 2023-04-25 10:57:18 -0400
nebbiolo1Linux (Ubuntu 22.04.2 LTS) / x86_64  OK    OK    WARNINGS  UNNEEDED, same version is already published
palomino3Windows Server 2022 Datacenter / x64  OK    OK    WARNINGS    OK  UNNEEDED, same version is already published
merida1macOS 12.6.4 Monterey / x86_64  OK    OK    WARNINGS    OK  UNNEEDED, same version is already published
Package 6/44HostnameOS / ArchINSTALLBUILDCHECKBUILD BIN
ChAMP 2.30.0  (landing page)
Yuan Tian
git_last_commit: b6ff667
git_last_commit_date: 2023-04-25 10:29:24 -0400
nebbiolo1Linux (Ubuntu 22.04.2 LTS) / x86_64  OK    OK    WARNINGS  UNNEEDED, same version is already published
palomino3Windows Server 2022 Datacenter / x64  OK    OK    WARNINGS    OK  UNNEEDED, same version is already published
merida1macOS 12.6.4 Monterey / x86_64  OK    OK    WARNINGS    OK  NO, package depends on 'DMRcate' which is not available
Package 7/44HostnameOS / ArchINSTALLBUILDCHECKBUILD BIN
cn.farms 1.48.0  (landing page)
Andreas Mitterecker
git_last_commit: fa9e979
git_last_commit_date: 2023-04-25 10:19:13 -0400
nebbiolo1Linux (Ubuntu 22.04.2 LTS) / x86_64  OK    OK    OK  UNNEEDED, same version is already published
palomino3Windows Server 2022 Datacenter / x64  OK    OK    OK    OK  UNNEEDED, same version is already published
merida1macOS 12.6.4 Monterey / x86_64  OK    OK    OK    OK  UNNEEDED, same version is already published
Package 8/44HostnameOS / ArchINSTALLBUILDCHECKBUILD BIN
cqn 1.46.0  (landing page)
Kasper Daniel Hansen
git_last_commit: 1c041f3
git_last_commit_date: 2023-04-25 10:20:08 -0400
nebbiolo1Linux (Ubuntu 22.04.2 LTS) / x86_64  OK    OK    OK  UNNEEDED, same version is already published
palomino3Windows Server 2022 Datacenter / x64  OK    OK    OK    OK  UNNEEDED, same version is already published
merida1macOS 12.6.4 Monterey / x86_64  OK    OK    OK    OK  UNNEEDED, same version is already published
Package 9/44HostnameOS / ArchINSTALLBUILDCHECKBUILD BIN
crlmm 1.58.0  (landing page)
Benilton S Carvalho
git_last_commit: f9044bc
git_last_commit_date: 2023-04-25 09:48:29 -0400
nebbiolo1Linux (Ubuntu 22.04.2 LTS) / x86_64  OK    OK    WARNINGS  UNNEEDED, same version is already published
palomino3Windows Server 2022 Datacenter / x64  OK    OK    WARNINGS    OK  UNNEEDED, same version is already published
merida1macOS 12.6.4 Monterey / x86_64  OK    OK    WARNINGS    OK  UNNEEDED, same version is already published
Package 10/44HostnameOS / ArchINSTALLBUILDCHECKBUILD BIN
EMDomics 2.30.0  (landing page)
Sadhika Malladi and Daniel Schmolze
git_last_commit: 02891ab
git_last_commit_date: 2023-04-25 10:39:44 -0400
nebbiolo1Linux (Ubuntu 22.04.2 LTS) / x86_64  OK    OK    OK  UNNEEDED, same version is already published
palomino3Windows Server 2022 Datacenter / x64  OK    OK    OK    OK  UNNEEDED, same version is already published
merida1macOS 12.6.4 Monterey / x86_64  OK    OK    OK    OK  UNNEEDED, same version is already published
Package 11/44HostnameOS / ArchINSTALLBUILDCHECKBUILD BIN
ENmix 1.36.01  (landing page)
Zongli Xu
git_last_commit: 313f491
git_last_commit_date: 2023-05-15 14:27:39 -0400
nebbiolo1Linux (Ubuntu 22.04.2 LTS) / x86_64  OK    OK    OK  UNNEEDED, same version is already published
palomino3Windows Server 2022 Datacenter / x64  OK    OK    OK    OK  UNNEEDED, same version is already published
merida1macOS 12.6.4 Monterey / x86_64  OK    OK    OK    OK  UNNEEDED, same version is already published
Package 12/44HostnameOS / ArchINSTALLBUILDCHECKBUILD BIN
ExiMiR 2.42.0  (landing page)
Sylvain Gubian
git_last_commit: 083b878
git_last_commit_date: 2023-04-25 10:18:44 -0400
nebbiolo1Linux (Ubuntu 22.04.2 LTS) / x86_64  OK    OK    OK  UNNEEDED, same version is already published
palomino3Windows Server 2022 Datacenter / x64  OK    OK    OK    OK  UNNEEDED, same version is already published
merida1macOS 12.6.4 Monterey / x86_64  OK    OK    OK    OK  UNNEEDED, same version is already published
Package 13/44HostnameOS / ArchINSTALLBUILDCHECKBUILD BIN
fastLiquidAssociation 1.36.0  (landing page)
Tina Gunderson
git_last_commit: 838cfc0
git_last_commit_date: 2023-04-25 10:32:04 -0400
nebbiolo1Linux (Ubuntu 22.04.2 LTS) / x86_64  OK    OK    WARNINGS  UNNEEDED, same version is already published
palomino3Windows Server 2022 Datacenter / x64  OK    OK    WARNINGS    OK  UNNEEDED, same version is already published
merida1macOS 12.6.4 Monterey / x86_64  OK    OK    WARNINGS    OK  UNNEEDED, same version is already published
Package 14/44HostnameOS / ArchINSTALLBUILDCHECKBUILD BIN
frma 1.52.0  (landing page)
Matthew N. McCall
git_last_commit: f32878d
git_last_commit_date: 2023-04-25 09:50:01 -0400
nebbiolo1Linux (Ubuntu 22.04.2 LTS) / x86_64  OK    OK    OK  UNNEEDED, same version is already published
palomino3Windows Server 2022 Datacenter / x64  OK    OK    OK    OK  UNNEEDED, same version is already published
merida1macOS 12.6.4 Monterey / x86_64  OK    OK    OK    NA  
Package 15/44HostnameOS / ArchINSTALLBUILDCHECKBUILD BIN
frmaTools 1.52.0  (landing page)
Matthew N. McCall
git_last_commit: d84090c
git_last_commit_date: 2023-04-25 09:50:04 -0400
nebbiolo1Linux (Ubuntu 22.04.2 LTS) / x86_64  OK    OK    OK  UNNEEDED, same version is already published
palomino3Windows Server 2022 Datacenter / x64  OK    OK    OK    OK  UNNEEDED, same version is already published
merida1macOS 12.6.4 Monterey / x86_64  OK    OK    OK    OK  UNNEEDED, same version is already published
Package 16/44HostnameOS / ArchINSTALLBUILDCHECKBUILD BIN
hipathia 3.0.1  (landing page)
Marta R. Hidalgo
git_last_commit: 2d5c5c0
git_last_commit_date: 2023-06-01 05:39:51 -0400
nebbiolo1Linux (Ubuntu 22.04.2 LTS) / x86_64  OK    ERROR  skipped
palomino3Windows Server 2022 Datacenter / x64  OK    ERROR  skippedskipped
merida1macOS 12.6.4 Monterey / x86_64  OK    ERROR  skippedskipped
Package 17/44HostnameOS / ArchINSTALLBUILDCHECKBUILD BIN
iCheck 1.30.0  (landing page)
Weiliang Qiu
git_last_commit: 55b3fa4
git_last_commit_date: 2023-04-25 10:41:52 -0400
nebbiolo1Linux (Ubuntu 22.04.2 LTS) / x86_64  OK    OK    OK  UNNEEDED, same version is already published
palomino3Windows Server 2022 Datacenter / x64  OK    OK    OK    OK  UNNEEDED, same version is already published
merida1macOS 12.6.4 Monterey / x86_64  OK    OK    OK    NA  
Package 18/44HostnameOS / ArchINSTALLBUILDCHECKBUILD BIN
ImmuneSpaceR 1.28.0  (landing page)
ImmuneSpace Package Maintainer
git_last_commit: af9dead
git_last_commit_date: 2023-04-25 10:46:58 -0400
nebbiolo1Linux (Ubuntu 22.04.2 LTS) / x86_64  OK    OK    OK  UNNEEDED, same version is already published
palomino3Windows Server 2022 Datacenter / x64  OK    OK    OK    OK  UNNEEDED, same version is already published
merida1macOS 12.6.4 Monterey / x86_64  OK    OK    OK    NA  
Package 19/44HostnameOS / ArchINSTALLBUILDCHECKBUILD BIN
InPAS 2.8.0  (landing page)
Jianhong Ou
git_last_commit: 0a681a9
git_last_commit_date: 2023-04-25 10:38:23 -0400
nebbiolo1Linux (Ubuntu 22.04.2 LTS) / x86_64  OK    OK    OK  UNNEEDED, same version is already published
palomino3Windows Server 2022 Datacenter / x64  OK    OK    OK    OK  UNNEEDED, same version is already published
merida1macOS 12.6.4 Monterey / x86_64  OK    OK    OK    NA  
Package 20/44HostnameOS / ArchINSTALLBUILDCHECKBUILD BIN
lumi 2.52.0  (landing page)
Lei Huang
git_last_commit: c6aa992
git_last_commit_date: 2023-04-25 09:44:43 -0400
nebbiolo1Linux (Ubuntu 22.04.2 LTS) / x86_64  OK    OK    WARNINGS  UNNEEDED, same version is already published
palomino3Windows Server 2022 Datacenter / x64  OK    OK    WARNINGS    OK  UNNEEDED, same version is already published
merida1macOS 12.6.4 Monterey / x86_64  OK    OK    WARNINGS    NA  
Package 21/44HostnameOS / ArchINSTALLBUILDCHECKBUILD BIN
MADSEQ 1.26.0  (landing page)
Yu Kong
git_last_commit: 8105206
git_last_commit_date: 2023-04-25 10:47:27 -0400
nebbiolo1Linux (Ubuntu 22.04.2 LTS) / x86_64  OK    OK    OK  UNNEEDED, same version is already published
palomino3Windows Server 2022 Datacenter / x64  OK    OK    OK    OK  UNNEEDED, same version is already published
merida1macOS 12.6.4 Monterey / x86_64  OK    OK    OK    NA  
Package 22/44HostnameOS / ArchINSTALLBUILDCHECKBUILD BIN
MBCB 1.54.0  (landing page)
Jeff Allen
git_last_commit: df67850
git_last_commit_date: 2023-04-25 09:51:19 -0400
nebbiolo1Linux (Ubuntu 22.04.2 LTS) / x86_64  OK    OK    OK  UNNEEDED, same version is already published
palomino3Windows Server 2022 Datacenter / x64  OK    OK    OK    OK  UNNEEDED, same version is already published
merida1macOS 12.6.4 Monterey / x86_64  OK    OK    OK    NA  
Package 23/44HostnameOS / ArchINSTALLBUILDCHECKBUILD BIN
MBQN 2.12.0  (landing page)
Eva Brombacher
git_last_commit: 8a0ef54
git_last_commit_date: 2023-04-25 11:13:30 -0400
nebbiolo1Linux (Ubuntu 22.04.2 LTS) / x86_64  OK    OK    OK  UNNEEDED, same version is already published
palomino3Windows Server 2022 Datacenter / x64  OK    OK    OK    OK  UNNEEDED, same version is already published
merida1macOS 12.6.4 Monterey / x86_64  OK    OK    OK    NA  
Package 24/44HostnameOS / ArchINSTALLBUILDCHECKBUILD BIN
MEDIPS 1.52.0  (landing page)
Lukas Chavez
git_last_commit: 435df87
git_last_commit_date: 2023-04-25 10:18:20 -0400
nebbiolo1Linux (Ubuntu 22.04.2 LTS) / x86_64  OK    OK    OK  UNNEEDED, same version is already published
palomino3Windows Server 2022 Datacenter / x64  OK    OK    OK    OK  UNNEEDED, same version is already published
merida1macOS 12.6.4 Monterey / x86_64  OK    OK    OK    NA  
Package 25/44HostnameOS / ArchINSTALLBUILDCHECKBUILD BIN
methylclock 1.6.0  (landing page)
Dolors Pelegri-Siso
git_last_commit: 606bfdf
git_last_commit_date: 2023-04-25 11:31:03 -0400
nebbiolo1Linux (Ubuntu 22.04.2 LTS) / x86_64  OK    OK    OK  UNNEEDED, same version is already published
palomino3Windows Server 2022 Datacenter / x64  OK    OK    OK    OK  UNNEEDED, same version is already published
merida1macOS 12.6.4 Monterey / x86_64  OK    OK    OK    NA  
Package 26/44HostnameOS / ArchINSTALLBUILDCHECKBUILD BIN
mimager 1.24.0  (landing page)
Aaron Wolen
git_last_commit: d1e860d
git_last_commit_date: 2023-04-25 10:51:53 -0400
nebbiolo1Linux (Ubuntu 22.04.2 LTS) / x86_64  OK    OK    OK  UNNEEDED, same version is already published
palomino3Windows Server 2022 Datacenter / x64  OK    OK    OK    OK  UNNEEDED, same version is already published
merida1macOS 12.6.4 Monterey / x86_64  OK    OK    OK    NA  
Package 27/44HostnameOS / ArchINSTALLBUILDCHECKBUILD BIN
minfi 1.46.0  (landing page)
Kasper Daniel Hansen
git_last_commit: 1d06317
git_last_commit_date: 2023-04-25 10:21:20 -0400
nebbiolo1Linux (Ubuntu 22.04.2 LTS) / x86_64  OK    OK    OK  UNNEEDED, same version is already published
palomino3Windows Server 2022 Datacenter / x64  OK    OK    OK    OK  UNNEEDED, same version is already published
merida1macOS 12.6.4 Monterey / x86_64  OK    OK    OK    NA  
Package 28/44HostnameOS / ArchINSTALLBUILDCHECKBUILD BIN
MSPrep 1.10.0  (landing page)
Max McGrath
git_last_commit: 924227c
git_last_commit_date: 2023-04-25 11:23:17 -0400
nebbiolo1Linux (Ubuntu 22.04.2 LTS) / x86_64  OK    OK    OK  UNNEEDED, same version is already published
palomino3Windows Server 2022 Datacenter / x64  OK    OK    OK    OK  UNNEEDED, same version is already published
merida1macOS 12.6.4 Monterey / x86_64  OK    OK    OK    NA  
Package 29/44HostnameOS / ArchINSTALLBUILDCHECKBUILD BIN
MSstats 4.8.2  (landing page)
Meena Choi
git_last_commit: 7e8e776
git_last_commit_date: 2023-05-01 20:11:38 -0400
nebbiolo1Linux (Ubuntu 22.04.2 LTS) / x86_64  OK    OK    OK  UNNEEDED, same version is already published
palomino3Windows Server 2022 Datacenter / x64  OK    OK    OK    OK  UNNEEDED, same version is already published
merida1macOS 12.6.4 Monterey / x86_64  OK    OK    OK    NA  
Package 30/44HostnameOS / ArchINSTALLBUILDCHECKBUILD BIN
NormalyzerDE 1.18.0  (landing page)
Jakob Willforss
git_last_commit: e5f7407
git_last_commit_date: 2023-04-25 11:04:15 -0400
nebbiolo1Linux (Ubuntu 22.04.2 LTS) / x86_64  OK    OK    OK  UNNEEDED, same version is already published
palomino3Windows Server 2022 Datacenter / x64  OK    OK    OK    OK  UNNEEDED, same version is already published
merida1macOS 12.6.4 Monterey / x86_64  OK    OK    OK    NA  
Package 31/44HostnameOS / ArchINSTALLBUILDCHECKBUILD BIN
oligo 1.64.1  (landing page)
Benilton Carvalho
git_last_commit: ad2f482
git_last_commit_date: 2023-05-01 20:10:54 -0400
nebbiolo1Linux (Ubuntu 22.04.2 LTS) / x86_64  OK    OK    WARNINGS  UNNEEDED, same version is already published
palomino3Windows Server 2022 Datacenter / x64  OK    OK    WARNINGS    OK  UNNEEDED, same version is already published
merida1macOS 12.6.4 Monterey / x86_64  OK    OK    WARNINGS    NA  
Package 32/44HostnameOS / ArchINSTALLBUILDCHECKBUILD BIN
PanomiR 1.4.0  (landing page)
Pourya Naderi
git_last_commit: e65a9ea
git_last_commit_date: 2023-04-25 11:35:47 -0400
nebbiolo1Linux (Ubuntu 22.04.2 LTS) / x86_64  OK    OK    OK  UNNEEDED, same version is already published
palomino3Windows Server 2022 Datacenter / x64  OK    OK    OK    OK  UNNEEDED, same version is already published
merida1macOS 12.6.4 Monterey / x86_64  OK    OK    OK    NA  
Package 33/44HostnameOS / ArchINSTALLBUILDCHECKBUILD BIN
PECA 1.36.0  (landing page)
Tomi Suomi
git_last_commit: 0ea9361
git_last_commit_date: 2023-04-25 10:29:41 -0400
nebbiolo1Linux (Ubuntu 22.04.2 LTS) / x86_64  OK    OK    OK  UNNEEDED, same version is already published
palomino3Windows Server 2022 Datacenter / x64  OK    OK    OK    OK  UNNEEDED, same version is already published
merida1macOS 12.6.4 Monterey / x86_64  OK    OK    OK    NA  
Package 34/44HostnameOS / ArchINSTALLBUILDCHECKBUILD BIN
PhosR 1.10.0  (landing page)
Taiyun Kim
git_last_commit: 148942a
git_last_commit_date: 2023-04-25 11:22:59 -0400
nebbiolo1Linux (Ubuntu 22.04.2 LTS) / x86_64  OK    OK    OK  UNNEEDED, same version is already published
palomino3Windows Server 2022 Datacenter / x64  OK    OK    OK    OK  UNNEEDED, same version is already published
merida1macOS 12.6.4 Monterey / x86_64  OK    OK    OK    NA  
Package 35/44HostnameOS / ArchINSTALLBUILDCHECKBUILD BIN
Pigengene 1.26.0  (landing page)
Habil Zare
git_last_commit: ed5b2c2
git_last_commit_date: 2023-04-25 10:47:16 -0400
nebbiolo1Linux (Ubuntu 22.04.2 LTS) / x86_64  OK    OK    OK  UNNEEDED, same version is already published
palomino3Windows Server 2022 Datacenter / x64  OK    OK    OK    OK  UNNEEDED, same version is already published
merida1macOS 12.6.4 Monterey / x86_64  OK    OK    OK    NA  
Package 36/44HostnameOS / ArchINSTALLBUILDCHECKBUILD BIN
proBatch 1.16.0  (landing page)
Chloe H. Lee
git_last_commit: 4de7ad4
git_last_commit_date: 2023-04-25 11:08:46 -0400
nebbiolo1Linux (Ubuntu 22.04.2 LTS) / x86_64  OK    OK    ERROR  
palomino3Windows Server 2022 Datacenter / x64  OK    OK    ERROR    OK  
merida1macOS 12.6.4 Monterey / x86_64  OK    OK    ERROR    NA  
Package 37/44HostnameOS / ArchINSTALLBUILDCHECKBUILD BIN
qPLEXanalyzer 1.18.0  (landing page)
Ashley Sawle
git_last_commit: 011b364
git_last_commit_date: 2023-04-25 11:02:47 -0400
nebbiolo1Linux (Ubuntu 22.04.2 LTS) / x86_64  OK    OK    OK  UNNEEDED, same version is already published
palomino3Windows Server 2022 Datacenter / x64  OK    OK    OK    OK  UNNEEDED, same version is already published
merida1macOS 12.6.4 Monterey / x86_64  OK    OK    OK    NA  
Package 38/44HostnameOS / ArchINSTALLBUILDCHECKBUILD BIN
quantiseqr 1.8.0  (landing page)
Federico Marini
git_last_commit: dfb00a5
git_last_commit_date: 2023-04-25 11:29:09 -0400
nebbiolo1Linux (Ubuntu 22.04.2 LTS) / x86_64  OK    OK    OK  UNNEEDED, same version is already published
palomino3Windows Server 2022 Datacenter / x64  OK    OK    OK    OK  UNNEEDED, same version is already published
merida1macOS 12.6.4 Monterey / x86_64  OK    OK    OK    NA  
Package 39/44HostnameOS / ArchINSTALLBUILDCHECKBUILD BIN
RefPlus 1.70.0  (landing page)
Kai-Ming Chang
git_last_commit: c55cf4f
git_last_commit_date: 2023-04-25 09:44:38 -0400
nebbiolo1Linux (Ubuntu 22.04.2 LTS) / x86_64  OK    OK    ERROR  
palomino3Windows Server 2022 Datacenter / x64  OK    OK    OK    OK  UNNEEDED, same version is already published
merida1macOS 12.6.4 Monterey / x86_64  OK    OK    OK    NA  
Package 40/44HostnameOS / ArchINSTALLBUILDCHECKBUILD BIN
SCATE 1.10.0  (landing page)
Wenpin Hou
git_last_commit: 7745544
git_last_commit_date: 2023-04-25 11:22:07 -0400
nebbiolo1Linux (Ubuntu 22.04.2 LTS) / x86_64  OK    OK    ERROR  
palomino3Windows Server 2022 Datacenter / x64  OK    OK    OK    OK  UNNEEDED, same version is already published
merida1macOS 12.6.4 Monterey / x86_64  OK    TIMEOUT  skippedskipped
Package 41/44HostnameOS / ArchINSTALLBUILDCHECKBUILD BIN
sesame 1.18.4  (landing page)
Wanding Zhou
git_last_commit: eba556b
git_last_commit_date: 2023-05-04 15:22:47 -0400
nebbiolo1Linux (Ubuntu 22.04.2 LTS) / x86_64  OK    OK    WARNINGS  UNNEEDED, same version is already published
palomino3Windows Server 2022 Datacenter / x64  OK    OK    WARNINGS    OK  UNNEEDED, same version is already published
merida1macOS 12.6.4 Monterey / x86_64  OK    OK    WARNINGS    NA  
Package 42/44HostnameOS / ArchINSTALLBUILDCHECKBUILD BIN
soGGi 1.32.0  (landing page)
Tom Carroll
git_last_commit: bed0c20
git_last_commit_date: 2023-04-25 10:39:19 -0400
nebbiolo1Linux (Ubuntu 22.04.2 LTS) / x86_64  OK    OK    OK  UNNEEDED, same version is already published
palomino3Windows Server 2022 Datacenter / x64  OK    OK    OK    OK  UNNEEDED, same version is already published
merida1macOS 12.6.4 Monterey / x86_64  OK    OK    OK    NA  
Package 43/44HostnameOS / ArchINSTALLBUILDCHECKBUILD BIN
tidybulk 1.12.0  (landing page)
Stefano Mangiola
git_last_commit: 0a0b397
git_last_commit_date: 2023-04-25 11:16:05 -0400
nebbiolo1Linux (Ubuntu 22.04.2 LTS) / x86_64  OK    OK    WARNINGS  UNNEEDED, same version is already published
palomino3Windows Server 2022 Datacenter / x64  OK    OK    WARNINGS    OK  UNNEEDED, same version is already published
merida1macOS 12.6.4 Monterey / x86_64  OK    OK    WARNINGS    NA  
Package 44/44HostnameOS / ArchINSTALLBUILDCHECKBUILD BIN
yarn 1.26.0  (landing page)
Joseph N Paulson
git_last_commit: 54dac4a
git_last_commit_date: 2023-04-25 10:51:02 -0400
nebbiolo1Linux (Ubuntu 22.04.2 LTS) / x86_64  OK    OK    OK  UNNEEDED, same version is already published
palomino3Windows Server 2022 Datacenter / x64  OK    OK    OK    OK  UNNEEDED, same version is already published
merida1macOS 12.6.4 Monterey / x86_64  OK    OK    OK    NA