Back to Multiple platform build/check report for BioC 3.17:   simplified   long
ABCDE[F]GHIJKLMNOPQRSTUVWXYZ

This page was generated on 2023-03-29 11:06:13 -0400 (Wed, 29 Mar 2023).

HostnameOSArch (*)R versionInstalled pkgs
nebbiolo1Linux (Ubuntu 22.04.1 LTS)x86_64R Under development (unstable) (2023-03-16 r83996) -- "Unsuffered Consequences" 4547
palomino3Windows Server 2022 Datacenterx64R Under development (unstable) (2023-03-15 r83984 ucrt) -- "Unsuffered Consequences" 4308
merida1macOS 10.14.6 Mojavex86_64R Under development (unstable) (2023-03-16 r83985) -- "Unsuffered Consequences" 4301
Click on any hostname to see more info about the system (e.g. compilers)      (*) as reported by 'uname -p', except on Windows and Mac OS X

INSTALL results for funtooNorm on merida1


To the developers/maintainers of the funtooNorm package:
- Please allow up to 24 hours (and sometimes 48 hours) for your latest push to git@git.bioconductor.org:packages/funtooNorm.git to
reflect on this report. See How and When does the builder pull? When will my changes propagate? for more information.
- Make sure to use the following settings in order to reproduce any error or warning you see on this page.

raw results

Package 732/2195HostnameOS / ArchINSTALLBUILDCHECKBUILD BIN
funtooNorm 1.23.0  (landing page)
Kathleen Klein
Snapshot Date: 2023-03-28 14:00:22 -0400 (Tue, 28 Mar 2023)
git_url: https://git.bioconductor.org/packages/funtooNorm
git_branch: devel
git_last_commit: 9901b89
git_last_commit_date: 2022-11-01 11:15:04 -0400 (Tue, 01 Nov 2022)
nebbiolo1Linux (Ubuntu 22.04.1 LTS) / x86_64  ERROR    OK    ERROR  
palomino3Windows Server 2022 Datacenter / x64  ERROR    OK    ERROR    ERROR  
merida1macOS 10.14.6 Mojave / x86_64  ERROR    OK    ERROR    ERROR  

Summary

Package: funtooNorm
Version: 1.23.0
Command: /Library/Frameworks/R.framework/Resources/bin/R CMD INSTALL funtooNorm
StartedAt: 2023-03-28 16:12:53 -0400 (Tue, 28 Mar 2023)
EndedAt: 2023-03-28 16:13:21 -0400 (Tue, 28 Mar 2023)
EllapsedTime: 27.6 seconds
RetCode: 1
Status:   ERROR  

Command output

##############################################################################
##############################################################################
###
### Running command:
###
###   /Library/Frameworks/R.framework/Resources/bin/R CMD INSTALL funtooNorm
###
##############################################################################
##############################################################################


* installing to library ‘/Library/Frameworks/R.framework/Versions/4.3/Resources/library’
* installing *source* package ‘funtooNorm’ ...
** using staged installation
** R
** inst
** byte-compile and prepare package for lazy loading
Error: objects ‘rowSums’, ‘colSums’, ‘rowMeans’, ‘colMeans’ are not exported by 'namespace:BiocGenerics'
Execution halted
ERROR: lazy loading failed for package ‘funtooNorm’
* removing ‘/Library/Frameworks/R.framework/Versions/4.3/Resources/library/funtooNorm’
* restoring previous ‘/Library/Frameworks/R.framework/Versions/4.3/Resources/library/funtooNorm’