Back to Multiple platform build/check report for BioC 3.17:   simplified   long
ABCDEFGHIJKLMNO[P]QRSTUVWXYZ

This page was generated on 2023-03-27 11:06:52 -0400 (Mon, 27 Mar 2023).

HostnameOSArch (*)R versionInstalled pkgs
nebbiolo1Linux (Ubuntu 22.04.1 LTS)x86_64R Under development (unstable) (2023-03-16 r83996) -- "Unsuffered Consequences" 4547
palomino3Windows Server 2022 Datacenterx64R Under development (unstable) (2023-03-15 r83984 ucrt) -- "Unsuffered Consequences" 4308
merida1macOS 10.14.6 Mojavex86_64R Under development (unstable) (2023-03-16 r83985) -- "Unsuffered Consequences" 4300
Click on any hostname to see more info about the system (e.g. compilers)      (*) as reported by 'uname -p', except on Windows and Mac OS X

CHECK results for PhyloProfile on merida1


To the developers/maintainers of the PhyloProfile package:
- Please allow up to 24 hours (and sometimes 48 hours) for your latest push to git@git.bioconductor.org:packages/PhyloProfile.git to
reflect on this report. See How and When does the builder pull? When will my changes propagate? for more information.
- Make sure to use the following settings in order to reproduce any error or warning you see on this page.

raw results

Package 1494/2195HostnameOS / ArchINSTALLBUILDCHECKBUILD BIN
PhyloProfile 1.13.6  (landing page)
Vinh Tran
Snapshot Date: 2023-03-26 14:00:09 -0400 (Sun, 26 Mar 2023)
git_url: https://git.bioconductor.org/packages/PhyloProfile
git_branch: devel
git_last_commit: 775e7db
git_last_commit_date: 2023-02-24 04:15:58 -0400 (Fri, 24 Feb 2023)
nebbiolo1Linux (Ubuntu 22.04.1 LTS) / x86_64  OK    OK    OK  UNNEEDED, same version is already published
palomino3Windows Server 2022 Datacenter / x64  OK    OK    OK    OK  UNNEEDED, same version is already published
merida1macOS 10.14.6 Mojave / x86_64  OK    OK    OK    OK  UNNEEDED, same version is already published

Summary

Package: PhyloProfile
Version: 1.13.6
Command: /Library/Frameworks/R.framework/Resources/bin/R CMD check --install=check:PhyloProfile.install-out.txt --library=/Library/Frameworks/R.framework/Resources/library --no-vignettes --timings PhyloProfile_1.13.6.tar.gz
StartedAt: 2023-03-27 04:54:31 -0400 (Mon, 27 Mar 2023)
EndedAt: 2023-03-27 05:01:22 -0400 (Mon, 27 Mar 2023)
EllapsedTime: 410.9 seconds
RetCode: 0
Status:   OK  
CheckDir: PhyloProfile.Rcheck
Warnings: 0

Command output

##############################################################################
##############################################################################
###
### Running command:
###
###   /Library/Frameworks/R.framework/Resources/bin/R CMD check --install=check:PhyloProfile.install-out.txt --library=/Library/Frameworks/R.framework/Resources/library --no-vignettes --timings PhyloProfile_1.13.6.tar.gz
###
##############################################################################
##############################################################################


* using log directory ‘/Users/biocbuild/bbs-3.17-bioc/meat/PhyloProfile.Rcheck’
* using R Under development (unstable) (2023-03-16 r83985)
* using platform: x86_64-apple-darwin17.0 (64-bit)
* R was compiled by
    Apple clang version 12.0.0 (clang-1200.0.32.29)
    GNU Fortran (GCC) 8.2.0
* running under: macOS Mojave 10.14.6
* using session charset: UTF-8
* using option ‘--no-vignettes’
* checking for file ‘PhyloProfile/DESCRIPTION’ ... OK
* this is package ‘PhyloProfile’ version ‘1.13.6’
* package encoding: UTF-8
* checking package namespace information ... OK
* checking package dependencies ... OK
* checking if this is a source package ... OK
* checking if there is a namespace ... OK
* checking for hidden files and directories ... OK
* checking for portable file names ... OK
* checking for sufficient/correct file permissions ... OK
* checking whether package ‘PhyloProfile’ can be installed ... OK
* checking installed package size ... OK
* checking package directory ... OK
* checking ‘build’ directory ... OK
* checking DESCRIPTION meta-information ... OK
* checking top-level files ... OK
* checking for left-over files ... OK
* checking index information ... OK
* checking package subdirectories ... OK
* checking R files for non-ASCII characters ... OK
* checking R files for syntax errors ... OK
* checking whether the package can be loaded ... OK
* checking whether the package can be loaded with stated dependencies ... OK
* checking whether the package can be unloaded cleanly ... OK
* checking whether the namespace can be loaded with stated dependencies ... OK
* checking whether the namespace can be unloaded cleanly ... OK
* checking dependencies in R code ... OK
* checking S3 generic/method consistency ... OK
* checking replacement functions ... OK
* checking foreign function calls ... OK
* checking R code for possible problems ... OK
* checking Rd files ... OK
* checking Rd metadata ... OK
* checking Rd cross-references ... OK
* checking for missing documentation entries ... OK
* checking for code/documentation mismatches ... OK
* checking Rd \usage sections ... OK
* checking Rd contents ... OK
* checking for unstated dependencies in examples ... OK
* checking contents of ‘data’ directory ... OK
* checking data for non-ASCII characters ... OK
* checking data for ASCII and uncompressed saves ... OK
* checking files in ‘vignettes’ ... OK
* checking examples ... OK
* checking for unstated dependencies in ‘tests’ ... OK
* checking tests ...
  Running ‘testthat.R’
 OK
* checking for unstated dependencies in vignettes ... OK
* checking package vignettes in ‘inst/doc’ ... OK
* checking running R code from vignettes ... SKIPPED
* checking re-building of vignette outputs ... SKIPPED
* checking PDF version of manual ... OK
* DONE

Status: OK


Installation output

PhyloProfile.Rcheck/00install.out

##############################################################################
##############################################################################
###
### Running command:
###
###   /Library/Frameworks/R.framework/Resources/bin/R CMD INSTALL PhyloProfile
###
##############################################################################
##############################################################################


* installing to library ‘/Library/Frameworks/R.framework/Versions/4.3/Resources/library’
* installing *source* package ‘PhyloProfile’ ...
** using staged installation
** R
** data
** inst
** byte-compile and prepare package for lazy loading
** help
*** installing help indices
** building package indices
** installing vignettes
** testing if installed package can be loaded from temporary location
** testing if installed package can be loaded from final location
** testing if installed package keeps a record of temporary installation path
* DONE (PhyloProfile)

Tests output

PhyloProfile.Rcheck/tests/testthat.Rout


R Under development (unstable) (2023-03-16 r83985) -- "Unsuffered Consequences"
Copyright (C) 2023 The R Foundation for Statistical Computing
Platform: x86_64-apple-darwin17.0 (64-bit)

R is free software and comes with ABSOLUTELY NO WARRANTY.
You are welcome to redistribute it under certain conditions.
Type 'license()' or 'licence()' for distribution details.

R is a collaborative project with many contributors.
Type 'contributors()' for more information and
'citation()' on how to cite R or R packages in publications.

Type 'demo()' for some demos, 'help()' for on-line help, or
'help.start()' for an HTML browser interface to help.
Type 'q()' to quit R.

> library(testthat)
> library(PhyloProfile)
> 
> test_check("PhyloProfile")
[ FAIL 0 | WARN 0 | SKIP 0 | PASS 20 ]
> 
> proc.time()
   user  system elapsed 
 13.924   0.673  20.859 

Example timings

PhyloProfile.Rcheck/PhyloProfile-Ex.timings

nameusersystemelapsed
calcPresSpec0.0720.0030.111
checkInputValidity0.0160.0010.020
checkNewick0.0040.0010.005
checkOmaID0.0000.0010.000
clusterDataDend0.0530.0020.076
compareMedianTaxonGroups0.0560.0030.087
compareTaxonGroups0.0730.0040.113
createArchiPlot1.7180.0132.462
createGeneAgePlot0.3980.0380.625
createLongMatrix0.0460.0100.079
createPercentageDistributionData0.1960.0410.339
createProfileFromOma0.0000.0000.001
createRootedTree0.0280.0010.043
createVarDistPlot0.3430.0030.510
createVariableDistributionData0.0120.0030.020
createVariableDistributionDataSubset0.0120.0020.021
dataCustomizedPlot0.0230.0020.034
dataFeatureTaxGroup0.0270.0020.045
dataMainPlot0.0260.0060.050
dataVarDistTaxGroup0.0080.0010.014
estimateGeneAge0.2720.0350.448
fastaParser0.0730.0020.106
featureDistTaxPlot0.4230.0040.620
filterProfileData0.2220.0410.383
fromInputToProfile0.2320.0290.366
geneAgePlotDf0.0080.0000.012
generateSinglePlot1.0230.0441.498
getAllDomainsOma0.0010.0000.001
getAllFastaOma000
getCommonAncestor0.0840.0140.138
getCoreGene0.1820.0260.280
getDataClustering0.0240.0020.034
getDataForOneOma0.0010.0000.000
getDendrogram0.0850.0030.118
getDistanceMatrix0.0240.0010.035
getDomainFolder000
getFastaFromFasInput0.0300.0010.044
getFastaFromFile0.0180.0010.021
getFastaFromFolder0.0140.0030.021
getIDsRank0.0670.0050.105
getInputTaxaID0.0040.0010.008
getInputTaxaName0.0190.0030.031
getNameList0.0360.0200.078
getOmaDataForOneOrtholog000
getOmaDomainFromURL0.0000.0000.001
getOmaMembers000
getQualColForVector0.0000.0000.001
getSelectedFastaOma000
getSelectedTaxonNames0.0310.0050.046
getTaxonomyInfo0.0260.0020.046
getTaxonomyMatrix0.1930.0720.380
getTaxonomyRanks0.0000.0010.000
gridArrangeSharedLegend1.2490.0131.847
heatmapPlotting0.4910.0030.717
highlightProfilePlot0.5770.0370.860
mainTaxonomyRank0.0010.0000.001
pairDomainPlotting0.0000.0010.001
parseDomainInput0.0260.0110.049
parseInfoProfile0.6980.0391.052
processNcbiTaxonomy0.1470.0740.317
qualitativeColours000
rankIndexing0.0000.0010.000
reduceProfile0.0230.0060.041
runPhyloProfile0.1270.0370.222
singleDomainPlotting0.0000.0010.000
sortDomains000
sortInputTaxa0.1270.0200.207
sortTaxaFromTree0.0270.0010.041
taxonomyTableCreator0.2310.0050.328
varDistTaxPlot1.5250.0212.258
wideToLong0.0250.0050.045
xmlParser0.0380.0020.053