Back to Multiple platform build/check report for BioC 3.17:   simplified   long
ABCDEFGHIJKLMNO[P]QRSTUVWXYZ

This page was generated on 2023-03-29 11:05:43 -0400 (Wed, 29 Mar 2023).

HostnameOSArch (*)R versionInstalled pkgs
nebbiolo1Linux (Ubuntu 22.04.1 LTS)x86_64R Under development (unstable) (2023-03-16 r83996) -- "Unsuffered Consequences" 4547
palomino3Windows Server 2022 Datacenterx64R Under development (unstable) (2023-03-15 r83984 ucrt) -- "Unsuffered Consequences" 4308
merida1macOS 10.14.6 Mojavex86_64R Under development (unstable) (2023-03-16 r83985) -- "Unsuffered Consequences" 4301
Click on any hostname to see more info about the system (e.g. compilers)      (*) as reported by 'uname -p', except on Windows and Mac OS X

BUILD BIN results for pkgDepTools on palomino3


To the developers/maintainers of the pkgDepTools package:
- Please allow up to 24 hours (and sometimes 48 hours) for your latest push to git@git.bioconductor.org:packages/pkgDepTools.git to
reflect on this report. See How and When does the builder pull? When will my changes propagate? for more information.
- Make sure to use the following settings in order to reproduce any error or warning you see on this page.

raw results

Package 1504/2195HostnameOS / ArchINSTALLBUILDCHECKBUILD BIN
pkgDepTools 1.65.1  (landing page)
Bioconductor Package Maintainer
Snapshot Date: 2023-03-28 14:00:22 -0400 (Tue, 28 Mar 2023)
git_url: https://git.bioconductor.org/packages/pkgDepTools
git_branch: devel
git_last_commit: fea3b6d
git_last_commit_date: 2023-01-06 13:06:59 -0400 (Fri, 06 Jan 2023)
nebbiolo1Linux (Ubuntu 22.04.1 LTS) / x86_64  OK    OK    TIMEOUT  
palomino3Windows Server 2022 Datacenter / x64  OK    OK    WARNINGS    OK  UNNEEDED, same version is already published
merida1macOS 10.14.6 Mojave / x86_64  OK    TIMEOUT  skippedskipped

Summary

Package: pkgDepTools
Version: 1.65.1
Command: rm -rf pkgDepTools.buildbin-libdir && mkdir pkgDepTools.buildbin-libdir && F:\biocbuild\bbs-3.17-bioc\R\bin\R.exe CMD INSTALL --build --library=pkgDepTools.buildbin-libdir pkgDepTools_1.65.1.tar.gz
StartedAt: 2023-03-29 07:18:47 -0400 (Wed, 29 Mar 2023)
EndedAt: 2023-03-29 07:18:53 -0400 (Wed, 29 Mar 2023)
EllapsedTime: 5.9 seconds
RetCode: 0
Status:   OK  
PackageFile: pkgDepTools_1.65.1.zip
PackageFileSize: 154 KiB

Command output

##############################################################################
##############################################################################
###
### Running command:
###
###   rm -rf pkgDepTools.buildbin-libdir && mkdir pkgDepTools.buildbin-libdir && F:\biocbuild\bbs-3.17-bioc\R\bin\R.exe CMD INSTALL --build --library=pkgDepTools.buildbin-libdir pkgDepTools_1.65.1.tar.gz
###
##############################################################################
##############################################################################


* installing *source* package 'pkgDepTools' ...
** using staged installation
** R
** inst
** byte-compile and prepare package for lazy loading
** help
*** installing help indices
** building package indices
** installing vignettes
** testing if installed package can be loaded from temporary location
Warning: Package 'pkgDepTools' is deprecated and will be removed from
  Bioconductor version 3.18
** testing if installed package can be loaded from final location
Warning: Package 'pkgDepTools' is deprecated and will be removed from
  Bioconductor version 3.18
** testing if installed package keeps a record of temporary installation path
* MD5 sums
packaged installation of 'pkgDepTools' as pkgDepTools_1.65.1.zip
* DONE (pkgDepTools)