Back to Multiple platform build/check report for BioC 3.17:   simplified   long
ABCDEF[G]HIJKLMNOPQRSTUVWXYZ

This page was generated on 2023-03-28 11:05:59 -0400 (Tue, 28 Mar 2023).

HostnameOSArch (*)R versionInstalled pkgs
nebbiolo1Linux (Ubuntu 22.04.1 LTS)x86_64R Under development (unstable) (2023-03-16 r83996) -- "Unsuffered Consequences" 4547
palomino3Windows Server 2022 Datacenterx64R Under development (unstable) (2023-03-15 r83984 ucrt) -- "Unsuffered Consequences" 4308
merida1macOS 10.14.6 Mojavex86_64R Under development (unstable) (2023-03-16 r83985) -- "Unsuffered Consequences" 4301
Click on any hostname to see more info about the system (e.g. compilers)      (*) as reported by 'uname -p', except on Windows and Mac OS X

BUILD BIN results for GenomAutomorphism on palomino3


To the developers/maintainers of the GenomAutomorphism package:
- Please allow up to 24 hours (and sometimes 48 hours) for your latest push to git@git.bioconductor.org:packages/GenomAutomorphism.git to
reflect on this report. See How and When does the builder pull? When will my changes propagate? for more information.
- Make sure to use the following settings in order to reproduce any error or warning you see on this page.

raw results

Package 785/2195HostnameOS / ArchINSTALLBUILDCHECKBUILD BIN
GenomAutomorphism 1.1.3  (landing page)
Robersy Sanchez
Snapshot Date: 2023-03-27 14:00:21 -0400 (Mon, 27 Mar 2023)
git_url: https://git.bioconductor.org/packages/GenomAutomorphism
git_branch: devel
git_last_commit: 804b5e3
git_last_commit_date: 2023-02-24 16:05:10 -0400 (Fri, 24 Feb 2023)
nebbiolo1Linux (Ubuntu 22.04.1 LTS) / x86_64  OK    OK    OK  UNNEEDED, same version is already published
palomino3Windows Server 2022 Datacenter / x64  OK    OK    OK    OK  UNNEEDED, same version is already published
merida1macOS 10.14.6 Mojave / x86_64  OK    OK    OK    OK  UNNEEDED, same version is already published

Summary

Package: GenomAutomorphism
Version: 1.1.3
Command: rm -rf GenomAutomorphism.buildbin-libdir && mkdir GenomAutomorphism.buildbin-libdir && F:\biocbuild\bbs-3.17-bioc\R\bin\R.exe CMD INSTALL --build --library=GenomAutomorphism.buildbin-libdir GenomAutomorphism_1.1.3.tar.gz
StartedAt: 2023-03-28 08:36:57 -0400 (Tue, 28 Mar 2023)
EndedAt: 2023-03-28 08:37:50 -0400 (Tue, 28 Mar 2023)
EllapsedTime: 53.0 seconds
RetCode: 0
Status:   OK  
PackageFile: GenomAutomorphism_1.1.3.zip
PackageFileSize: 1.54 MiB

Command output

##############################################################################
##############################################################################
###
### Running command:
###
###   rm -rf GenomAutomorphism.buildbin-libdir && mkdir GenomAutomorphism.buildbin-libdir && F:\biocbuild\bbs-3.17-bioc\R\bin\R.exe CMD INSTALL --build --library=GenomAutomorphism.buildbin-libdir GenomAutomorphism_1.1.3.tar.gz
###
##############################################################################
##############################################################################


* installing *source* package 'GenomAutomorphism' ...
** using staged installation
** R
** data
** inst
** byte-compile and prepare package for lazy loading
Creating a new generic function for 'mod' in package 'GenomAutomorphism'
** help
*** installing help indices
*** copying figures
** building package indices
** installing vignettes
** testing if installed package can be loaded from temporary location
** testing if installed package can be loaded from final location
** testing if installed package keeps a record of temporary installation path
* MD5 sums
packaged installation of 'GenomAutomorphism' as GenomAutomorphism_1.1.3.zip
* DONE (GenomAutomorphism)