Back to Multiple platform build/check report for BioC 3.17: simplified long |
|
This page was generated on 2023-03-28 11:05:09 -0400 (Tue, 28 Mar 2023).
Hostname | OS | Arch (*) | R version | Installed pkgs |
---|---|---|---|---|
nebbiolo1 | Linux (Ubuntu 22.04.1 LTS) | x86_64 | R Under development (unstable) (2023-03-16 r83996) -- "Unsuffered Consequences" | 4547 |
palomino3 | Windows Server 2022 Datacenter | x64 | R Under development (unstable) (2023-03-15 r83984 ucrt) -- "Unsuffered Consequences" | 4308 |
merida1 | macOS 10.14.6 Mojave | x86_64 | R Under development (unstable) (2023-03-16 r83985) -- "Unsuffered Consequences" | 4301 |
Click on any hostname to see more info about the system (e.g. compilers) (*) as reported by 'uname -p', except on Windows and Mac OS X |
To the developers/maintainers of the CODEX package: - Please allow up to 24 hours (and sometimes 48 hours) for your latest push to git@git.bioconductor.org:packages/CODEX.git to reflect on this report. See How and When does the builder pull? When will my changes propagate? for more information. - Make sure to use the following settings in order to reproduce any error or warning you see on this page. |
Package 389/2195 | Hostname | OS / Arch | INSTALL | BUILD | CHECK | BUILD BIN | ||||||||
CODEX 1.31.0 (landing page) Yuchao Jiang
| nebbiolo1 | Linux (Ubuntu 22.04.1 LTS) / x86_64 | OK | OK | OK | ![]() | ||||||||
palomino3 | Windows Server 2022 Datacenter / x64 | OK | OK | OK | OK | ![]() | ||||||||
merida1 | macOS 10.14.6 Mojave / x86_64 | OK | OK | OK | OK | ![]() | ||||||||
Package: CODEX |
Version: 1.31.0 |
Command: /home/biocbuild/bbs-3.17-bioc/R/bin/R CMD check --install=check:CODEX.install-out.txt --library=/home/biocbuild/bbs-3.17-bioc/R/site-library --timings CODEX_1.31.0.tar.gz |
StartedAt: 2023-03-27 19:34:39 -0400 (Mon, 27 Mar 2023) |
EndedAt: 2023-03-27 19:41:39 -0400 (Mon, 27 Mar 2023) |
EllapsedTime: 419.1 seconds |
RetCode: 0 |
Status: OK |
CheckDir: CODEX.Rcheck |
Warnings: 0 |
############################################################################## ############################################################################## ### ### Running command: ### ### /home/biocbuild/bbs-3.17-bioc/R/bin/R CMD check --install=check:CODEX.install-out.txt --library=/home/biocbuild/bbs-3.17-bioc/R/site-library --timings CODEX_1.31.0.tar.gz ### ############################################################################## ############################################################################## * using log directory ‘/home/biocbuild/bbs-3.17-bioc/meat/CODEX.Rcheck’ * using R Under development (unstable) (2023-03-16 r83996) * using platform: x86_64-pc-linux-gnu (64-bit) * R was compiled by gcc (Ubuntu 11.3.0-1ubuntu1~22.04) 11.3.0 GNU Fortran (Ubuntu 11.3.0-1ubuntu1~22.04) 11.3.0 * running under: Ubuntu 22.04.2 LTS * using session charset: UTF-8 * checking for file ‘CODEX/DESCRIPTION’ ... OK * checking extension type ... Package * this is package ‘CODEX’ version ‘1.31.0’ * checking package namespace information ... OK * checking package dependencies ... NOTE Depends: includes the non-default packages: 'Rsamtools', 'GenomeInfoDb', 'BSgenome.Hsapiens.UCSC.hg19', 'IRanges', 'Biostrings', 'S4Vectors' Adding so many packages to the search path is excessive and importing selectively is preferable. * checking if this is a source package ... OK * checking if there is a namespace ... OK * checking for hidden files and directories ... OK * checking for portable file names ... OK * checking for sufficient/correct file permissions ... OK * checking whether package ‘CODEX’ can be installed ... OK * checking installed package size ... OK * checking package directory ... OK * checking ‘build’ directory ... OK * checking DESCRIPTION meta-information ... OK * checking top-level files ... OK * checking for left-over files ... OK * checking index information ... OK * checking package subdirectories ... OK * checking R files for non-ASCII characters ... OK * checking R files for syntax errors ... OK * checking whether the package can be loaded ... OK * checking whether the package can be loaded with stated dependencies ... OK * checking whether the package can be unloaded cleanly ... OK * checking whether the namespace can be loaded with stated dependencies ... OK * checking whether the namespace can be unloaded cleanly ... OK * checking loading without being on the library search path ... OK * checking dependencies in R code ... OK * checking S3 generic/method consistency ... OK * checking replacement functions ... OK * checking foreign function calls ... OK * checking R code for possible problems ... NOTE choiceofK: no visible global function definition for ‘pdf’ choiceofK: no visible global function definition for ‘par’ choiceofK: no visible global function definition for ‘dev.off’ getbambed: no visible global function definition for ‘read.table’ normalize : <anonymous>: no visible global function definition for ‘smooth.spline’ normalize : <anonymous>: no visible global function definition for ‘predict’ normalize: no visible global function definition for ‘glm’ normalize: no visible binding for global variable ‘poisson’ normalize: no visible global function definition for ‘lm’ normalize2 : <anonymous>: no visible global function definition for ‘smooth.spline’ normalize2 : <anonymous>: no visible global function definition for ‘predict’ normalize2: no visible global function definition for ‘glm’ normalize2: no visible binding for global variable ‘poisson’ normalize2: no visible global function definition for ‘lm’ Undefined global functions or variables: dev.off glm lm par pdf poisson predict read.table smooth.spline Consider adding importFrom("grDevices", "dev.off", "pdf") importFrom("graphics", "par") importFrom("stats", "glm", "lm", "poisson", "predict", "smooth.spline") importFrom("utils", "read.table") to your NAMESPACE file. * checking Rd files ... OK * checking Rd metadata ... OK * checking Rd cross-references ... OK * checking for missing documentation entries ... OK * checking for code/documentation mismatches ... OK * checking Rd \usage sections ... OK * checking Rd contents ... OK * checking for unstated dependencies in examples ... OK * checking contents of ‘data’ directory ... OK * checking data for non-ASCII characters ... OK * checking LazyData ... OK * checking data for ASCII and uncompressed saves ... OK * checking files in ‘vignettes’ ... OK * checking examples ... OK Examples with CPU (user + system) or elapsed time > 5s user system elapsed normalize 19.011 0.219 19.408 normalize2 14.206 0.159 14.367 getcoverage 9.207 0.495 9.786 * checking for unstated dependencies in vignettes ... OK * checking package vignettes in ‘inst/doc’ ... OK * checking running R code from vignettes ... ‘CODEX_vignettes.Rnw’ using ‘UTF-8’... OK OK * checking re-building of vignette outputs ... OK * checking PDF version of manual ... OK * DONE Status: 2 NOTEs See ‘/home/biocbuild/bbs-3.17-bioc/meat/CODEX.Rcheck/00check.log’ for details.
CODEX.Rcheck/00install.out
############################################################################## ############################################################################## ### ### Running command: ### ### /home/biocbuild/bbs-3.17-bioc/R/bin/R CMD INSTALL CODEX ### ############################################################################## ############################################################################## * installing to library ‘/home/biocbuild/bbs-3.17-bioc/R/site-library’ * installing *source* package ‘CODEX’ ... ** using staged installation ** R ** data *** moving datasets to lazyload DB ** byte-compile and prepare package for lazy loading ** help *** installing help indices ** building package indices ** installing vignettes ** testing if installed package can be loaded from temporary location ** testing if installed package can be loaded from final location ** testing if installed package keeps a record of temporary installation path * DONE (CODEX)
CODEX.Rcheck/CODEX-Ex.timings
name | user | system | elapsed | |
bambedObjDemo | 0.001 | 0.001 | 0.002 | |
choiceofK | 0.008 | 0.011 | 0.020 | |
coverageObjDemo | 0 | 0 | 0 | |
gcDemo | 0.001 | 0.000 | 0.001 | |
getbambed | 0.020 | 0.000 | 0.021 | |
getcoverage | 9.207 | 0.495 | 9.786 | |
getgc | 1.091 | 0.072 | 1.163 | |
getmapp | 0.035 | 0.000 | 0.035 | |
mappDemo | 0 | 0 | 0 | |
mapp_ref | 0.012 | 0.000 | 0.012 | |
mappability | 0.001 | 0.000 | 0.001 | |
normObjDemo | 0.001 | 0.000 | 0.000 | |
normalize | 19.011 | 0.219 | 19.408 | |
normalize2 | 14.206 | 0.159 | 14.367 | |
qc | 0.029 | 0.001 | 0.030 | |
qcObjDemo | 0.001 | 0.000 | 0.000 | |
segment | 0.145 | 0.016 | 0.161 | |